BEGIN:VCALENDAR
VERSION:2.0
PRODID:-//My Calendar//mxm.dk//
BEGIN:VEVENT
SUMMARY:LA TRAVIATA EN BOLIVAR
DTSTART:20260502T223000Z
DTEND:20260503T030000Z
DTSTAMP:20260424T124245Z
DESCRIPTION:<div style="text-align: center\;"><b><font color="#000000" fac
 e="Arial" style=""><span style="font-size: 36px\; white-space-collapse: pr
 eserve\;"><u style="">LA TRAVIATA EN BOLIVAR</u></span></font><span style=
 "font-size: 36px\;">&nbsp\;</span></b></div><div style="text-align: center
 \;"><u style="font-size: 24px\; white-space-collapse: preserve\; color: rg
 b(0\, 0\, 0)\; font-family: Arial\;"><b>EN BOLIVAR\n\n</b></u></div><div s
 tyle="text-align: center\;"><font face="Arial"><font color="#000000" style
 ="font-family: &quot\;Times New Roman&quot\;\; font-size: 15.3333px\; whit
 e-space-collapse: preserve\;"><div><span style="font-size: 18px\;">La comp
 añía platense Lírica en Diagonal\, presenta su nueva producción\, La T
 raviata\, ópera dramática de Giuseppe Verdi\, con un gran elenco en Bol
 ívar de más de 40 personas entre cantantes solistas\, orquesta y coro. U
 na producción completa subtitulada al español.</span></div><div><span st
 yle="font-size: 18px\;">La ópera trata sobre la vida de la cortesana pari
 sina Violetta\, quien descubre el amor de Alfredo en uno de los bacanales 
 que celebra en su casa. Convencida que la vida junto a él le depara un fu
 turo brillante\, deja toda su vida sin saber que la terrible enfermedad qu
 e la aqueja debido a una vida de excesos y precariedad le tiene deparado o
 tro destino.&nbsp\;&nbsp\;</span></div><div><span style="font-size: 18px\;
 ">La Traviata\, una de las cinco óperas más representadas en el mundo es
  la séptima producción de la compañía\, que se ha presentado en múlti
 ples escenarios de Ciudad y Provincia de Buenos Aires.</span></div><div><b
 r></div><span style="font-size: 18px\;">\n<u>Entradas Anticipadas en efect
 ivo:</u>\n\n</span></font></font></div><div style="text-align: center\;"><
 p dir="ltr" style="margin: 0pt 0px\; font-family: Abel\, sans-serif\; colo
 r: rgb(51\, 51\, 51)\; font-size: 14px\; line-height: 1.656\;"><span style
 ="font-size: 11.5pt\; font-family: Arial\; color: rgb(32\, 31\, 30)\; font
 -variant-numeric: normal\; font-variant-east-asian: normal\; vertical-alig
 n: baseline\;"></span></p><p dir="ltr" style="margin: 0pt 0px\; line-heigh
 t: 1.656\;"><span style="color: rgb(32\, 31\, 30)\; font-family: Arial\; f
 ont-size: 11.5pt\; caret-color: rgb(51\, 51\, 51)\; font-variant-numeric: 
 normal\; font-variant-east-asian: normal\; vertical-align: baseline\;"><sp
 an style="font-weight: bolder\;">PC Cell:&nbsp\;</span></span><font color=
 "#201f1e" face="Arial"><span style="font-size: 15.3333px\; caret-color: rg
 b(51\, 51\, 51)\;">Calle Olavarría Nro112<span style="font-weight: bolder
 \;">&nbsp\;</span></span></font><span style="color: rgb(32\, 31\, 30)\; fo
 nt-family: Arial\; font-size: 11.5pt\; caret-color: rgb(51\, 51\, 51)\;">&
 nbsp\;-&nbsp\;</span><span style="font-weight: bolder\; color: rgb(32\, 31
 \, 30)\; font-family: Arial\; font-size: 11.5pt\; caret-color: rgb(51\, 51
 \, 51)\;">Bolivar</span></p><div><span style="font-weight: bolder\; color:
  rgb(32\, 31\, 30)\; font-family: Arial\; font-size: 11.5pt\; caret-color:
  rgb(51\, 51\, 51)\;"><br></span></div><div style="font-family: Arial\, He
 lvetica\, sans-serif\; color: rgb(33\, 33\, 33)\; font-size: small\;"><a h
 ref="http://www.articket.com.ar/" style="color: rgb(51\, 122\, 183)\; font
 -family: Abel\, sans-serif\; font-size: 14px\;"><span style="font-size: 11
 .5pt\; font-family: Arial\; color: rgb(17\, 85\, 204)\; font-variant-numer
 ic: normal\; font-variant-east-asian: normal\; text-decoration-line: under
 line\; text-decoration-skip-ink: none\; vertical-align: baseline\; white-s
 pace-collapse: preserve\;">www.articket.com.ar</span></a></div><div style=
 "font-family: Arial\, Helvetica\, sans-serif\; color: rgb(33\, 33\, 33)\; 
 font-size: small\;"><br></div><div><br style="color: rgb(51\, 51\, 51)\; f
 ont-size: 14px\;"><p dir="ltr" style="margin: 0pt 0px\; font-family: Abel\
 , sans-serif\; color: rgb(51\, 51\, 51)\; font-size: 14px\; line-height: 1
 .38\;"><span style="font-variant-numeric: normal\; font-variant-east-asian
 : normal\; vertical-align: baseline\;"><font color="#222222" face="Arial">
 <span style="font-size: 11pt\; white-space-collapse: preserve\;"><span sty
 le="font-weight: bolder\;">EVENTO  APTO TODO PUBLICO</span></span></font><
 /span></p><p dir="ltr" style="margin: 0pt 0px\; font-family: Abel\, sans-s
 erif\; color: rgb(51\, 51\, 51)\; font-size: 14px\; line-height: 1.38\;"><
 span style="font-variant-numeric: normal\; font-variant-east-asian: normal
 \; vertical-align: baseline\;"><font color="#222222" face="Arial"><span st
 yle="font-size: 11pt\; white-space-collapse: preserve\;"><span style="font
 -weight: bolder\;"><br></span></span></font></span></p><p dir="ltr" style=
 "margin: 0pt 0px\; font-family: Abel\, sans-serif\; color: rgb(51\, 51\, 5
 1)\; font-size: 14px\; line-height: 1.38\;"><span style="font-variant-nume
 ric: normal\; font-variant-east-asian: normal\; vertical-align: baseline\;
 "><span style="color: rgb(156\, 156\, 148)\; font-size: 12px\;">PROMO BANC
 O PROVINCIA CONDICIONES:&nbsp\;</span><a href="https://tr.ee/89uSGj" targe
 t="_blank" style="background-color: rgb(255\, 255\, 255)\; font-size: 12px
 \;">https://tr.ee/89uSGj</a></span></p></div></div>
END:VEVENT
END:VCALENDAR
