BEGIN:VCALENDAR
VERSION:2.0
PRODID:-//My Calendar//mxm.dk//
BEGIN:VEVENT
SUMMARY:LA TRAVIATA EN OLAVARRIA
DTSTART:20260503T210000Z
DTEND:20260503T230000Z
DTSTAMP:20260424T124756Z
DESCRIPTION:<p dir="ltr" style="text-align: center\; margin: 0pt 0px\; -we
 bkit-tap-highlight-color: rgba(0\, 0\, 0\, 0)\; text-size-adjust: 100%\; l
 ine-height: 1.656\;"><font color="#201f1e" face="Arial"><span style="font-
 size: 18px\; caret-color: rgb(51\, 51\, 51)\;"><b><u>LA TRAVIATA</u></b></
 span></font></p><p dir="ltr" style="text-align: center\; margin: 0pt 0px\;
  -webkit-tap-highlight-color: rgba(0\, 0\, 0\, 0)\; text-size-adjust: 100%
 \; line-height: 1.656\;"><font color="#201f1e" face="Arial"><u style=""><s
 pan style="font-size: 18px\; caret-color: rgb(51\, 51\, 51)\;"><b>OPERA DR
 AMÁTICA DE DE GIUSEPPE VERDI</b></span></u></font></p><p dir="ltr" style=
 "margin: 0pt 0px\; text-align: center\; -webkit-tap-highlight-color: rgba(
 0\, 0\, 0\, 0)\; text-size-adjust: 100%\; line-height: 1.656\;"><font colo
 r="#201f1e" face="Arial"><u><font face="Abel\, sans-serif"><span style="fo
 nt-size: 15.3333px\; font-weight: bolder\; caret-color: rgb(51\, 51\, 51)\
 ;">EN OLAVARRIA</span></font></u></font></p><p dir="ltr" style="margin: 0p
 t 0px\; font-family: Abel\, sans-serif\; text-align: center\; color: rgb(5
 1\, 51\, 51)\; font-size: 14px\; caret-color: rgb(51\, 51\, 51)\; -webkit-
 tap-highlight-color: rgba(0\, 0\, 0\, 0)\; text-size-adjust: 100%\; line-h
 eight: 1.656\;"><span style="font-size: 11.5pt\; font-family: Arial\; colo
 r: rgb(32\, 31\, 30)\; font-variant-numeric: normal\; font-variant-east-as
 ian: normal\; vertical-align: baseline\;"><br></span></p><p dir="ltr" styl
 e="margin: 0pt 0px\; font-family: Abel\, sans-serif\; text-align: center\;
  color: rgb(51\, 51\, 51)\; font-size: 14px\; caret-color: rgb(51\, 51\, 5
 1)\; -webkit-tap-highlight-color: rgba(0\, 0\, 0\, 0)\; text-size-adjust: 
 100%\; line-height: 1.656\;"><span style="font-size: 11.5pt\; font-family:
  Arial\; color: rgb(32\, 31\, 30)\; font-variant-numeric: normal\; font-va
 riant-east-asian: normal\; vertical-align: baseline\;">Entradas anticipada
 s:<br><br></span></p><p dir="ltr" style="margin: 0pt 0px\; font-family: Ab
 el\, sans-serif\; text-align: center\; color: rgb(51\, 51\, 51)\; font-siz
 e: 14px\; caret-color: rgb(51\, 51\, 51)\; -webkit-tap-highlight-color: rg
 ba(0\, 0\, 0\, 0)\; text-size-adjust: 100%\; line-height: 1.656\;"><u styl
 e="color: rgb(34\, 34\, 34)\; font-family: Arial\; font-size: 14.6667px\;"
 >POR SISTEMA:<br></u><span style="font-weight: 700\; color: rgb(34\, 34\, 
 34)\; font-family: Arial\; font-size: 11pt\;">(Todos los medios de pago)</
 span></p><p dir="ltr" style="margin: 0pt 0px\; font-family: Abel\, sans-se
 rif\; text-align: center\; color: rgb(51\, 51\, 51)\; font-size: 14px\; ca
 ret-color: rgb(51\, 51\, 51)\; -webkit-tap-highlight-color: rgba(0\, 0\, 0
 \, 0)\; text-size-adjust: 100%\; line-height: 1.656\;"><span style="font-w
 eight: 700\; color: rgb(34\, 34\, 34)\; font-family: Arial\; font-size: 11
 pt\;"><br></span></p><p dir="ltr" style="margin: 0pt 0px\; font-family: Ab
 el\, sans-serif\; text-align: center\; color: rgb(51\, 51\, 51)\; font-siz
 e: 14px\; caret-color: rgb(51\, 51\, 51)\; -webkit-tap-highlight-color: rg
 ba(0\, 0\, 0\, 0)\; text-size-adjust: 100%\; line-height: 1.656\;"><font c
 olor="#222222" face="Arial"><span style="font-size: 14.6667px\;"><u>Efecti
 vo en:</u></span></font></p><p dir="ltr" style="margin: 0pt 0px\; font-fam
 ily: Abel\, sans-serif\; text-align: center\; color: rgb(51\, 51\, 51)\; f
 ont-size: 14px\; caret-color: rgb(51\, 51\, 51)\; -webkit-tap-highlight-co
 lor: rgba(0\, 0\, 0\, 0)\; text-size-adjust: 100%\; line-height: 1.656\;">
 <span style="font-size: 11.5pt\; font-family: Arial\; color: rgb(32\, 31\,
  30)\; font-weight: 700\; font-variant-numeric: normal\; font-variant-east
 -asian: normal\; vertical-align: baseline\;">TecnoCentro:</span><span styl
 e="font-size: 11.5pt\; font-family: Arial\; color: rgb(32\, 31\, 30)\; fon
 t-variant-numeric: normal\; font-variant-east-asian: normal\; vertical-ali
 gn: baseline\;">&nbsp\;Rivadavia 3065 -&nbsp\;<span style="font-weight: 70
 0\;">Olavarria</span></span></p><div style="text-align: center\; -webkit-t
 ap-highlight-color: rgba(0\, 0\, 0\, 0)\; text-size-adjust: 100%\; font-fa
 mily: Arial\, Helvetica\, sans-serif\; font-size: small\; color: rgb(33\, 
 33\, 33)\;"><i><br></i></div><p dir="ltr" style="margin: 0pt 0px\; font-fa
 mily: Abel\, sans-serif\; text-align: center\; color: rgb(51\, 51\, 51)\; 
 font-size: 14px\; caret-color: rgb(51\, 51\, 51)\; -webkit-tap-highlight-c
 olor: rgba(0\, 0\, 0\, 0)\; text-size-adjust: 100%\; line-height: 1.656\;"
 ><span style="font-size: 11pt\; font-family: Arial\; color: rgb(34\, 34\, 
 34)\; font-variant-numeric: normal\; font-variant-east-asian: normal\; ver
 tical-align: baseline\;"><span style="font-weight: 700\;"><u>Entradas de D
 iscapacidad</u></span></span></p><p dir="ltr" style="margin: 0pt 0px\; fon
 t-family: Abel\, sans-serif\; text-align: center\; color: rgb(51\, 51\, 51
 )\; font-size: 14px\; caret-color: rgb(51\, 51\, 51)\; -webkit-tap-highlig
 ht-color: rgba(0\, 0\, 0\, 0)\; text-size-adjust: 100%\; line-height: 1.65
 6\;"><span style="font-size: 11pt\; font-family: Arial\; color: rgb(34\, 3
 4\, 34)\; font-variant-numeric: normal\; font-variant-east-asian: normal\;
  vertical-align: baseline\;"></span></p><p dir="ltr" style="margin: 0pt 0p
 x\; font-family: Abel\, sans-serif\; text-align: center\; color: rgb(51\, 
 51\, 51)\; font-size: 14px\; line-height: 1.656\;"><span style="font-size:
  11pt\; font-family: Arial\; color: rgb(34\, 34\, 34)\; font-variant-numer
 ic: normal\; font-variant-east-asian: normal\; vertical-align: baseline\;"
 >Para solicitar entradas de discapacidad por favor&nbsp\;dirigirse a la&nb
 sp\;<span style="font-weight: bolder\;">Boletería del Teatro</span>&nbsp\
 ;de&nbsp\;<span style="font-weight: bolder\;">Lunes a viernes de 8:30 a 16
 hs.</span></span></p><p style="margin: 0pt 0px\; text-align: center\; colo
 r: rgb(34\, 34\, 34)\; font-family: Arial\, Helvetica\, sans-serif\; font-
 size: small\; line-height: 1.656\;"><font face="Arial" color="#ffffff"><sp
 an style="font-size: 14.6667px\; background-color: rgb(103\, 78\, 167)\;">
 <span style="font-weight: bolder\;">Las entradas se podrán&nbsp\;solicita
 r a partir del 1er día hábil del mes corriente del evento.</span></span>
 </font></p><p dir="ltr" style="margin: 0pt 0px\; font-family: Abel\, sans-
 serif\; text-align: center\; color: rgb(51\, 51\, 51)\; font-size: 14px\; 
 caret-color: rgb(51\, 51\, 51)\; -webkit-tap-highlight-color: rgba(0\, 0\,
  0\, 0)\; text-size-adjust: 100%\; line-height: 1.656\;"><span style="font
 -size: 11pt\; font-family: Arial\; color: rgb(34\, 34\, 34)\; font-variant
 -numeric: normal\; font-variant-east-asian: normal\; vertical-align: basel
 ine\;"><br></span></p><p dir="ltr" style="margin: 0pt 0px\; font-family: A
 bel\, sans-serif\; text-align: center\; color: rgb(51\, 51\, 51)\; font-si
 ze: 14px\; caret-color: rgb(51\, 51\, 51)\; -webkit-tap-highlight-color: r
 gba(0\, 0\, 0\, 0)\; text-size-adjust: 100%\; line-height: 1.38\;"><a href
 ="http://www.articket.com.ar/" style="color: rgb(51\, 122\, 183)\;"><span 
 style="font-size: 11.5pt\; font-family: Arial\; color: rgb(17\, 85\, 204)\
 ; font-variant-numeric: normal\; font-variant-east-asian: normal\; text-de
 coration-line: underline\; text-decoration-skip-ink: none\; vertical-align
 : baseline\;">www.articket.com.ar</span></a></p><p style="font-family: Abe
 l\, sans-serif\; text-align: center\;"><br style="color: rgb(51\, 51\, 51)
 \; font-size: 14px\; caret-color: rgb(51\, 51\, 51)\; -webkit-tap-highligh
 t-color: rgba(0\, 0\, 0\, 0)\; text-size-adjust: 100%\;"></p><p dir="ltr" 
 style="margin: 0pt 0px\; font-family: Abel\, sans-serif\; text-align: cent
 er\; color: rgb(51\, 51\, 51)\; font-size: 14px\; caret-color: rgb(51\, 51
 \, 51)\; -webkit-tap-highlight-color: rgba(0\, 0\, 0\, 0)\; text-size-adju
 st: 100%\; line-height: 1.38\;"><span style="font-size: 11pt\; font-family
 : Arial\; color: rgb(34\, 34\, 34)\; font-weight: 700\; font-variant-numer
 ic: normal\; font-variant-east-asian: normal\; vertical-align: baseline\;"
 >APTO TODO PUBLICO</span></p><p dir="ltr" style="margin: 0pt 0px\; font-fa
 mily: Abel\, sans-serif\; text-align: center\; color: rgb(51\, 51\, 51)\; 
 font-size: 14px\; caret-color: rgb(51\, 51\, 51)\; -webkit-tap-highlight-c
 olor: rgba(0\, 0\, 0\, 0)\; text-size-adjust: 100%\; line-height: 1.38\;">
 <span style="font-size: 11pt\; font-family: Arial\; color: rgb(34\, 34\, 3
 4)\; font-weight: 700\; font-variant-numeric: normal\; font-variant-east-a
 sian: normal\; vertical-align: baseline\;"><br></span></p><p dir="ltr" sty
 le="margin: 0pt 0px\; font-family: Abel\, sans-serif\; text-align: center\
 ; color: rgb(51\, 51\, 51)\; font-size: 14px\; caret-color: rgb(51\, 51\, 
 51)\; -webkit-tap-highlight-color: rgba(0\, 0\, 0\, 0)\; text-size-adjust:
  100%\; line-height: 1.38\;"><span style="font-size: 11pt\; font-family: A
 rial\; color: rgb(34\, 34\, 34)\; font-weight: 700\; font-variant-numeric:
  normal\; font-variant-east-asian: normal\; vertical-align: baseline\;">--
 -</span></p><p dir="ltr" style="margin: 0pt 0px\; font-family: Abel\, sans
 -serif\; text-align: center\; color: rgb(51\, 51\, 51)\; font-size: 14px\;
  caret-color: rgb(51\, 51\, 51)\; -webkit-tap-highlight-color: rgba(0\, 0\
 , 0\, 0)\; text-size-adjust: 100%\; line-height: 1.38\;"><span style="font
 -size: 11pt\; font-family: Arial\; color: rgb(34\, 34\, 34)\; font-weight:
  700\; font-variant-numeric: normal\; font-variant-east-asian: normal\; ve
 rtical-align: baseline\;"><br></span></p><p dir="ltr" style="margin: 0pt 0
 px\; text-align: center\; -webkit-tap-highlight-color: rgba(0\, 0\, 0\, 0)
 \; text-size-adjust: 100%\; line-height: 1.38\;">La compañía platense L
 írica en Diagonal\, presenta su nueva producción\, La Traviata\,</p><p d
 ir="ltr" style="margin: 0pt 0px\; text-align: center\; -webkit-tap-highlig
 ht-color: rgba(0\, 0\, 0\, 0)\; text-size-adjust: 100%\; line-height: 1.38
 \;">ópera dramática de Giuseppe Verdi\, con un gran elenco de más de 40
  personas entre</p><p dir="ltr" style="margin: 0pt 0px\; text-align: cente
 r\; -webkit-tap-highlight-color: rgba(0\, 0\, 0\, 0)\; text-size-adjust: 1
 00%\; line-height: 1.38\;">cantantes solistas\, orquesta y coro. El evento
  se realizará el domingo 3 de Mayo a las</p><p dir="ltr" style="margin: 0
 pt 0px\; text-align: center\; -webkit-tap-highlight-color: rgba(0\, 0\, 0\
 , 0)\; text-size-adjust: 100%\; line-height: 1.38\;">18 horas\, en el Teat
 ro Municipal de Olavarría.</p><p dir="ltr" style="margin: 0pt 0px\; text-
 align: center\; -webkit-tap-highlight-color: rgba(0\, 0\, 0\, 0)\; text-si
 ze-adjust: 100%\; line-height: 1.38\;">La ópera\, trata sobre la vida de 
 la cortesana parisina Violetta\, quien descubre el amor</p><p dir="ltr" st
 yle="margin: 0pt 0px\; text-align: center\; -webkit-tap-highlight-color: r
 gba(0\, 0\, 0\, 0)\; text-size-adjust: 100%\; line-height: 1.38\;">de Alfr
 edo en uno de los bacanales que celebra en su casa. Convencida que la vida
 </p><p dir="ltr" style="margin: 0pt 0px\; text-align: center\; -webkit-tap
 -highlight-color: rgba(0\, 0\, 0\, 0)\; text-size-adjust: 100%\; line-heig
 ht: 1.38\;">junto a él le depara un futuro brillante\, deja todo sin sabe
 r que la terrible enfermedad</p><p dir="ltr" style="margin: 0pt 0px\; text
 -align: center\; -webkit-tap-highlight-color: rgba(0\, 0\, 0\, 0)\; text-s
 ize-adjust: 100%\; line-height: 1.38\;">que la aqueja debido a una vida de
  excesos y precariedad le tiene deparado otro</p><p dir="ltr" style="margi
 n: 0pt 0px\; text-align: center\; -webkit-tap-highlight-color: rgba(0\, 0\
 , 0\, 0)\; text-size-adjust: 100%\; line-height: 1.38\;">destino.&nbsp\;</
 p><p dir="ltr" style="margin: 0pt 0px\; text-align: center\; -webkit-tap-h
 ighlight-color: rgba(0\, 0\, 0\, 0)\; text-size-adjust: 100%\; line-height
 : 1.38\;">La Traviata\, una de las cinco óperas más representadas en el 
 mundo es la séptima</p><p dir="ltr" style="margin: 0pt 0px\; text-align: 
 center\; -webkit-tap-highlight-color: rgba(0\, 0\, 0\, 0)\; text-size-adju
 st: 100%\; line-height: 1.38\;">producción de la compañía\, que se pres
 entará en distintos escenarios tanto de</p><p dir="ltr" style="margin: 0p
 t 0px\; text-align: center\; -webkit-tap-highlight-color: rgba(0\, 0\, 0\,
  0)\; text-size-adjust: 100%\; line-height: 1.38\;">Provincia como Ciudad 
 de Buenos Aires.</p><p dir="ltr" style="margin: 0pt 0px\; text-align: cent
 er\; -webkit-tap-highlight-color: rgba(0\, 0\, 0\, 0)\; text-size-adjust: 
 100%\; line-height: 1.38\;">Lírica en Diagonal es una compañía de óper
 a independiente formada en la ciudad de</p><p dir="ltr" style="margin: 0pt
  0px\; text-align: center\; -webkit-tap-highlight-color: rgba(0\, 0\, 0\, 
 0)\; text-size-adjust: 100%\; line-height: 1.38\;">La Plata en el año 202
 2. Está integrada por artistas jóvenes y experimentados\,</p><p dir="ltr
 " style="margin: 0pt 0px\; text-align: center\; -webkit-tap-highlight-colo
 r: rgba(0\, 0\, 0\, 0)\; text-size-adjust: 100%\; line-height: 1.38\;">can
 tantes\, instrumentistas\, escenógrafos\, directores y otros\, y ha reali
 zado 6 títulos de</p><p dir="ltr" style="margin: 0pt 0px\; text-align: ce
 nter\; -webkit-tap-highlight-color: rgba(0\, 0\, 0\, 0)\; text-size-adjust
 : 100%\; line-height: 1.38\;">óperas a la fecha\, presentándose con gran
  éxito ante públicos de todo tipo en diversos</p><p dir="ltr" style="mar
 gin: 0pt 0px\; text-align: center\; -webkit-tap-highlight-color: rgba(0\, 
 0\, 0\, 0)\; text-size-adjust: 100%\; line-height: 1.38\;">escenarios.</p>
 <p dir="ltr" style="margin: 0pt 0px\; text-align: center\; -webkit-tap-hig
 hlight-color: rgba(0\, 0\, 0\, 0)\; text-size-adjust: 100%\; line-height: 
 1.38\;"><br></p><p dir="ltr" style="margin: 0pt 0px\; text-align: center\;
  -webkit-tap-highlight-color: rgba(0\, 0\, 0\, 0)\; text-size-adjust: 100%
 \; line-height: 1.38\;"><font color="#222222" face="Arial"><span style="fo
 nt-size: 14.6667px\; caret-color: rgb(51\, 51\, 51)\;"><span style="font-w
 eight: bolder\;"><br></span></span></font></p><p dir="ltr" style="margin: 
 0pt 0px\; text-align: center\; line-height: 1.38\;"><font face="Abel\, san
 s-serif" color="#9c9c94"><span style="font-size: 12px\;">PROMO BANCO PROVI
 NCIA CONDICIONES:&nbsp\;<a href="https://tr.ee/89uSGj" target="_blank">htt
 ps://tr.ee/89uSGj</a></span></font></p>
END:VEVENT
END:VCALENDAR
