BEGIN:VCALENDAR
VERSION:2.0
PRODID:-//My Calendar//mxm.dk//
BEGIN:VEVENT
SUMMARY:PAPA RUSH Y CANTINELA EN MERLO
DTSTART:20260517T010000Z
DTEND:20260517T080000Z
DTSTAMP:20260424T124417Z
DESCRIPTION:<div style="text-align: center\;"><span style="font-size: 24px
 \;"><b><u>PAPA RUSH (GIRA NÓMADE 2026)</u></b></span></div><div style="te
 xt-align: center\;"><span style="font-size: 24px\;"><b><u>JUNTO A CANTINEL
 A&nbsp\;</u></b></span><span style="font-size: 24px\;"><b><u>(Elio Delgado
 -Callejeros y Horacio Ale ex Gardelitos)</u></b></span></div><div style="t
 ext-align: center\;"><span style="font-size: 24px\;"><b><u>EN MERLO</u></b
 ></span></div><div style="text-align: center\;"><span style="font-size: 24
 px\;"><b><u><br></u></b></span></div><div style="text-align: center\;"><sp
 an style="font-size: 24px\;"><b><u><br></u></b></span></div><div><div styl
 e="text-align: center\;"><b>Banda Invitada</b></div><div style="text-align
 : center\;"><b>La Nueva Especie</b></div></div><div><span style="font-size
 : 1rem\;"><br></span></div><p style="text-align: center\;"><br></p><p styl
 e="text-align: center\;"><a href="https://articket.com.ar/summernote/edito
 r/id_descripcion/www.articket.com.ar" target="_blank">www.articket.com.ar<
 /a></p><p style="text-align: center\;"><br></p><p style="text-align: cente
 r\;"><span style="font-weight: bolder\;">APTO TODO PUBLICO</span></p><p st
 yle="text-align: center\;"><span style="font-weight: bolder\;"><br></span>
 </p><p style="text-align: center\;"><span style="color: rgb(156\, 156\, 14
 8)\; font-family: Abel\, sans-serif\; font-size: 12px\;">PROMO BANCO PROVI
 NCIA CONDICIONES:&nbsp\;</span><a href="https://tr.ee/89uSGj" target="_bla
 nk" style="background-color: rgb(255\, 255\, 255)\; font-family: Abel\, sa
 ns-serif\; font-size: 12px\;">https://tr.ee/89uSGj</a><span style="font-we
 ight: bolder\;"></span></p>
END:VEVENT
END:VCALENDAR
