BEGIN:VCALENDAR
VERSION:2.0
PRODID:-//My Calendar//mxm.dk//
BEGIN:VEVENT
SUMMARY:UNA CLASE ESPECIAL EN TRES ARROYOS
DTSTART:20260605T000000Z
DTEND:20260605T025500Z
DTSTAMP:20260424T124612Z
DESCRIPTION:<p dir="ltr" style="margin: 0pt 0px\; text-align: center\; tex
 t-size-adjust: 100%\; line-height: 1.656\;"><font color="#201f1e" face="Ar
 ial"><span style="font-size: 24px\; caret-color: rgb(32\, 31\, 30)\;"><b><
 u>UNA CLASE ESPECIAL</u></b></span></font></p><p dir="ltr" style="margin: 
 0pt 0px\; text-align: center\; text-size-adjust: 100%\; line-height: 1.656
 \;"><font color="#201f1e" face="Arial"><span style="font-size: 15.3333px\;
  caret-color: rgb(32\, 31\, 30)\;"><u><span style="font-weight: bolder\; f
 ont-size: 24px\;">EN TRES ARROYOS</span></u></span></font></p><p dir="ltr"
  style="margin: 0pt 0px\; font-family: Abel\, sans-serif\; text-align: cen
 ter\; text-size-adjust: 100%\; line-height: 1.656\;"><br></p><p dir="ltr" 
 style="margin: 0pt 0px\; text-align: center\; text-size-adjust: 100%\; lin
 e-height: 1.656\;"><font face="Abel\, sans-serif"><br></font></p><div styl
 e="font-family: Abel\, sans-serif\; text-align: center\; text-size-adjust:
  100%\; color: rgb(51\, 51\, 51)\; font-size: 14px\;"><div style="font-siz
 e: 14.6667px\;"><font color="#222222" face="Arial"><span style="font-weigh
 t: 700\;"><u></u></span></font></div></div><div style="text-align: center\
 ; text-size-adjust: 100%\; font-family: Arial\, Helvetica\, sans-serif\; f
 ont-size: small\; color: rgb(33\, 33\, 33)\;"><p dir="ltr" style="margin: 
 0pt 0px\; color: rgb(51\, 51\, 51)\; font-family: Abel\, sans-serif\; font
 -size: 14px\; line-height: 1.656\;"><span style="font-size: 11.5pt\; font-
 family: Arial\; color: rgb(32\, 31\, 30)\; font-variant-numeric: normal\; 
 font-variant-east-asian: normal\; vertical-align: baseline\;">Entradas en 
 efectivo en Boleteria del Teatro</span></p></div><div style="text-align: c
 enter\; text-size-adjust: 100%\; font-family: Arial\, Helvetica\, sans-ser
 if\; font-size: small\; color: rgb(33\, 33\, 33)\;"><i><br><div style="tex
 t-size-adjust: 100%\;"><br></div></i></div><p dir="ltr" style="margin: 0pt
  0px\; font-family: Abel\, sans-serif\; text-align: center\; text-size-adj
 ust: 100%\; color: rgb(51\, 51\, 51)\; font-size: 14px\; line-height: 1.65
 6\;"><span style="font-size: 11.5pt\; font-family: Arial\; color: rgb(32\,
  31\, 30)\; font-variant-numeric: normal\; font-variant-east-asian: normal
 \; vertical-align: baseline\;"></span></p><div style="text-align: center\;
  text-size-adjust: 100%\; font-family: Arial\, Helvetica\, sans-serif\; fo
 nt-size: small\; color: rgb(33\, 33\, 33)\;"><a href="http://www.articket.
 com.ar/" style="color: rgb(51\, 122\, 183)\; font-family: Abel\, sans-seri
 f\; font-size: 14px\;"><span style="font-size: 11.5pt\; font-family: Arial
 \; color: rgb(17\, 85\, 204)\; font-variant-numeric: normal\; font-variant
 -east-asian: normal\; text-decoration-line: underline\; text-decoration-sk
 ip-ink: none\; vertical-align: baseline\;">www.articket.com.ar</span></a><
 br><br><br><span style="color: rgb(34\, 34\, 34)\; font-family: Arial\; fo
 nt-size: 14.6667px\; font-weight: 700\;">SHOW APTO TODO PUBLICO</span></di
 v><div style="text-align: center\; text-size-adjust: 100%\; font-family: A
 rial\, Helvetica\, sans-serif\; font-size: small\; color: rgb(33\, 33\, 33
 )\;"><span style="color: rgb(34\, 34\, 34)\; font-family: Arial\; font-siz
 e: 14.6667px\; font-weight: 700\;"><br></span></div><div style="text-align
 : center\; text-size-adjust: 100%\; font-family: Arial\, Helvetica\, sans-
 serif\; font-size: small\; color: rgb(33\, 33\, 33)\;"><span style="color:
  rgb(34\, 34\, 34)\; font-family: Arial\; font-size: 14.6667px\; font-weig
 ht: 700\;">---</span></div><div style="text-align: center\; text-size-adju
 st: 100%\; font-family: Arial\, Helvetica\, sans-serif\; font-size: small\
 ; color: rgb(33\, 33\, 33)\;"><span style="color: rgb(34\, 34\, 34)\; font
 -family: Arial\; font-size: 14.6667px\; font-weight: 700\;"><br></span></d
 iv><div style="text-align: center\; text-size-adjust: 100%\;"><div style="
 text-size-adjust: 100%\;"><div style="text-size-adjust: 100%\;"><font colo
 r="#212121" face="Arial\, Helvetica\, sans-serif" size="2"><b>LA OBRA DE T
 EATRO QUE TRASPASÓ EL ESCENARIO Y SE</b></font></div><div style="text-siz
 e-adjust: 100%\;"><font color="#212121" face="Arial\, Helvetica\, sans-ser
 if" size="2"><b>VOLVIO FUROR EN REDES LLEGA A TRES ARROYOS</b></font></div
 ><div style="text-size-adjust: 100%\;"><font color="#212121" face="Arial\,
  Helvetica\, sans-serif" size="2"><b><br></b></font></div><div style="text
 -size-adjust: 100%\;"><font color="#212121" face="Arial\, Helvetica\, sans
 -serif" size="2"><b>“UNA CLASE ESPECIAL”</b></font></div><div style="t
 ext-size-adjust: 100%\;"><font color="#212121" face="Arial\, Helvetica\, s
 ans-serif" size="2"><b><br></b></font></div><div style="text-size-adjust: 
 100%\;"><font color="#212121" face="Arial\, Helvetica\, sans-serif" size="
 2"><b>CON</b></font></div><div style="text-size-adjust: 100%\;"><font colo
 r="#212121" face="Arial\, Helvetica\, sans-serif" size="2"><b><br></b></fo
 nt></div><div style="text-size-adjust: 100%\;"><font color="#212121" face=
 "Arial\, Helvetica\, sans-serif" size="2"><b>DAMIAN DE SANTO Y CHRISTIAN S
 ANCHO</b></font></div><div style="text-size-adjust: 100%\;"><font color="#
 212121" face="Arial\, Helvetica\, sans-serif" size="2"><b><br></b></font><
 /div><div style="text-size-adjust: 100%\;"><font color="#212121" face="Ari
 al\, Helvetica\, sans-serif" size="2"><b>4 DE JUNIO – 21:00 Hs</b></font
 ></div><div style="text-size-adjust: 100%\;"><font color="#212121" face="A
 rial\, Helvetica\, sans-serif" size="2"><b><br></b></font></div><div style
 ="text-size-adjust: 100%\;"><font color="#212121" face="Arial\, Helvetica\
 , sans-serif" size="2"><b>TEATRO MUNICIPAL – TRES ARROYOS</b></font></di
 v><div style="text-size-adjust: 100%\;"><font color="#212121" face="Arial\
 , Helvetica\, sans-serif" size="2"><b><br></b></font></div><div style="tex
 t-size-adjust: 100%\;"><font color="#212121" face="Arial\, Helvetica\, san
 s-serif" size="2"><b>De: Daniel Dátola</b></font></div><div style="text-s
 ize-adjust: 100%\;"><font color="#212121" face="Arial\, Helvetica\, sans-s
 erif" size="2"><b>Dirección: Manuel González Gil</b></font></div><div st
 yle="text-size-adjust: 100%\;"><font color="#212121" face="Arial\, Helveti
 ca\, sans-serif" size="2"><b>Producción General: Faroni Producciones</b><
 /font></div><div style="text-size-adjust: 100%\;"><font color="#212121" fa
 ce="Arial\, Helvetica\, sans-serif" size="2"><b><br></b></font></div><div 
 style="text-size-adjust: 100%\;"><font color="#212121" face="Arial\, Helve
 tica\, sans-serif" size="2"><b>Damián De Santo y Christian Sancho conform
 aron una nueva dupla teatral explosiva\, la</b></font></div><div style="te
 xt-size-adjust: 100%\;"><font color="#212121" face="Arial\, Helvetica\, sa
 ns-serif" size="2"><b>química lograda en cada una de las funciones que en
 cararon a sala llena durante estos</b></font></div><div style="text-size-a
 djust: 100%\;"><font color="#212121" face="Arial\, Helvetica\, sans-serif"
  size="2"><b>meses de gira\, traspasó el escenario. Es así que actualmen
 te\, este dúo sigue haciendo de</b></font></div><div style="text-size-adj
 ust: 100%\;"><font color="#212121" face="Arial\, Helvetica\, sans-serif" s
 ize="2"><b>las suyas en redes. La temática de la obra como gran disparado
 r\, los llevó a desarrollar</b></font></div><div style="text-size-adjust:
  100%\;"><font color="#212121" face="Arial\, Helvetica\, sans-serif" size=
 "2"><b>una micro ficción para redes con desopilantes cápsulas que se van
  develando</b></font></div><div style="text-size-adjust: 100%\;"><font col
 or="#212121" face="Arial\, Helvetica\, sans-serif" size="2"><b>semanalment
 e en las que los protagonistas van buscando distintas alternativas\, a tra
 vés</b></font></div><div style="text-size-adjust: 100%\;"><font color="#2
 12121" face="Arial\, Helvetica\, sans-serif" size="2"><b>de distintas acti
 vidades que van realizando y “clases” que van tomando para conocer</b>
 </font></div><div style="text-size-adjust: 100%\;"><font color="#212121" f
 ace="Arial\, Helvetica\, sans-serif" size="2"><b>mujeres. Lo que comenzó 
 siendo una idea de promoción para el espectáculo tuvo tanta</b></font></
 div><div style="text-size-adjust: 100%\;"><font color="#212121" face="Aria
 l\, Helvetica\, sans-serif" size="2"><b>repercusión y generó tantas expe
 ctativas en el público\, que la producción del contenido</b></font></div
 ><div style="text-size-adjust: 100%\;"><font color="#212121" face="Arial\,
  Helvetica\, sans-serif" size="2"><b>se siguió realizando aún no estando
  la obra en cartel. Estos micros pueden encontrarse en</b></font></div><di
 v style="text-size-adjust: 100%\;"><font color="#212121" face="Arial\, Hel
 vetica\, sans-serif" size="2"><b>las redes personales de los artistas como
  así también en la cuenta de IG de la obra</b></font></div><div style="t
 ext-size-adjust: 100%\;"><font color="#212121" face="Arial\, Helvetica\, s
 ans-serif" size="2"><b>@unaclase.teatro</b></font></div><div style="text-s
 ize-adjust: 100%\;"><font color="#212121" face="Arial\, Helvetica\, sans-s
 erif" size="2"><b>“Una clase especial”\, la comedia de Daniel Dátola\
 , en la misma versión que viene de</b></font></div><div style="text-size-
 adjust: 100%\;"><font color="#212121" face="Arial\, Helvetica\, sans-serif
 " size="2"><b>representarse con gran éxito en distintas partes del mundo 
 con la dirección de Manuel</b></font></div><div style="text-size-adjust: 
 100%\;"><font color="#212121" face="Arial\, Helvetica\, sans-serif" size="
 2"><b>González Gil\, se estrenó en Semana Santa en Argentina\, en una gr
 an gira nacional\, con la</b></font></div><div style="text-size-adjust: 10
 0%\;"><font color="#212121" face="Arial\, Helvetica\, sans-serif" size="2"
 ><b>que ya reunieron a más de 20.000 espectadores\, un éxito rotundo y c
 elebrado. Con</b></font></div><div style="text-size-adjust: 100%\;"><font 
 color="#212121" face="Arial\, Helvetica\, sans-serif" size="2"><b>localida
 des agotadas en cada una de las ciudades en las que se presentaron\, esta 
 unión</b></font></div><div style="text-size-adjust: 100%\;"><font color="
 #212121" face="Arial\, Helvetica\, sans-serif" size="2"><b>actoral se cons
 olida como la gran dupla teatral del año.</b></font></div><div style="tex
 t-size-adjust: 100%\;"><font color="#212121" face="Arial\, Helvetica\, san
 s-serif" size="2"><b>Aquí Lalo\, un hombre introvertido\, inseguro\, fuer
 a de época\, acaba de ser abandonado</b></font></div><div style="text-siz
 e-adjust: 100%\;"><font color="#212121" face="Arial\, Helvetica\, sans-ser
 if" size="2"><b>por su esposa después de muchos años de matrimonio\, per
 o está dispuesto a todo con</b></font></div><div style="text-size-adjust:
  100%\;"><font color="#212121" face="Arial\, Helvetica\, sans-serif" size=
 "2"><b>tal de volver al ruedo.</b></font></div><div style="text-size-adjus
 t: 100%\;"><font color="#212121" face="Arial\, Helvetica\, sans-serif" siz
 e="2"><b><br></b></font></div><div style="text-size-adjust: 100%\;"><font 
 color="#212121" face="Arial\, Helvetica\, sans-serif" size="2"><b>Para log
 rarlo contrata una clase con Leo - un reconocido maestro en seducción\, g
 alán\,</b></font></div><div style="text-size-adjust: 100%\;"><font color=
 "#212121" face="Arial\, Helvetica\, sans-serif" size="2"><b>mujeriego\, ca
 rismático\, manipulador y autoproclamado el rey de la conquista\, que</b>
 </font></div><div style="text-size-adjust: 100%\;"><font color="#212121" f
 ace="Arial\, Helvetica\, sans-serif" size="2"><b>necesita dinero y decide 
 aprovechar su experiencia dando clases de seducción en su</b></font></div
 ><div style="text-size-adjust: 100%\;"><font color="#212121" face="Arial\,
  Helvetica\, sans-serif" size="2"><b>departamento. Leo ve en Lalo una pres
 a desesperada a quien será fácil quitarle dinero\,</b></font></div><div 
 style="text-size-adjust: 100%\;"><font color="#212121" face="Arial\, Helve
 tica\, sans-serif" size="2"><b>pero Lalo resulta un hueso difícil de roer
 .</b></font></div><div style="text-size-adjust: 100%\;"><font color="#2121
 21" face="Arial\, Helvetica\, sans-serif" size="2"><b>A lo largo de esta c
 lase\, alumno y maestro explorarán juntos el engaño\, el abandono\, la</
 b></font></div><div style="text-size-adjust: 100%\;"><font color="#212121"
  face="Arial\, Helvetica\, sans-serif" size="2"><b>venganza\, las relacion
 es y los recovecos de la mente masculina. Pero poco a poco la clase</b></f
 ont></div><div style="text-size-adjust: 100%\;"><font color="#212121" face
 ="Arial\, Helvetica\, sans-serif" size="2"><b>se irá complicando\, Leo re
 cibe una llamada que lo altera todo\, los roles se invierten y el</b></fon
 t></div><div style="text-size-adjust: 100%\;"><font color="#212121" face="
 Arial\, Helvetica\, sans-serif" size="2"><b>alumno ahora supera al maestro
  y así las risas y la comedia van creciendo en una clase</b></font></div>
 <div style="text-size-adjust: 100%\;"><font color="#212121" face="Arial\, 
 Helvetica\, sans-serif" size="2"><b>donde no todo es lo que parece porque 
 claramente el amor no se puede estudiar.</b></font></div></div></div><div 
 style="text-align: center\; text-size-adjust: 100%\; font-family: Arial\, 
 Helvetica\, sans-serif\; font-size: small\; color: rgb(33\, 33\, 33)\;"><s
 pan style="color: rgb(34\, 34\, 34)\; font-family: Arial\; font-size: 14.6
 667px\; font-weight: 700\;"><br></span><p dir="ltr" style="margin: 0pt 0px
 \; line-height: 1.38\;"><font face="Abel\, sans-serif" color="#9c9c94"><sp
 an style="font-size: 12px\;">PROMO BANCO PROVINCIA CONDICIONES:&nbsp\;<a h
 ref="https://tr.ee/89uSGj" target="_blank">https://tr.ee/89uSGj</a></span>
 </font></p><p dir="ltr" style="margin: 0pt 0px\; line-height: 1.38\;"><br 
 style="color: rgb(33\, 37\, 41)\; font-family: Abel\, sans-serif\; font-si
 ze: 16px\;"></p></div>
END:VEVENT
END:VCALENDAR
