BEGIN:VCALENDAR
VERSION:2.0
PRODID:-//My Calendar//mxm.dk//
BEGIN:VEVENT
SUMMARY:FIESTA RETRO PASADO PERFECTO 2DA EDICION EN OLAVARRIA
DTSTART:20260524T020000Z
DTEND:20260524T073000Z
DTSTAMP:20260421T063942Z
DESCRIPTION:<p dir="ltr" style="margin: 0pt 0px\; text-align: center\; lin
 e-height: 1.656\;"><font color="#201f1e" face="Arial"><span style="font-si
 ze: 24px\;"><b><u>FIESTA PASADO PERFECTO 2DA EDICION</u></b></span></font>
 </p><p dir="ltr" style="margin: 0pt 0px\; font-family: Abel\, sans-serif\;
  text-align: center\; color: rgb(51\, 51\, 51)\; font-size: 14px\; line-he
 ight: 1.656\;"><font color="#201f1e" face="Arial"><span style="font-size: 
 15.3333px\;"><span style="text-decoration-line: underline\;"><span style="
 font-weight: bolder\;"><span style="font-size: 24px\;">EN OLAVARRIA</span>
 </span></span></span></font></p><p dir="ltr" style="margin: 0pt 0px\; font
 -family: Abel\, sans-serif\; text-align: center\; color: rgb(51\, 51\, 51)
 \; font-size: 14px\; line-height: 1.656\;"><font color="#201f1e" face="Ari
 al"><span style="font-size: 15.3333px\;"><span style="text-decoration-line
 : underline\;"><span style="font-weight: bolder\;"><br></span><br></span><
 /span></font></p><p dir="ltr" style="margin: 0pt 0px\; font-family: Abel\,
  sans-serif\; text-align: center\; color: rgb(51\, 51\, 51)\; font-size: 1
 4px\; line-height: 1.656\;"><font color="#201f1e" face="Arial"><span style
 ="font-size: 15.3333px\;"><u style="font-weight: 700\;"></u></span></font>
 </p><p dir="ltr" style="margin: 0pt 0px\; font-family: Abel\, sans-serif\;
  text-align: center\; color: rgb(51\, 51\, 51)\; font-size: 14px\; line-he
 ight: 1.656\;"><span style="background-color: transparent\; color: rgb(32\
 , 31\, 30)\; font-family: Arial\; font-size: 11.5pt\;">Entradas anticipada
 s limitadas en efectivo:</span></p><p dir="ltr" style="margin: 0pt 0px\; f
 ont-family: Abel\, sans-serif\; text-align: center\; color: rgb(51\, 51\, 
 51)\; font-size: 14px\; line-height: 1.656\;"><span style="font-size: 11pt
 \; font-family: Arial\; color: rgb(34\, 34\, 34)\; background-color: trans
 parent\; font-variant-numeric: normal\; font-variant-east-asian: normal\; 
 vertical-align: baseline\;">&nbsp\;</span></p><p dir="ltr" style="margin: 
 0pt 0px\; font-family: Abel\, sans-serif\; text-align: center\; color: rgb
 (51\, 51\, 51)\; font-size: 14px\; caret-color: rgb(51\, 51\, 51)\; -webki
 t-tap-highlight-color: rgba(0\, 0\, 0\, 0)\; text-size-adjust: 100%\; line
 -height: 1.656\;"><span style="font-size: 11.5pt\; font-family: Arial\; co
 lor: rgb(32\, 31\, 30)\; font-variant-numeric: normal\; font-variant-east-
 asian: normal\; vertical-align: baseline\;"><span style="font-weight: bold
 er\;">TecnoCentro:</span></span><span style="font-size: 11.5pt\; font-fami
 ly: Arial\; color: rgb(32\, 31\, 30)\; font-variant-numeric: normal\; font
 -variant-east-asian: normal\; vertical-align: baseline\;">&nbsp\;Rivadavia
  3065 -&nbsp\;<span style="font-weight: bolder\;">Olavarria</span></span><
 /p><p dir="ltr" style="margin: 0pt 0px\; font-family: Abel\, sans-serif\; 
 text-align: center\; color: rgb(51\, 51\, 51)\; font-size: 14px\; caret-co
 lor: rgb(51\, 51\, 51)\; -webkit-tap-highlight-color: rgba(0\, 0\, 0\, 0)\
 ; text-size-adjust: 100%\; line-height: 1.656\;"><br></p><p dir="ltr" styl
 e="margin: 0pt 0px\; font-family: Abel\, sans-serif\; text-align: center\;
  color: rgb(51\, 51\, 51)\; font-size: 14px\; line-height: 1.38\;"><a href
 ="http://www.articket.com.ar/" style="color: rgb(51\, 122\, 183)\;"><span 
 style="font-size: 11.5pt\; font-family: Arial\; color: rgb(17\, 85\, 204)\
 ; font-variant-numeric: normal\; font-variant-east-asian: normal\; text-de
 coration-line: underline\; text-decoration-skip-ink: none\; vertical-align
 : baseline\;">www.articket.com.ar</span></a></p><p class="MsoNormal" style
 ="margin-right: 0px\; margin-bottom: 10pt\; margin-left: 0px\; text-align:
  center\; color: rgb(34\, 34\, 34)\; font-family: Arial\, Helvetica\, sans
 -serif\; font-size: small\; line-height: 14.95px\;"><span style="font-fami
 ly: Calibri\, sans-serif\;"><br></span></p><p class="MsoNormal" style="mar
 gin-right: 0px\; margin-bottom: 10pt\; margin-left: 0px\; text-align: cent
 er\; line-height: 14.95px\;"><span style="font-weight: bolder\;"><font col
 or="#222222" face="Arial"><span style="font-size: 14.6667px\;">EVENTO APTO
  +18 AÑOS</span></font></span></p><p class="MsoNormal" style="margin-righ
 t: 0px\; margin-bottom: 10pt\; margin-left: 0px\; text-align: center\; lin
 e-height: 14.95px\;"><span style="font-weight: bolder\;"><br><font color="
 #222222" face="Arial"><span style="font-size: 14.6667px\;">Asistir con el 
 HardTicket en mano o el QR descargado en el celular.</span></font><br></sp
 an><font color="#222222" face="Arial"><span style="font-size: 14.6667px\;"
 ><span style="font-weight: bolder\;">No se aceptan cambios ni devoluciones
 .<br><br><br></span></span></font></p><p dir="ltr" style="margin: 0pt 0px\
 ; text-align: center\; line-height: 1.38\;"><font face="Abel\, sans-serif"
  color="#9c9c94"><span style="font-size: 12px\;">PROMO BANCO PROVINCIA CON
 DICIONES:&nbsp\;<a href="https://tr.ee/89uSGj" target="_blank">https://tr.
 ee/89uSGj</a></span></font></p>
END:VEVENT
END:VCALENDAR
