BEGIN:VCALENDAR
VERSION:2.0
PRODID:-//My Calendar//mxm.dk//
BEGIN:VEVENT
SUMMARY:BLOODY TANGO EN OLAVARRIA
DTSTART:20260516T000000Z
DTEND:20260516T025500Z
DTSTAMP:20260424T124417Z
DESCRIPTION:<div style="text-align: center\;"><font color="#1f1f1f" face="
 Google Sans\, Roboto\, RobotoDraft\, Helvetica\, Arial\, sans-serif"><span
  style="font-size: 22px\; font-variant-ligatures: no-contextual\;"><b><u>B
 LOODY TANGO</u></b></span></font></div><p dir="ltr" style="margin: 0pt 0px
 \; text-align: center\; -webkit-tap-highlight-color: rgba(0\, 0\, 0\, 0)\;
  text-size-adjust: 100%\; line-height: 1.656\;"><font color="#000000"><fon
 t face="Arial"><u><font face="Abel\, sans-serif"><span style="font-size: 1
 5.3333px\; font-weight: bolder\; caret-color: rgb(51\, 51\, 51)\;">EN OLAV
 ARRIA</span></font></u></font></font></p><p dir="ltr" style="margin: 0pt 0
 px\; text-align: center\; -webkit-tap-highlight-color: rgba(0\, 0\, 0\, 0)
 \; text-size-adjust: 100%\; line-height: 1.656\;"><br></p><p dir="ltr" sty
 le="margin: 0pt 0px\; font-family: Abel\, sans-serif\; text-align: center\
 ; color: rgb(51\, 51\, 51)\; font-size: 14px\; caret-color: rgb(51\, 51\, 
 51)\; -webkit-tap-highlight-color: rgba(0\, 0\, 0\, 0)\; text-size-adjust:
  100%\; line-height: 1.656\;"><span style="font-size: 11.5pt\; font-family
 : Arial\; color: rgb(32\, 31\, 30)\; font-variant-numeric: normal\; font-v
 ariant-east-asian: normal\; vertical-align: baseline\;"><br></span></p><p 
 dir="ltr" style="margin: 0pt 0px\; font-family: Abel\, sans-serif\; text-a
 lign: center\; color: rgb(51\, 51\, 51)\; font-size: 14px\; caret-color: r
 gb(51\, 51\, 51)\; -webkit-tap-highlight-color: rgba(0\, 0\, 0\, 0)\; text
 -size-adjust: 100%\; line-height: 1.656\;"><span style="font-size: 11.5pt\
 ; font-family: Arial\; color: rgb(32\, 31\, 30)\; font-variant-numeric: no
 rmal\; font-variant-east-asian: normal\; vertical-align: baseline\;">Entra
 das anticipadas:<br><br></span></p><p dir="ltr" style="margin: 0pt 0px\; f
 ont-family: Abel\, sans-serif\; text-align: center\; color: rgb(51\, 51\, 
 51)\; font-size: 14px\; caret-color: rgb(51\, 51\, 51)\; -webkit-tap-highl
 ight-color: rgba(0\, 0\, 0\, 0)\; text-size-adjust: 100%\; line-height: 1.
 656\;"><u style="color: rgb(34\, 34\, 34)\; font-family: Arial\; font-size
 : 14.6667px\;">POR SISTEMA:<br></u><span style="font-weight: 700\; color: 
 rgb(34\, 34\, 34)\; font-family: Arial\; font-size: 11pt\;">(Todos los med
 ios de pago)</span></p><p dir="ltr" style="margin: 0pt 0px\; font-family: 
 Abel\, sans-serif\; text-align: center\; color: rgb(51\, 51\, 51)\; font-s
 ize: 14px\; caret-color: rgb(51\, 51\, 51)\; -webkit-tap-highlight-color: 
 rgba(0\, 0\, 0\, 0)\; text-size-adjust: 100%\; line-height: 1.656\;"><span
  style="font-weight: 700\; color: rgb(34\, 34\, 34)\; font-family: Arial\;
  font-size: 11pt\;"><br></span></p><p dir="ltr" style="margin: 0pt 0px\; f
 ont-family: Abel\, sans-serif\; text-align: center\; color: rgb(51\, 51\, 
 51)\; font-size: 14px\; caret-color: rgb(51\, 51\, 51)\; -webkit-tap-highl
 ight-color: rgba(0\, 0\, 0\, 0)\; text-size-adjust: 100%\; line-height: 1.
 656\;"><font color="#222222" face="Arial"><span style="font-size: 14.6667p
 x\;"><u>Efectivo en:</u></span></font></p><p dir="ltr" style="margin: 0pt 
 0px\; font-family: Abel\, sans-serif\; text-align: center\; color: rgb(51\
 , 51\, 51)\; font-size: 14px\; caret-color: rgb(51\, 51\, 51)\; -webkit-ta
 p-highlight-color: rgba(0\, 0\, 0\, 0)\; text-size-adjust: 100%\; line-hei
 ght: 1.656\;"><span style="font-size: 11.5pt\; font-family: Arial\; color:
  rgb(32\, 31\, 30)\; font-weight: 700\; font-variant-numeric: normal\; fon
 t-variant-east-asian: normal\; vertical-align: baseline\;">TecnoCentro:</s
 pan><span style="font-size: 11.5pt\; font-family: Arial\; color: rgb(32\, 
 31\, 30)\; font-variant-numeric: normal\; font-variant-east-asian: normal\
 ; vertical-align: baseline\;">&nbsp\;Rivadavia 3065 -&nbsp\;<span style="f
 ont-weight: 700\;">Olavarria</span></span></p><div style="text-align: cent
 er\; -webkit-tap-highlight-color: rgba(0\, 0\, 0\, 0)\; text-size-adjust: 
 100%\; font-family: Arial\, Helvetica\, sans-serif\; font-size: small\; co
 lor: rgb(33\, 33\, 33)\;"><i><br></i></div><p dir="ltr" style="margin: 0pt
  0px\; font-family: Abel\, sans-serif\; text-align: center\; color: rgb(51
 \, 51\, 51)\; font-size: 14px\; caret-color: rgb(51\, 51\, 51)\; -webkit-t
 ap-highlight-color: rgba(0\, 0\, 0\, 0)\; text-size-adjust: 100%\; line-he
 ight: 1.656\;"><span style="font-size: 11pt\; font-family: Arial\; color: 
 rgb(34\, 34\, 34)\; font-variant-numeric: normal\; font-variant-east-asian
 : normal\; vertical-align: baseline\;"><span style="font-weight: 700\;"><u
 >Entradas de Discapacidad</u></span></span></p><p dir="ltr" style="margin:
  0pt 0px\; font-family: Abel\, sans-serif\; text-align: center\; color: rg
 b(51\, 51\, 51)\; font-size: 14px\; caret-color: rgb(51\, 51\, 51)\; -webk
 it-tap-highlight-color: rgba(0\, 0\, 0\, 0)\; text-size-adjust: 100%\; lin
 e-height: 1.656\;"><span style="font-size: 11pt\; font-family: Arial\; col
 or: rgb(34\, 34\, 34)\; font-variant-numeric: normal\; font-variant-east-a
 sian: normal\; vertical-align: baseline\;"></span></p><p dir="ltr" style="
 margin: 0pt 0px\; font-family: Abel\, sans-serif\; text-align: center\; co
 lor: rgb(51\, 51\, 51)\; font-size: 14px\; line-height: 1.656\;"><span sty
 le="font-size: 11pt\; font-family: Arial\; color: rgb(34\, 34\, 34)\; font
 -variant-numeric: normal\; font-variant-east-asian: normal\; vertical-alig
 n: baseline\;">Para solicitar entradas de discapacidad por favor&nbsp\;dir
 igirse a la&nbsp\;<span style="font-weight: bolder\;">Boletería del Teatr
 o</span>&nbsp\;de&nbsp\;<span style="font-weight: bolder\;">Lunes a vierne
 s de 8:30 a 16hs.</span></span></p><p style="margin: 0pt 0px\; text-align:
  center\; color: rgb(34\, 34\, 34)\; font-family: Arial\, Helvetica\, sans
 -serif\; font-size: small\; line-height: 1.656\;"><font face="Arial" color
 ="#ffffff"><span style="font-size: 14.6667px\; background-color: rgb(103\,
  78\, 167)\;"><span style="font-weight: bolder\;">Las entradas se podrán&
 nbsp\;solicitar a partir del 1er día hábil del mes corriente del evento.
 </span></span></font></p><p dir="ltr" style="margin: 0pt 0px\; font-family
 : Abel\, sans-serif\; text-align: center\; color: rgb(51\, 51\, 51)\; font
 -size: 14px\; caret-color: rgb(51\, 51\, 51)\; -webkit-tap-highlight-color
 : rgba(0\, 0\, 0\, 0)\; text-size-adjust: 100%\; line-height: 1.656\;"><sp
 an style="font-size: 11pt\; font-family: Arial\; color: rgb(34\, 34\, 34)\
 ; font-variant-numeric: normal\; font-variant-east-asian: normal\; vertica
 l-align: baseline\;"><br></span></p><p dir="ltr" style="margin: 0pt 0px\; 
 font-family: Abel\, sans-serif\; text-align: center\; color: rgb(51\, 51\,
  51)\; font-size: 14px\; caret-color: rgb(51\, 51\, 51)\; -webkit-tap-high
 light-color: rgba(0\, 0\, 0\, 0)\; text-size-adjust: 100%\; line-height: 1
 .38\;"><a href="http://www.articket.com.ar/" style="color: rgb(51\, 122\, 
 183)\;"><span style="font-size: 11.5pt\; font-family: Arial\; color: rgb(1
 7\, 85\, 204)\; font-variant-numeric: normal\; font-variant-east-asian: no
 rmal\; text-decoration-line: underline\; text-decoration-skip-ink: none\; 
 vertical-align: baseline\;">www.articket.com.ar</span></a></p><p style="fo
 nt-family: Abel\, sans-serif\; text-align: center\;"><br style="color: rgb
 (51\, 51\, 51)\; font-size: 14px\; caret-color: rgb(51\, 51\, 51)\; -webki
 t-tap-highlight-color: rgba(0\, 0\, 0\, 0)\; text-size-adjust: 100%\;"></p
 ><p dir="ltr" style="margin: 0pt 0px\; font-family: Abel\, sans-serif\; te
 xt-align: center\; color: rgb(51\, 51\, 51)\; font-size: 14px\; caret-colo
 r: rgb(51\, 51\, 51)\; -webkit-tap-highlight-color: rgba(0\, 0\, 0\, 0)\; 
 text-size-adjust: 100%\; line-height: 1.38\;"><span style="font-size: 11pt
 \; font-family: Arial\; color: rgb(34\, 34\, 34)\; font-weight: 700\; font
 -variant-numeric: normal\; font-variant-east-asian: normal\; vertical-alig
 n: baseline\;">APTO TODO PUBLICO</span></p><p dir="ltr" style="margin: 0pt
  0px\; font-family: Abel\, sans-serif\; text-align: center\; color: rgb(51
 \, 51\, 51)\; font-size: 14px\; caret-color: rgb(51\, 51\, 51)\; -webkit-t
 ap-highlight-color: rgba(0\, 0\, 0\, 0)\; text-size-adjust: 100%\; line-he
 ight: 1.38\;"><span style="font-size: 11pt\; font-family: Arial\; color: r
 gb(34\, 34\, 34)\; font-weight: 700\; font-variant-numeric: normal\; font-
 variant-east-asian: normal\; vertical-align: baseline\;"><br></span></p><p
  dir="ltr" style="margin: 0pt 0px\; font-family: Abel\, sans-serif\; text-
 align: center\; color: rgb(51\, 51\, 51)\; font-size: 14px\; caret-color: 
 rgb(51\, 51\, 51)\; -webkit-tap-highlight-color: rgba(0\, 0\, 0\, 0)\; tex
 t-size-adjust: 100%\; line-height: 1.38\;"><span style="font-size: 11pt\; 
 font-family: Arial\; color: rgb(34\, 34\, 34)\; font-weight: 700\; font-va
 riant-numeric: normal\; font-variant-east-asian: normal\; vertical-align: 
 baseline\;">---</span></p><p dir="ltr" style="margin: 0pt 0px\; font-famil
 y: Abel\, sans-serif\; text-align: center\; color: rgb(51\, 51\, 51)\; fon
 t-size: 14px\; caret-color: rgb(51\, 51\, 51)\; -webkit-tap-highlight-colo
 r: rgba(0\, 0\, 0\, 0)\; text-size-adjust: 100%\; line-height: 1.38\;"><sp
 an style="font-size: 11pt\; font-family: Arial\; color: rgb(34\, 34\, 34)\
 ; font-weight: 700\; font-variant-numeric: normal\; font-variant-east-asia
 n: normal\; vertical-align: baseline\;"><br></span></p><p dir="ltr" style=
 "margin: 0pt 0px\; text-align: center\; -webkit-tap-highlight-color: rgba(
 0\, 0\, 0\, 0)\; text-size-adjust: 100%\; line-height: 1.38\;"><font color
 ="#222222" face="Arial"><span style="font-size: 14.6667px\; caret-color: r
 gb(51\, 51\, 51)\;"><b>El exitoso musical de Calle Corrientes\, luego de s
 u temporada 2026 en Mar del Plata\,</b></span></font></p><p dir="ltr" styl
 e="margin: 0pt 0px\; text-align: center\; -webkit-tap-highlight-color: rgb
 a(0\, 0\, 0\, 0)\; text-size-adjust: 100%\; line-height: 1.38\;"><font col
 or="#222222" face="Arial"><span style="font-size: 14.6667px\; caret-color:
  rgb(51\, 51\, 51)\;"><b>comienza su tour por todo el país.</b></span></f
 ont></p><p dir="ltr" style="margin: 0pt 0px\; text-align: center\; -webkit
 -tap-highlight-color: rgba(0\, 0\, 0\, 0)\; text-size-adjust: 100%\; line-
 height: 1.38\;"><font color="#222222" face="Arial"><span style="font-size:
  14.6667px\; caret-color: rgb(51\, 51\, 51)\;"><b>Debido al éxito y a las
  buenas críticas del show en su estreno\, este 2026 Noelia Marsol</b></sp
 an></font></p><p dir="ltr" style="margin: 0pt 0px\; text-align: center\; -
 webkit-tap-highlight-color: rgba(0\, 0\, 0\, 0)\; text-size-adjust: 100%\;
  line-height: 1.38\;"><font color="#222222" face="Arial"><span style="font
 -size: 14.6667px\; caret-color: rgb(51\, 51\, 51)\;"><b>vuelve a apostar a
  su pasión: “tenemos un elenco increíble y la idea es que la gente</b>
 </span></font></p><p dir="ltr" style="margin: 0pt 0px\; text-align: center
 \; -webkit-tap-highlight-color: rgba(0\, 0\, 0\, 0)\; text-size-adjust: 10
 0%\; line-height: 1.38\;"><font color="#222222" face="Arial"><span style="
 font-size: 14.6667px\; caret-color: rgb(51\, 51\, 51)\;"><b>disfrute de ve
 r bailar tango y sé que serán noches inolvidables como lo fueron las del
 </b></span></font></p><p dir="ltr" style="margin: 0pt 0px\; text-align: ce
 nter\; -webkit-tap-highlight-color: rgba(0\, 0\, 0\, 0)\; text-size-adjust
 : 100%\; line-height: 1.38\;"><font color="#222222" face="Arial"><span sty
 le="font-size: 14.6667px\; caret-color: rgb(51\, 51\, 51)\;"><b>año pasad
 o. Fue una gran emoción haber podido estrenar este espectáculo y siempre
 </b></span></font></p><p dir="ltr" style="margin: 0pt 0px\; text-align: ce
 nter\; -webkit-tap-highlight-color: rgba(0\, 0\, 0\, 0)\; text-size-adjust
 : 100%\; line-height: 1.38\;"><font color="#222222" face="Arial"><span sty
 le="font-size: 14.6667px\; caret-color: rgb(51\, 51\, 51)\;"><b>voy a ir p
 or más. En lo personal\, me fascina bailar tango y siento que producir un
  show</b></span></font></p><p dir="ltr" style="margin: 0pt 0px\; text-alig
 n: center\; -webkit-tap-highlight-color: rgba(0\, 0\, 0\, 0)\; text-size-a
 djust: 100%\; line-height: 1.38\;"><font color="#222222" face="Arial"><spa
 n style="font-size: 14.6667px\; caret-color: rgb(51\, 51\, 51)\;"><b>moder
 no desde la puesta\, la música\, el vestuario con bailarines jóvenes\, c
 ampeones</b></span></font></p><p dir="ltr" style="margin: 0pt 0px\; text-a
 lign: center\; -webkit-tap-highlight-color: rgba(0\, 0\, 0\, 0)\; text-siz
 e-adjust: 100%\; line-height: 1.38\;"><font color="#222222" face="Arial"><
 span style="font-size: 14.6667px\; caret-color: rgb(51\, 51\, 51)\;"><b>mu
 ndiales súper talentosos\, una gran cantante\, es una oportunidad para se
 guir</b></span></font></p><p dir="ltr" style="margin: 0pt 0px\; text-align
 : center\; -webkit-tap-highlight-color: rgba(0\, 0\, 0\, 0)\; text-size-ad
 just: 100%\; line-height: 1.38\;"><font color="#222222" face="Arial"><span
  style="font-size: 14.6667px\; caret-color: rgb(51\, 51\, 51)\;"><b>contag
 iando entre las nuevas generaciones la pasión y el amor por el tango. Tam
 bién</b></span></font></p><p dir="ltr" style="margin: 0pt 0px\; text-alig
 n: center\; -webkit-tap-highlight-color: rgba(0\, 0\, 0\, 0)\; text-size-a
 djust: 100%\; line-height: 1.38\;"><font color="#222222" face="Arial"><spa
 n style="font-size: 14.6667px\; caret-color: rgb(51\, 51\, 51)\;"><b>me gu
 staría llegar con ese show a distintas partes del mundo así que es mi id
 ea que</b></span></font></p><p dir="ltr" style="margin: 0pt 0px\; text-ali
 gn: center\; -webkit-tap-highlight-color: rgba(0\, 0\, 0\, 0)\; text-size-
 adjust: 100%\; line-height: 1.38\;"><font color="#222222" face="Arial"><sp
 an style="font-size: 14.6667px\; caret-color: rgb(51\, 51\, 51)\;"><b>vaya
  creciendo y que todos puedan disfrutar.”</b></span></font></p><p dir="l
 tr" style="margin: 0pt 0px\; text-align: center\; -webkit-tap-highlight-co
 lor: rgba(0\, 0\, 0\, 0)\; text-size-adjust: 100%\; line-height: 1.38\;"><
 font color="#222222" face="Arial"><span style="font-size: 14.6667px\; care
 t-color: rgb(51\, 51\, 51)\;"><b>GANADORA DEL PREMIO ESTRELLA DE MAR A MEJ
 OR COMPAÑIA DE DANZA</b></span></font></p><p dir="ltr" style="margin: 0pt
  0px\; text-align: center\; -webkit-tap-highlight-color: rgba(0\, 0\, 0\, 
 0)\; text-size-adjust: 100%\; line-height: 1.38\;"><font color="#222222" f
 ace="Arial"><span style="font-size: 14.6667px\; caret-color: rgb(51\, 51\,
  51)\;"><b>NACIONAL.</b></span></font></p><p dir="ltr" style="margin: 0pt 
 0px\; text-align: center\; -webkit-tap-highlight-color: rgba(0\, 0\, 0\, 0
 )\; text-size-adjust: 100%\; line-height: 1.38\;"><font color="#222222" fa
 ce="Arial"><span style="font-size: 14.6667px\; caret-color: rgb(51\, 51\, 
 51)\;"><b>Un ensamble de bailarines y cantantes de alto nivel artístico p
 ondera la danza a través</b></span></font></p><p dir="ltr" style="margin:
  0pt 0px\; text-align: center\; -webkit-tap-highlight-color: rgba(0\, 0\, 
 0\, 0)\; text-size-adjust: 100%\; line-height: 1.38\;"><font color="#22222
 2" face="Arial"><span style="font-size: 14.6667px\; caret-color: rgb(51\, 
 51\, 51)\;"><b>de virtuosas y elaboradas coreografías\, con Noelia Marzol
 \, Jonathan Lazarte\, Ana Devin</b></span></font></p><p dir="ltr" style="m
 argin: 0pt 0px\; text-align: center\; -webkit-tap-highlight-color: rgba(0\
 , 0\, 0\, 0)\; text-size-adjust: 100%\; line-height: 1.38\;"><font color="
 #222222" face="Arial"><span style="font-size: 14.6667px\; caret-color: rgb
 (51\, 51\, 51)\;"><b>y 11 artistas en escena.</b></span></font></p><p dir=
 "ltr" style="margin: 0pt 0px\; text-align: center\; -webkit-tap-highlight-
 color: rgba(0\, 0\, 0\, 0)\; text-size-adjust: 100%\; line-height: 1.38\;"
 ><font color="#222222" face="Arial"><span style="font-size: 14.6667px\; ca
 ret-color: rgb(51\, 51\, 51)\;"><b>Diversos personajes vivirán una pasion
 al e intensa experiencia al entrar a un hotel.</b></span></font></p><p dir
 ="ltr" style="margin: 0pt 0px\; text-align: center\; -webkit-tap-highlight
 -color: rgba(0\, 0\, 0\, 0)\; text-size-adjust: 100%\; line-height: 1.38\;
 "><font color="#222222" face="Arial"><span style="font-size: 14.6667px\; c
 aret-color: rgb(51\, 51\, 51)\;"><b>Cada habitación propone un ambiente i
 nvadido de sensualidad\, oscuridad\, tentaciones</b></span></font></p><p d
 ir="ltr" style="margin: 0pt 0px\; text-align: center\; -webkit-tap-highlig
 ht-color: rgba(0\, 0\, 0\, 0)\; text-size-adjust: 100%\; line-height: 1.38
 \;"><font color="#222222" face="Arial"><span style="font-size: 14.6667px\;
  caret-color: rgb(51\, 51\, 51)\;"><b>y amor\, invitando a sus huéspedes 
 a dejarse llevar y vivir un libertinaje sensorial que</b></span></font></p
 ><p dir="ltr" style="margin: 0pt 0px\; text-align: center\; -webkit-tap-hi
 ghlight-color: rgba(0\, 0\, 0\, 0)\; text-size-adjust: 100%\; line-height:
  1.38\;"><font color="#222222" face="Arial"><span style="font-size: 14.666
 7px\; caret-color: rgb(51\, 51\, 51)\;"><b>terminará devorándolos para s
 iempre. Los espectadores serán testigos como</b></span></font></p><p dir=
 "ltr" style="margin: 0pt 0px\; text-align: center\; -webkit-tap-highlight-
 color: rgba(0\, 0\, 0\, 0)\; text-size-adjust: 100%\; line-height: 1.38\;"
 ><font color="#222222" face="Arial"><span style="font-size: 14.6667px\; ca
 ret-color: rgb(51\, 51\, 51)\;"><b>voyeristas\, de cada "ilusión"</b></sp
 an></font></p><p dir="ltr" style="margin: 0pt 0px\; text-align: center\; -
 webkit-tap-highlight-color: rgba(0\, 0\, 0\, 0)\; text-size-adjust: 100%\;
  line-height: 1.38\;"><font color="#222222" face="Arial"><span style="font
 -size: 14.6667px\; caret-color: rgb(51\, 51\, 51)\;"><b>Serás captado tam
 bién por Bloody?</b></span></font></p><p dir="ltr" style="margin: 0pt 0px
 \; text-align: center\; -webkit-tap-highlight-color: rgba(0\, 0\, 0\, 0)\;
  text-size-adjust: 100%\; line-height: 1.38\;"><font color="#222222" face=
 "Arial"><b><span style="font-variant-numeric: normal\; font-variant-east-a
 sian: normal\; vertical-align: baseline\; font-size: 14.6667px\; caret-col
 or: rgb(51\, 51\, 51)\;"></span></b></font></p><p dir="ltr" style="margin:
  0pt 0px\; text-align: center\; -webkit-tap-highlight-color: rgba(0\, 0\, 
 0\, 0)\; text-size-adjust: 100%\; line-height: 1.38\;"><font color="#22222
 2" face="Arial"><span style="font-size: 14.6667px\; caret-color: rgb(51\, 
 51\, 51)\;"><b>Dependerá de lo que escondas en tus fantasías...</b></spa
 n></font></p><p dir="ltr" style="margin: 0pt 0px\; text-align: center\; -w
 ebkit-tap-highlight-color: rgba(0\, 0\, 0\, 0)\; text-size-adjust: 100%\; 
 line-height: 1.38\;"><font color="#222222" face="Arial"><span style="font-
 size: 14.6667px\; caret-color: rgb(51\, 51\, 51)\;"><span style="font-weig
 ht: bolder\;"><br></span></span></font></p><p dir="ltr" style="margin: 0pt
  0px\; text-align: center\; line-height: 1.38\;"><font face="Abel\, sans-s
 erif" color="#9c9c94"><span style="font-size: 12px\;">PROMO BANCO PROVINCI
 A CONDICIONES:&nbsp\;<a href="https://tr.ee/89uSGj" target="_blank">https:
 //tr.ee/89uSGj</a></span></font></p><p dir="ltr" style="margin: 0pt 0px\; 
 text-align: center\; line-height: 1.38\;"><br style="font-family: Abel\, s
 ans-serif\;"></p>
END:VEVENT
END:VCALENDAR
