BEGIN:VCALENDAR
VERSION:2.0
PRODID:-//My Calendar//mxm.dk//
BEGIN:VEVENT
SUMMARY:LOS ANGELES DE CHARLY EN SKYLAB TIGRE
DTSTART:20260418T025900Z
DTEND:20260418T110000Z
DTSTAMP:20260421T064445Z
DESCRIPTION:<p dir="ltr" style="margin: 0pt 0px\; text-align: center\; lin
 e-height: 1.656\;"><font color="#201f1e" face="Arial"><span style="font-si
 ze: 15.3333px\; white-space-collapse: preserve\;"><span style="font-size: 
 24px\;"><u style=""><b>LOS ANGELES DE CHARLY\nEN SKYLAB TIGRE</b></u></spa
 n></span></font></p><div style="text-align: center\;"><br></div><div style
 ="text-align: center\;"><br style="color: rgb(34\, 34\, 34)\; font-family:
  Arial\, Helvetica\, sans-serif\; font-size: small\;"></div><p dir="ltr" s
 tyle="margin: 0pt 0px\; color: rgb(51\, 51\, 51)\; font-family: Abel\, san
 s-serif\; font-size: 14px\; text-align: center\; line-height: 1.656\;"><fo
 nt face="Arial"><span style="white-space-collapse: preserve\;">\n</span></
 font><a href="http://www.articket.com.ar/" style="color: rgb(51\, 122\, 18
 3)\; text-decoration-line: underline\; background-color: rgb(255\, 255\, 2
 55)\;"><span style="font-size: 11.5pt\; font-family: Arial\; color: rgb(17
 \, 85\, 204)\; font-variant-numeric: normal\; font-variant-east-asian: nor
 mal\; text-decoration-skip-ink: none\; vertical-align: baseline\;">www.art
 icket.com.ar</span></a><font face="Arial"><span style="white-space-collaps
 e: preserve\;"><br></span></font></p><p><span style="font-weight: bolder\;
 "><br style="color: rgb(51\, 51\, 51)\; font-family: Abel\, sans-serif\; f
 ont-size: 14px\; text-align: center\;"></span></p><p dir="ltr" style="marg
 in: 0pt 0px\; color: rgb(51\, 51\, 51)\; font-family: Abel\, sans-serif\; 
 font-size: 14px\; text-align: center\; line-height: 1.38\;"><span style="f
 ont-size: 11pt\; font-family: Arial\; color: rgb(34\, 34\, 34)\; font-vari
 ant-numeric: normal\; font-variant-east-asian: normal\; vertical-align: ba
 seline\; white-space-collapse: preserve\;"><span style="font-weight: bolde
 r\;">APTO MAYORES 18 AÑOS</span></span></p><p dir="ltr" style="margin: 0p
 t 0px\; color: rgb(51\, 51\, 51)\; font-family: Abel\, sans-serif\; font-s
 ize: 14px\; text-align: center\; line-height: 1.38\;"><br></p>
END:VEVENT
END:VCALENDAR
