BEGIN:VCALENDAR
VERSION:2.0
PRODID:-//My Calendar//mxm.dk//
BEGIN:VEVENT
SUMMARY:TERCER ENCUENTRO DE DANZAS ÁRABES DE LA SOCIEDAD LIBANESA DE OLAV
 ARRIA
DTSTART:20260627T230000Z
DTEND:20260628T020000Z
DTSTAMP:20260423T142719Z
DESCRIPTION:<div style="text-align: center\;"><font color="#1f1f1f" face="
 Google Sans\, Roboto\, RobotoDraft\, Helvetica\, Arial\, sans-serif"><span
  style="font-size: 36px\; font-variant-ligatures: no-contextual\;"><u styl
 e=""><b>TERCER ENCUENTRO DE DANZAS ÁRABES DE LA SOCIEDAD LIBANESA DE OLAV
 ARRIA</b></u></span></font></div><p dir="ltr" style="margin: 0pt 0px\; tex
 t-align: center\; -webkit-tap-highlight-color: rgba(0\, 0\, 0\, 0)\; text-
 size-adjust: 100%\; line-height: 1.656\;"><br></p><p dir="ltr" style="marg
 in: 0pt 0px\; text-align: center\; -webkit-tap-highlight-color: rgba(0\, 0
 \, 0\, 0)\; text-size-adjust: 100%\; line-height: 1.656\;"><font color="#2
 01f1e" face="Arial"><span style="font-size: 15.3333px\; caret-color: rgb(5
 1\, 51\, 51)\;">Cultura\, inclusión y más de 100 artistas en un mismo es
 cenario</span></font></p><p dir="ltr" style="margin: 0pt 0px\; text-align:
  center\; -webkit-tap-highlight-color: rgba(0\, 0\, 0\, 0)\; text-size-adj
 ust: 100%\; line-height: 1.656\;"><font color="#201f1e" face="Arial"><span
  style="font-size: 15.3333px\; caret-color: rgb(51\, 51\, 51)\;">El próxi
 mo 27 de junio del corriente año se llevará a cabo el Tercer Encuentro d
 e&nbsp\;</span></font><span style="font-size: 15.3333px\; caret-color: rgb
 (51\, 51\, 51)\; color: rgb(32\, 31\, 30)\; font-family: Arial\;">Danzas 
 Árabes\, una propuesta cultural y social que\, por tercer año consecutiv
 o\, reunirá</span></p><p dir="ltr" style="margin: 0pt 0px\; text-align: c
 enter\; -webkit-tap-highlight-color: rgba(0\, 0\, 0\, 0)\; text-size-adjus
 t: 100%\; line-height: 1.656\;"><font color="#201f1e" face="Arial"><span s
 tyle="font-size: 15.3333px\; caret-color: rgb(51\, 51\, 51)\;">a más de 1
 00 bailarinas y bailarines en un mismo escenario\, compartiendo la magia\,
  la&nbsp\;</span></font><span style="font-size: 15.3333px\; caret-color: r
 gb(51\, 51\, 51)\; color: rgb(32\, 31\, 30)\; font-family: Arial\;">energ
 ía y la belleza de la danza en una noche que promete ser inolvidable.</sp
 an></p><p dir="ltr" style="margin: 0pt 0px\; text-align: center\; -webkit-
 tap-highlight-color: rgba(0\, 0\, 0\, 0)\; text-size-adjust: 100%\; line-h
 eight: 1.656\;"><font color="#201f1e" face="Arial"><span style="font-size:
  15.3333px\; caret-color: rgb(51\, 51\, 51)\;">El evento estará a cargo d
 e la Prof. Sara Abdala\, miembro de la Sociedad Libanesa de</span></font><
 /p><p dir="ltr" style="margin: 0pt 0px\; text-align: center\; -webkit-tap-
 highlight-color: rgba(0\, 0\, 0\, 0)\; text-size-adjust: 100%\; line-heigh
 t: 1.656\;"><font color="#201f1e" face="Arial"><span style="font-size: 15.
 3333px\; caret-color: rgb(51\, 51\, 51)\;">Olavarría\, institución organ
 izadora del encuentro\, quien impulsa este espacio con un&nbsp\;</span></f
 ont><span style="font-size: 15.3333px\; caret-color: rgb(51\, 51\, 51)\; c
 olor: rgb(32\, 31\, 30)\; font-family: Arial\;">fuerte compromiso con la c
 ultura\, la integración y la formación artística.</span></p><p dir="ltr
 " style="margin: 0pt 0px\; text-align: center\; -webkit-tap-highlight-colo
 r: rgba(0\, 0\, 0\, 0)\; text-size-adjust: 100%\; line-height: 1.656\;"><f
 ont color="#201f1e" face="Arial"><span style="font-size: 15.3333px\; caret
 -color: rgb(51\, 51\, 51)\;">Esta iniciativa no solo pone en valor la riqu
 eza de las danzas árabes como expresión&nbsp\;</span></font><span style=
 "font-size: 15.3333px\; caret-color: rgb(51\, 51\, 51)\; color: rgb(32\, 3
 1\, 30)\; font-family: Arial\;">artística y patrimonio cultural\, sino qu
 e también posee un profundo sentido social:</span></p><p dir="ltr" style=
 "margin: 0pt 0px\; text-align: center\; -webkit-tap-highlight-color: rgba(
 0\, 0\, 0\, 0)\; text-size-adjust: 100%\; line-height: 1.656\;"><font colo
 r="#201f1e" face="Arial"><span style="font-size: 15.3333px\; caret-color: 
 rgb(51\, 51\, 51)\;">brindar la oportunidad de que muchas personas que nun
 ca han vivido la experiencia</span></font></p><p dir="ltr" style="margin: 
 0pt 0px\; text-align: center\; -webkit-tap-highlight-color: rgba(0\, 0\, 0
 \, 0)\; text-size-adjust: 100%\; line-height: 1.656\;"><font color="#201f1
 e" face="Arial"><span style="font-size: 15.3333px\; caret-color: rgb(51\, 
 51\, 51)\;">de un teatro puedan hacerlo\, teniendo esa noche su momento de
  brillo bajo las luces&nbsp\;</span></font><span style="font-size: 15.3333
 px\; caret-color: rgb(51\, 51\, 51)\; color: rgb(32\, 31\, 30)\; font-fami
 ly: Arial\;">del escenario.&nbsp\;</span><span style="font-size: 15.3333px
 \; caret-color: rgb(51\, 51\, 51)\; color: rgb(32\, 31\, 30)\; font-family
 : Arial\;">El Encuentro ha recibido el reconocimiento del Honorable Concej
 o Deliberante\,</span></p><p dir="ltr" style="margin: 0pt 0px\; text-align
 : center\; -webkit-tap-highlight-color: rgba(0\, 0\, 0\, 0)\; text-size-ad
 just: 100%\; line-height: 1.656\;"><font color="#201f1e" face="Arial"><spa
 n style="font-size: 15.3333px\; caret-color: rgb(51\, 51\, 51)\;">distinci
 ón que destaca su aporte al desarrollo cultural y comunitario de la ciuda
 d y la&nbsp\;</span></font><font color="#201f1e" face="Arial" style="font-
 size: 1rem\;"><span style="font-size: 15.3333px\; caret-color: rgb(51\, 51
 \, 51)\;">región\, reafirmando la importancia de sostener y promover espa
 cios artísticos&nbsp\;</span></font><span style="font-size: 15.3333px\; c
 aret-color: rgb(51\, 51\, 51)\; color: rgb(32\, 31\, 30)\; font-family: Ar
 ial\;">inclusivos.</span></p><p dir="ltr" style="margin: 0pt 0px\; text-al
 ign: center\; -webkit-tap-highlight-color: rgba(0\, 0\, 0\, 0)\; text-size
 -adjust: 100%\; line-height: 1.656\;"><font color="#201f1e" face="Arial"><
 span style="font-size: 15.3333px\; caret-color: rgb(51\, 51\, 51)\;">El ci
 erre estará a cargo de una escuela invitada\, que coronará la velada con
  una</span></font></p><p dir="ltr" style="margin: 0pt 0px\; text-align: ce
 nter\; -webkit-tap-highlight-color: rgba(0\, 0\, 0\, 0)\; text-size-adjust
 : 100%\; line-height: 1.656\;"><font color="#201f1e" face="Arial"><span st
 yle="font-size: 15.3333px\; caret-color: rgb(51\, 51\, 51)\;">presentació
 n especial\, aportando excelencia y emoción a una jornada pensada para el
 &nbsp\;</span></font><span style="font-size: 15.3333px\; caret-color: rgb(
 51\, 51\, 51)\; color: rgb(32\, 31\, 30)\; font-family: Arial\;">disfrute 
 de toda la familia.</span></p><p dir="ltr" style="margin: 0pt 0px\; text-a
 lign: center\; -webkit-tap-highlight-color: rgba(0\, 0\, 0\, 0)\; text-siz
 e-adjust: 100%\; line-height: 1.656\;"><font color="#201f1e" face="Arial">
 <span style="font-size: 15.3333px\; caret-color: rgb(51\, 51\, 51)\;">El T
 ercer Encuentro de Danzas Árabes es mucho más que un espectáculo: es un
 a&nbsp\;</span></font><span style="font-size: 15.3333px\; caret-color: rgb
 (51\, 51\, 51)\; color: rgb(32\, 31\, 30)\; font-family: Arial\;">celebrac
 ión del arte\, la identidad y la comunidad.</span></p><p dir="ltr" style=
 "margin: 0pt 0px\; text-align: center\; -webkit-tap-highlight-color: rgba(
 0\, 0\, 0\, 0)\; text-size-adjust: 100%\; line-height: 1.656\;"><font colo
 r="#201f1e" face="Arial"><span style="font-size: 15.3333px\; caret-color: 
 rgb(51\, 51\, 51)\;">Próximamente se brindarán más detalles.</span></fo
 nt></p><p dir="ltr" style="margin: 0pt 0px\; font-family: Abel\, sans-seri
 f\; text-align: center\; color: rgb(51\, 51\, 51)\; font-size: 14px\; care
 t-color: rgb(51\, 51\, 51)\; -webkit-tap-highlight-color: rgba(0\, 0\, 0\,
  0)\; text-size-adjust: 100%\; line-height: 1.656\;"><span style="font-siz
 e: 11.5pt\; font-family: Arial\; color: rgb(32\, 31\, 30)\; font-variant-n
 umeric: normal\; font-variant-east-asian: normal\; vertical-align: baselin
 e\;"><br></span></p><p dir="ltr" style="margin: 0pt 0px\; font-family: Abe
 l\, sans-serif\; text-align: center\; color: rgb(51\, 51\, 51)\; font-size
 : 14px\; caret-color: rgb(51\, 51\, 51)\; -webkit-tap-highlight-color: rgb
 a(0\, 0\, 0\, 0)\; text-size-adjust: 100%\; line-height: 1.656\;"><span st
 yle="font-size: 11.5pt\; font-family: Arial\; color: rgb(32\, 31\, 30)\; f
 ont-variant-numeric: normal\; font-variant-east-asian: normal\; vertical-a
 lign: baseline\;">Entradas anticipadas:<br><br></span></p><p dir="ltr" sty
 le="margin: 0pt 0px\; font-family: Abel\, sans-serif\; text-align: center\
 ; color: rgb(51\, 51\, 51)\; font-size: 14px\; caret-color: rgb(51\, 51\, 
 51)\; -webkit-tap-highlight-color: rgba(0\, 0\, 0\, 0)\; text-size-adjust:
  100%\; line-height: 1.656\;"><u style="color: rgb(34\, 34\, 34)\; font-fa
 mily: Arial\; font-size: 14.6667px\;">POR SISTEMA:<br></u><span style="fon
 t-weight: 700\; color: rgb(34\, 34\, 34)\; font-family: Arial\; font-size:
  11pt\;">(Todos los medios de pago)</span></p><p dir="ltr" style="margin: 
 0pt 0px\; font-family: Abel\, sans-serif\; text-align: center\; color: rgb
 (51\, 51\, 51)\; font-size: 14px\; caret-color: rgb(51\, 51\, 51)\; -webki
 t-tap-highlight-color: rgba(0\, 0\, 0\, 0)\; text-size-adjust: 100%\; line
 -height: 1.656\;"><span style="font-weight: 700\; color: rgb(34\, 34\, 34)
 \; font-family: Arial\; font-size: 11pt\;"><br></span></p><p dir="ltr" sty
 le="margin: 0pt 0px\; font-family: Abel\, sans-serif\; text-align: center\
 ; color: rgb(51\, 51\, 51)\; font-size: 14px\; caret-color: rgb(51\, 51\, 
 51)\; -webkit-tap-highlight-color: rgba(0\, 0\, 0\, 0)\; text-size-adjust:
  100%\; line-height: 1.656\;"><font color="#222222" face="Arial"><span sty
 le="font-size: 14.6667px\;"><u>Efectivo en:</u></span></font></p><p dir="l
 tr" style="margin: 0pt 0px\; font-family: Abel\, sans-serif\; text-align: 
 center\; color: rgb(51\, 51\, 51)\; font-size: 14px\; caret-color: rgb(51\
 , 51\, 51)\; -webkit-tap-highlight-color: rgba(0\, 0\, 0\, 0)\; text-size-
 adjust: 100%\; line-height: 1.656\;"><span style="font-size: 11.5pt\; font
 -family: Arial\; color: rgb(32\, 31\, 30)\; font-weight: 700\; font-varian
 t-numeric: normal\; font-variant-east-asian: normal\; vertical-align: base
 line\;">TecnoCentro:</span><span style="font-size: 11.5pt\; font-family: A
 rial\; color: rgb(32\, 31\, 30)\; font-variant-numeric: normal\; font-vari
 ant-east-asian: normal\; vertical-align: baseline\;">&nbsp\;Rivadavia 3065
  -&nbsp\;<span style="font-weight: 700\;">Olavarria</span></span></p><div 
 style="text-align: center\; -webkit-tap-highlight-color: rgba(0\, 0\, 0\, 
 0)\; text-size-adjust: 100%\; font-family: Arial\, Helvetica\, sans-serif\
 ; font-size: small\; color: rgb(33\, 33\, 33)\;"><i><br></i></div><p dir="
 ltr" style="margin: 0pt 0px\; font-family: Abel\, sans-serif\; text-align:
  center\; color: rgb(51\, 51\, 51)\; font-size: 14px\; caret-color: rgb(51
 \, 51\, 51)\; -webkit-tap-highlight-color: rgba(0\, 0\, 0\, 0)\; text-size
 -adjust: 100%\; line-height: 1.656\;"><span style="font-size: 11pt\; font-
 family: Arial\; color: rgb(34\, 34\, 34)\; font-variant-numeric: normal\; 
 font-variant-east-asian: normal\; vertical-align: baseline\;"><span style=
 "font-weight: 700\;"><u>Entradas de Discapacidad</u></span></span></p><p d
 ir="ltr" style="margin: 0pt 0px\; font-family: Abel\, sans-serif\; text-al
 ign: center\; color: rgb(51\, 51\, 51)\; font-size: 14px\; caret-color: rg
 b(51\, 51\, 51)\; -webkit-tap-highlight-color: rgba(0\, 0\, 0\, 0)\; text-
 size-adjust: 100%\; line-height: 1.656\;"><span style="font-size: 11pt\; f
 ont-family: Arial\; color: rgb(34\, 34\, 34)\; font-variant-numeric: norma
 l\; font-variant-east-asian: normal\; vertical-align: baseline\;"></span><
 /p><p dir="ltr" style="margin: 0pt 0px\; font-family: Abel\, sans-serif\; 
 text-align: center\; color: rgb(51\, 51\, 51)\; font-size: 14px\; line-hei
 ght: 1.656\;"><span style="font-size: 11pt\; font-family: Arial\; color: r
 gb(34\, 34\, 34)\; font-variant-numeric: normal\; font-variant-east-asian:
  normal\; vertical-align: baseline\;">Para solicitar entradas de discapaci
 dad por favor&nbsp\;dirigirse a la&nbsp\;<span style="font-weight: bolder\
 ;">Boletería del Teatro</span>&nbsp\;de&nbsp\;<span style="font-weight: b
 older\;">Lunes a viernes de 8:30 a 16hs.</span></span></p><p style="margin
 : 0pt 0px\; text-align: center\; color: rgb(34\, 34\, 34)\; font-family: A
 rial\, Helvetica\, sans-serif\; font-size: small\; line-height: 1.656\;"><
 font face="Arial" color="#ffffff"><span style="font-size: 14.6667px\; back
 ground-color: rgb(103\, 78\, 167)\;"><span style="font-weight: bolder\;">L
 as entradas se podrán&nbsp\;solicitar a partir del 1er día hábil del me
 s corriente del evento.</span></span></font></p><p dir="ltr" style="margin
 : 0pt 0px\; font-family: Abel\, sans-serif\; text-align: center\; color: r
 gb(51\, 51\, 51)\; font-size: 14px\; caret-color: rgb(51\, 51\, 51)\; -web
 kit-tap-highlight-color: rgba(0\, 0\, 0\, 0)\; text-size-adjust: 100%\; li
 ne-height: 1.656\;"><span style="font-size: 11pt\; font-family: Arial\; co
 lor: rgb(34\, 34\, 34)\; font-variant-numeric: normal\; font-variant-east-
 asian: normal\; vertical-align: baseline\;"><br></span></p><p dir="ltr" st
 yle="margin: 0pt 0px\; font-family: Abel\, sans-serif\; text-align: center
 \; color: rgb(51\, 51\, 51)\; font-size: 14px\; caret-color: rgb(51\, 51\,
  51)\; -webkit-tap-highlight-color: rgba(0\, 0\, 0\, 0)\; text-size-adjust
 : 100%\; line-height: 1.38\;"><a href="http://www.articket.com.ar/" style=
 "color: rgb(51\, 122\, 183)\;"><span style="font-size: 11.5pt\; font-famil
 y: Arial\; color: rgb(17\, 85\, 204)\; font-variant-numeric: normal\; font
 -variant-east-asian: normal\; text-decoration-line: underline\; text-decor
 ation-skip-ink: none\; vertical-align: baseline\;">www.articket.com.ar</sp
 an></a></p><p style="font-family: Abel\, sans-serif\; text-align: center\;
 "><br style="color: rgb(51\, 51\, 51)\; font-size: 14px\; caret-color: rgb
 (51\, 51\, 51)\; -webkit-tap-highlight-color: rgba(0\, 0\, 0\, 0)\; text-s
 ize-adjust: 100%\;"></p><p dir="ltr" style="margin: 0pt 0px\; font-family:
  Abel\, sans-serif\; text-align: center\; color: rgb(51\, 51\, 51)\; font-
 size: 14px\; caret-color: rgb(51\, 51\, 51)\; -webkit-tap-highlight-color:
  rgba(0\, 0\, 0\, 0)\; text-size-adjust: 100%\; line-height: 1.38\;"><span
  style="font-size: 11pt\; font-family: Arial\; color: rgb(34\, 34\, 34)\; 
 font-weight: 700\; font-variant-numeric: normal\; font-variant-east-asian:
  normal\; vertical-align: baseline\;">APTO TODO PUBLICO</span></p><p dir="
 ltr" style="margin: 0pt 0px\; text-align: center\; -webkit-tap-highlight-c
 olor: rgba(0\, 0\, 0\, 0)\; text-size-adjust: 100%\; line-height: 1.38\;">
 <font color="#222222" face="Arial"><span style="font-size: 14.6667px\; car
 et-color: rgb(51\, 51\, 51)\;"><span style="font-weight: bolder\;"><br></s
 pan></span></font></p><p dir="ltr" style="margin: 0pt 0px\; text-align: ce
 nter\; line-height: 1.38\;"><font face="Abel\, sans-serif" color="#9c9c94"
 ><span style="font-size: 12px\;">PROMO BANCO PROVINCIA CONDICIONES:&nbsp\;
 <a href="https://tr.ee/89uSGj" target="_blank">https://tr.ee/89uSGj</a></s
 pan></font></p><p dir="ltr" style="margin: 0pt 0px\; text-align: center\; 
 line-height: 1.38\;"><br style="font-family: Abel\, sans-serif\;"></p>
END:VEVENT
END:VCALENDAR
