BEGIN:VCALENDAR
VERSION:2.0
PRODID:-//My Calendar//mxm.dk//
BEGIN:VEVENT
SUMMARY:LA KERMESSE EN MDP
DTSTART:20260607T000000Z
DTEND:20260607T025500Z
DTSTAMP:20260420T193800Z
DESCRIPTION:<p style="margin: 0pt 0px\; text-align: center\; text-size-adj
 ust: 100%\; line-height: 1.656\;"><font color="#201f1e" face="Arial"><span
  style="font-size: 24px\;"><b><u>LA KERMESSE</u></b></span></font></p><p s
 tyle="margin: 0pt 0px\; text-align: center\; text-size-adjust: 100%\; line
 -height: 1.656\;"><font color="#201f1e" face="Arial"><span style="font-siz
 e: 24px\;"><b><u>EN LA PLAZA DE LA MÚSICA</u></b></span></font></p><p dir
 ="ltr" style="margin: 0pt 0px\; font-family: Abel\, sans-serif\; text-alig
 n: center\; text-size-adjust: 100%\; color: rgb(51\, 51\, 51)\; font-size:
  14px\; line-height: 1.656\;"><font color="#201f1e" face="Arial"><span sty
 le="font-size: 15.3333px\;"><span style="font-weight: 700\; text-decoratio
 n-line: underline\;"><br></span></span></font></p><p dir="ltr" style="marg
 in: 0pt 0px\; font-family: Abel\, sans-serif\; text-align: center\; text-s
 ize-adjust: 100%\; color: rgb(51\, 51\, 51)\; font-size: 14px\; line-heigh
 t: 1.656\;"><font color="#201f1e" face="Arial"><span style="font-size: 15.
 3333px\;"><u style="font-weight: 700\;"></u></span></font></p><p dir="ltr"
  style="margin: 0pt 0px\; font-family: Abel\, sans-serif\; text-align: cen
 ter\; text-size-adjust: 100%\; color: rgb(51\, 51\, 51)\; font-size: 14px\
 ; line-height: 1.656\;"><span style="color: rgb(32\, 31\, 30)\; font-famil
 y: Arial\; font-size: 11.5pt\;">Entradas anticipadas limitadas en efectivo
 :</span></p><p dir="ltr" style="margin: 0pt 0px\; font-family: Abel\, sans
 -serif\; text-align: center\; text-size-adjust: 100%\; color: rgb(51\, 51\
 , 51)\; font-size: 14px\; line-height: 1.656\;"><span style="font-size: 11
 pt\; font-family: Arial\; color: rgb(34\, 34\, 34)\; font-variant-numeric:
  normal\; font-variant-east-asian: normal\; vertical-align: baseline\;">&n
 bsp\;</span></p><p dir="ltr" style="margin: 0pt 0px\; font-family: Abel\, 
 sans-serif\; text-align: center\; text-size-adjust: 100%\; color: rgb(51\,
  51\, 51)\; font-size: 14px\; line-height: 1.656\;"><span style="font-size
 : 11.5pt\; font-family: Arial\; color: rgb(32\, 31\, 30)\; font-weight: 70
 0\; font-variant-numeric: normal\; font-variant-east-asian: normal\; verti
 cal-align: baseline\;">La Casa de las Guitarras:</span><span style="font-s
 ize: 11.5pt\; font-family: Arial\; color: rgb(32\, 31\, 30)\; font-variant
 -numeric: normal\; font-variant-east-asian: normal\; vertical-align: basel
 ine\;">&nbsp\;Belgrano 3420 - Mar del Plata</span></p><p dir="ltr" style="
 margin: 0pt 0px\; font-family: Abel\, sans-serif\; text-align: center\; co
 lor: rgb(51\, 51\, 51)\; font-size: 14px\; line-height: 1.656\;"><span sty
 le="font-size: 11.5pt\; font-family: Arial\; color: rgb(32\, 31\, 30)\; ba
 ckground-color: transparent\; font-variant-numeric: normal\; font-variant-
 east-asian: normal\; vertical-align: baseline\; white-space-collapse: pres
 erve\;"><span style="font-weight: bolder\;">FAVA Casa Central:</span></spa
 n><span style="font-size: 11.5pt\; font-family: Arial\; color: rgb(32\, 31
 \, 30)\; background-color: transparent\; font-weight: 700\; font-variant-n
 umeric: normal\; font-variant-east-asian: normal\; vertical-align: baselin
 e\; white-space-collapse: preserve\;"> </span><span style="font-size: 11.5
 pt\; font-family: Arial\; color: rgb(32\, 31\, 30)\; background-color: tra
 nsparent\; font-variant-numeric: normal\; font-variant-east-asian: normal\
 ; vertical-align: baseline\; white-space-collapse: preserve\;">Av. Pedro L
 uro 3247 - Mar del Plata</span></p><p dir="ltr" style="margin: 0pt 0px\; t
 ext-align: center\; line-height: 1.656\;"><span style="background-color: t
 ransparent\; font-variant-numeric: normal\; font-variant-east-asian: norma
 l\; vertical-align: baseline\; font-size: 15.3333px\; white-space-collapse
 : preserve\;"><font color="#201f1e" face="Arial"><b> ADN Store: </b>Calle 
 61 N° 2813 - Necochea.\n</font></span><span style="color: rgb(32\, 31\, 3
 0)\; font-family: Arial\; font-size: 11.5pt\; background-color: transparen
 t\; font-variant-numeric: normal\; font-variant-east-asian: normal\; verti
 cal-align: baseline\; white-space-collapse: preserve\;">\n</span></p><div 
 style="text-align: center\;"><span style="font-variant-numeric: normal\; f
 ont-variant-east-asian: normal\; vertical-align: baseline\; font-size: 15.
 3333px\; caret-color: rgb(51\, 51\, 51)\;"><font color="#201f1e" face="Ari
 al"><br></font></span></div><div style="font-family: Abel\, sans-serif\; t
 ext-align: center\;"><span style="caret-color: rgb(51\, 51\, 51)\; font-si
 ze: 11.5pt\; font-family: Arial\; color: rgb(32\, 31\, 30)\; font-variant-
 numeric: normal\; font-variant-east-asian: normal\; vertical-align: baseli
 ne\;"><span style="font-weight: 700\;"><br></span></span></div><p dir="ltr
 " style="margin: 0pt 0px\; font-family: Abel\, sans-serif\; text-align: ce
 nter\; text-size-adjust: 100%\; color: rgb(51\, 51\, 51)\; font-size: 14px
 \; line-height: 1.38\;"><a href="http://www.articket.com.ar/" style="color
 : rgb(51\, 122\, 183)\;"><span style="font-size: 11.5pt\; font-family: Ari
 al\; color: rgb(17\, 85\, 204)\; font-variant-numeric: normal\; font-varia
 nt-east-asian: normal\; text-decoration-line: underline\; text-decoration-
 skip-ink: none\; vertical-align: baseline\;">www.articket.com.ar</span></a
 ></p><p class="MsoNormal" style="margin-right: 0px\; margin-bottom: 10pt\;
  margin-left: 0px\; text-align: center\; text-size-adjust: 100%\; color: r
 gb(34\, 34\, 34)\; font-family: Arial\, Helvetica\, sans-serif\; font-size
 : small\; line-height: 14.95px\;"><span style="font-family: Calibri\, sans
 -serif\;"><br></span></p><p class="MsoNormal" style="margin-right: 0px\; m
 argin-bottom: 10pt\; margin-left: 0px\; text-align: center\; text-size-adj
 ust: 100%\; color: rgb(34\, 34\, 34)\; font-family: Arial\, Helvetica\, sa
 ns-serif\; font-size: small\; line-height: 14.95px\;"><span style="font-fa
 mily: Calibri\, sans-serif\;"><span style="font-weight: 700\; font-family:
  Arial\; font-size: 14.6667px\;">EVENTO APTO TODO PUBLICO</span></span></p
 ><p class="MsoNormal" style="margin-right: 0px\; margin-bottom: 10pt\; mar
 gin-left: 0px\; text-align: center\; text-size-adjust: 100%\; color: rgb(3
 4\, 34\, 34)\; font-family: Arial\, Helvetica\, sans-serif\; font-size: sm
 all\; line-height: 14.95px\;"><span style="font-family: Calibri\, sans-ser
 if\;"><span style="font-weight: 700\; font-family: Arial\; font-size: 14.6
 667px\;">Asistir con el HardTicket en mano o el QR descargado en el celula
 r.<br>No se aceptan cambios ni devoluciones.</span></span></p><p class="Ms
 oNormal" style="margin-right: 0px\; margin-bottom: 10pt\; margin-left: 0px
 \; text-align: center\; text-size-adjust: 100%\; color: rgb(34\, 34\, 34)\
 ; font-family: Arial\, Helvetica\, sans-serif\; font-size: small\; line-he
 ight: 14.95px\;"><span style="font-family: Calibri\, sans-serif\;"><span s
 tyle="font-weight: 700\; font-family: Arial\; font-size: 14.6667px\;"><br>
 </span></span></p><p class="MsoNormal" style="margin-right: 0px\; margin-b
 ottom: 10pt\; margin-left: 0px\; text-align: center\; text-size-adjust: 10
 0%\; color: rgb(34\, 34\, 34)\; font-family: Arial\, Helvetica\, sans-seri
 f\; font-size: small\; line-height: 14.95px\;"><span style="font-family: C
 alibri\, sans-serif\;"><span style="font-weight: 700\; font-family: Arial\
 ; font-size: 14.6667px\;">---</span></span></p><p class="MsoNormal" style=
 "margin-right: 0px\; margin-bottom: 10pt\; margin-left: 0px\; text-align: 
 center\; text-size-adjust: 100%\; color: rgb(34\, 34\, 34)\; font-family: 
 Arial\, Helvetica\, sans-serif\; font-size: small\; line-height: 14.95px\;
 "><span style="font-family: Calibri\, sans-serif\;"><span style="font-weig
 ht: 700\; font-family: Arial\; font-size: 14.6667px\;"><br></span></span><
 /p><p class="MsoNormal" style="margin-right: 0px\; margin-bottom: 10pt\; m
 argin-left: 0px\; text-align: center\; text-size-adjust: 100%\; line-heigh
 t: 14.95px\;"><font color="#222222" face="Arial"><span style="font-size: 1
 4.6667px\;"><b>Una Celebración del Espíritu Redondo:</b></span></font></
 p><p class="MsoNormal" style="margin-right: 0px\; margin-bottom: 10pt\; ma
 rgin-left: 0px\; text-align: center\; text-size-adjust: 100%\; line-height
 : 14.95px\;"><font color="#222222" face="Arial"><span style="font-size: 14
 .6667px\;"><b><br></b></span></font></p><p class="MsoNormal" style="margin
 -right: 0px\; margin-bottom: 10pt\; margin-left: 0px\; text-align: center\
 ; text-size-adjust: 100%\; line-height: 14.95px\;"></p><p class="MsoNormal
 " style="margin-right: 0px\; margin-bottom: 10pt\; margin-left: 0px\; text
 -align: center\; text-size-adjust: 100%\; line-height: 14.95px\;"><font co
 lor="#222222" face="Arial"><span style="font-size: 14.6667px\;"><b>De la m
 ano de Los Decoradores -banda conformada por los históricos integrantes d
 e Patricio Rey y sus Redonditos de Ricota “Semilla” Bucciarelli\, Serg
 io Dawi\, Tito Fargo y Hernán Aramberri-\, y tras 10 años llenos de show
 s memorables en diferentes ciudades de Argentina y Uruguay\, La Kermesse v
 uelve a Mar del Plata una vez más con la experiencia musical que hace pre
 sente y mantiene viva la inextinguible llama que ya abrazó a varias gener
 aciones.</b></span></font></p><p class="MsoNormal" style="margin-right: 0p
 x\; margin-bottom: 10pt\; margin-left: 0px\; text-align: center\; text-siz
 e-adjust: 100%\; color: rgb(34\, 34\, 34)\; font-family: Arial\, Helvetica
 \, sans-serif\; font-size: small\; line-height: 14.95px\;"><span style="fo
 nt-family: Calibri\, sans-serif\;"><span style="font-weight: 700\; font-fa
 mily: Arial\; font-size: 14.6667px\;"><br></span></span></p><p dir="ltr" s
 tyle="margin: 0pt 0px\; text-align: center\; line-height: 1.38\;"><font fa
 ce="Abel\, sans-serif" color="#9c9c94"><span style="font-size: 12px\;">PRO
 MO BANCO PROVINCIA CONDICIONES:&nbsp\;<a href="https://tr.ee/89uSGj" targe
 t="_blank">https://tr.ee/89uSGj</a></span></font></p>
END:VEVENT
END:VCALENDAR
