BEGIN:VCALENDAR
VERSION:2.0
PRODID:-//My Calendar//mxm.dk//
BEGIN:VEVENT
SUMMARY:LOS PALMERAS EN OLAVARRIA
DTSTART:20260614T020000Z
DTEND:20260614T070000Z
DTSTAMP:20260424T124756Z
DESCRIPTION:<p dir="ltr" style="margin: 0pt 0px\; text-align: center\; -we
 bkit-tap-highlight-color: rgba(0\, 0\, 0\, 0)\; text-size-adjust: 100%\; l
 ine-height: 1.656\;"><b><span style="text-align: left\; caret-color: rgb(5
 1\, 51\, 51)\;"><font color="#201f1e" face="Arial" style=""><u style=""><s
 pan style="font-size: 36px\;">LOS PALMERAS</span><br></u></font></span><fo
 nt color="#201f1e" face="Arial" style=""><u style=""><font face="Abel\, sa
 ns-serif" style=""><span style="font-size: 18px\; caret-color: rgb(51\, 51
 \, 51)\;">EN OLAVARRIA</span></font></u></font></b></p><p dir="ltr" style=
 "margin: 0pt 0px\; font-family: Abel\, sans-serif\; text-align: center\; c
 olor: rgb(51\, 51\, 51)\; font-size: 14px\; caret-color: rgb(51\, 51\, 51)
 \; -webkit-tap-highlight-color: rgba(0\, 0\, 0\, 0)\; text-size-adjust: 10
 0%\; line-height: 1.656\;"><br></p><p dir="ltr" style="margin: 0pt 0px\; f
 ont-family: Abel\, sans-serif\; text-align: center\; color: rgb(51\, 51\, 
 51)\; font-size: 14px\; caret-color: rgb(51\, 51\, 51)\; -webkit-tap-highl
 ight-color: rgba(0\, 0\, 0\, 0)\; text-size-adjust: 100%\; line-height: 1.
 656\;"><span style="font-weight: 700\; color: rgb(34\, 34\, 34)\; font-fam
 ily: Arial\; font-size: 11pt\;"><br></span></p><p dir="ltr" style="margin:
  0pt 0px\; font-family: Abel\, sans-serif\; text-align: center\; color: rg
 b(51\, 51\, 51)\; font-size: 14px\; caret-color: rgb(51\, 51\, 51)\; -webk
 it-tap-highlight-color: rgba(0\, 0\, 0\, 0)\; text-size-adjust: 100%\; lin
 e-height: 1.656\;"><font color="#222222" face="Arial"><span style="font-si
 ze: 14.6667px\;"><u>Efectivo en:</u></span></font></p><p dir="ltr" style="
 margin: 0pt 0px\; font-family: Abel\, sans-serif\; text-align: center\; co
 lor: rgb(51\, 51\, 51)\; font-size: 14px\; caret-color: rgb(51\, 51\, 51)\
 ; -webkit-tap-highlight-color: rgba(0\, 0\, 0\, 0)\; text-size-adjust: 100
 %\; line-height: 1.656\;"><span style="font-size: 11pt\; font-family: Aria
 l\; color: rgb(32\, 31\, 30)\; font-weight: 700\; font-variant-numeric: no
 rmal\; font-variant-east-asian: normal\; vertical-align: baseline\;">Tecno
 Centro:</span><span style="font-size: 11.5pt\; font-family: Arial\; color:
  rgb(32\, 31\, 30)\; font-variant-numeric: normal\; font-variant-east-asia
 n: normal\; vertical-align: baseline\;"><span style="font-size: 11pt\;">&n
 bsp\;Rivadavia 3065 -&nbsp\;</span><span style="font-weight: 700\; font-si
 ze: 11pt\;">Olavarria</span></span></p><div style="text-align: center\; -w
 ebkit-tap-highlight-color: rgba(0\, 0\, 0\, 0)\; text-size-adjust: 100%\;"
 ><div style="-webkit-tap-highlight-color: rgba(0\, 0\, 0\, 0)\; text-size-
 adjust: 100%\;"><font color="#212121" face="Arial\, Helvetica\, sans-serif
 " size="2"><b><span style="font-size: 11pt\;">PC Cell: </span></b><span st
 yle="font-size: 11pt\;">Calle Olavarría Nro112&nbsp\; - Bolivar</span></f
 ont></div><div style="color: rgb(33\, 33\, 33)\; font-family: Arial\, Helv
 etica\, sans-serif\; font-size: small\; -webkit-tap-highlight-color: rgba(
 0\, 0\, 0\, 0)\; text-size-adjust: 100%\;"><br></div></div><p dir="ltr" st
 yle="margin: 0pt 0px\; font-family: Abel\, sans-serif\; text-align: center
 \; color: rgb(51\, 51\, 51)\; font-size: 14px\; caret-color: rgb(51\, 51\,
  51)\; -webkit-tap-highlight-color: rgba(0\, 0\, 0\, 0)\; text-size-adjust
 : 100%\; line-height: 1.656\;"><span style="font-size: 11pt\; font-family:
  Arial\; color: rgb(34\, 34\, 34)\; font-variant-numeric: normal\; font-va
 riant-east-asian: normal\; vertical-align: baseline\;"><br></span></p><p d
 ir="ltr" style="margin: 0pt 0px\; font-family: Abel\, sans-serif\; text-al
 ign: center\; color: rgb(51\, 51\, 51)\; font-size: 14px\; caret-color: rg
 b(51\, 51\, 51)\; -webkit-tap-highlight-color: rgba(0\, 0\, 0\, 0)\; text-
 size-adjust: 100%\; line-height: 1.38\;"><a href="http://www.articket.com.
 ar/" style="color: rgb(51\, 122\, 183)\;"><span style="font-size: 11.5pt\;
  font-family: Arial\; color: rgb(17\, 85\, 204)\; font-variant-numeric: no
 rmal\; font-variant-east-asian: normal\; text-decoration-line: underline\;
  text-decoration-skip-ink: none\; vertical-align: baseline\;">www.articket
 .com.ar</span></a></p><p style="font-family: Abel\, sans-serif\; text-alig
 n: center\;"><br style="color: rgb(51\, 51\, 51)\; font-size: 14px\; caret
 -color: rgb(51\, 51\, 51)\; -webkit-tap-highlight-color: rgba(0\, 0\, 0\, 
 0)\; text-size-adjust: 100%\;"></p><p dir="ltr" style="margin: 0pt 0px\; f
 ont-family: Abel\, sans-serif\; text-align: center\; color: rgb(51\, 51\, 
 51)\; font-size: 14px\; caret-color: rgb(51\, 51\, 51)\; -webkit-tap-highl
 ight-color: rgba(0\, 0\, 0\, 0)\; text-size-adjust: 100%\; line-height: 1.
 38\;"><span style="font-size: 11pt\; font-family: Arial\; color: rgb(34\, 
 34\, 34)\; font-weight: 700\; font-variant-numeric: normal\; font-variant-
 east-asian: normal\; vertical-align: baseline\;">APTO MAYORES DE 10 AÑOS<
 /span></p><p dir="ltr" style="margin: 0pt 0px\; font-family: Abel\, sans-s
 erif\; text-align: center\; color: rgb(51\, 51\, 51)\; font-size: 14px\; c
 aret-color: rgb(51\, 51\, 51)\; -webkit-tap-highlight-color: rgba(0\, 0\, 
 0\, 0)\; text-size-adjust: 100%\; line-height: 1.38\;"><span style="font-s
 ize: 11pt\; font-family: Arial\; color: rgb(34\, 34\, 34)\; font-weight: 7
 00\; font-variant-numeric: normal\; font-variant-east-asian: normal\; vert
 ical-align: baseline\;"><br></span></p><p dir="ltr" style="margin: 0pt 0px
 \; font-family: Abel\, sans-serif\; text-align: center\; color: rgb(51\, 5
 1\, 51)\; font-size: 14px\; caret-color: rgb(51\, 51\, 51)\; -webkit-tap-h
 ighlight-color: rgba(0\, 0\, 0\, 0)\; text-size-adjust: 100%\; line-height
 : 1.38\;"><span style="font-size: 11pt\; font-family: Arial\; color: rgb(3
 4\, 34\, 34)\; font-weight: 700\; font-variant-numeric: normal\; font-vari
 ant-east-asian: normal\; vertical-align: baseline\;">---</span></p><p dir=
 "ltr" style="margin: 0pt 0px\; text-align: center\; -webkit-tap-highlight-
 color: rgba(0\, 0\, 0\, 0)\; text-size-adjust: 100%\; line-height: 1.38\;"
 ><font color="#222222" face="Arial"><span style="font-size: 14.6667px\; ca
 ret-color: rgb(51\, 51\, 51)\;"><span style="font-weight: bolder\;"><br></
 span></span></font></p><p dir="ltr" style="margin: 0pt 0px\; text-align: c
 enter\; -webkit-tap-highlight-color: rgba(0\, 0\, 0\, 0)\; text-size-adjus
 t: 100%\; line-height: 1.38\;"><font color="#222222" face="Arial"><span st
 yle="font-size: 14.6667px\; caret-color: rgb(51\, 51\, 51)\;"><span style=
 "font-weight: bolder\;"><br></span></span></font></p><p dir="ltr" style="m
 argin: 0pt 0px\; text-align: center\; line-height: 1.38\;"><font face="Abe
 l\, sans-serif" color="#9c9c94"><span style="font-size: 12px\;">PROMO BANC
 O PROVINCIA CONDICIONES:&nbsp\;<a href="https://tr.ee/89uSGj" target="_bla
 nk">https://tr.ee/89uSGj</a></span></font></p><p dir="ltr" style="margin: 
 0pt 0px\; text-align: center\; line-height: 1.38\;"><br style="font-family
 : Abel\, sans-serif\;"></p>
END:VEVENT
END:VCALENDAR
