BEGIN:VCALENDAR
VERSION:2.0
PRODID:-//My Calendar//mxm.dk//
BEGIN:VEVENT
SUMMARY:ESCUELAS AL TEATRO - QUIJOTE HISTORIAS DE UN CABALLERO
DTSTART:20260610T170000Z
DTEND:20260610T190000Z
DTSTAMP:20260424T124244Z
DESCRIPTION:<div style="text-align: center\;"><font color="#1f1f1f" face="
 Google Sans\, Roboto\, RobotoDraft\, Helvetica\, Arial\, sans-serif"><span
  style="font-size: 22px\; font-variant-ligatures: no-contextual\;"><b><u>E
 SCUELAS AL TEATRO</u></b></span></font></div><div style="text-align: cente
 r\;"><font color="#1f1f1f" face="Google Sans\, Roboto\, RobotoDraft\, Helv
 etica\, Arial\, sans-serif"><span style="font-size: 22px\; font-variant-li
 gatures: no-contextual\;"><b><u>"QUIJOTE\, HISTORIAS DE UN CABALLERO"</u><
 /b></span></font></div><p dir="ltr" style="margin: 0pt 0px\; text-align: c
 enter\; -webkit-tap-highlight-color: rgba(0\, 0\, 0\, 0)\; text-size-adjus
 t: 100%\; line-height: 1.656\;"><font color="#000000"><font face="Arial"><
 u><font face="Abel\, sans-serif"><span style="font-size: 15.3333px\; font-
 weight: bolder\; caret-color: rgb(51\, 51\, 51)\;">EN OLAVARRIA</span></fo
 nt></u></font></font></p><p dir="ltr" style="margin: 0pt 0px\; text-align:
  center\; -webkit-tap-highlight-color: rgba(0\, 0\, 0\, 0)\; text-size-adj
 ust: 100%\; line-height: 1.656\;"><br></p><p dir="ltr" style="margin: 0pt 
 0px\; font-family: Abel\, sans-serif\; text-align: center\; color: rgb(51\
 , 51\, 51)\; font-size: 14px\; caret-color: rgb(51\, 51\, 51)\; -webkit-ta
 p-highlight-color: rgba(0\, 0\, 0\, 0)\; text-size-adjust: 100%\; line-hei
 ght: 1.656\;"><span style="font-size: 11.5pt\; font-family: Arial\; color:
  rgb(32\, 31\, 30)\; font-variant-numeric: normal\; font-variant-east-asia
 n: normal\; vertical-align: baseline\;">Entradas anticipadas:<br><br></spa
 n></p><p dir="ltr" style="margin: 0pt 0px\; font-family: Abel\, sans-serif
 \; text-align: center\; color: rgb(51\, 51\, 51)\; font-size: 14px\; caret
 -color: rgb(51\, 51\, 51)\; -webkit-tap-highlight-color: rgba(0\, 0\, 0\, 
 0)\; text-size-adjust: 100%\; line-height: 1.656\;"><u style="color: rgb(3
 4\, 34\, 34)\; font-family: Arial\; font-size: 14.6667px\;">POR SISTEMA:<b
 r></u><span style="font-weight: 700\; color: rgb(34\, 34\, 34)\; font-fami
 ly: Arial\; font-size: 11pt\;">(Todos los medios de pago)</span></p><p dir
 ="ltr" style="margin: 0pt 0px\; font-family: Abel\, sans-serif\; text-alig
 n: center\; color: rgb(51\, 51\, 51)\; font-size: 14px\; caret-color: rgb(
 51\, 51\, 51)\; -webkit-tap-highlight-color: rgba(0\, 0\, 0\, 0)\; text-si
 ze-adjust: 100%\; line-height: 1.656\;"><span style="font-weight: 700\; co
 lor: rgb(34\, 34\, 34)\; font-family: Arial\; font-size: 11pt\;"><br></spa
 n></p><p dir="ltr" style="margin: 0pt 0px\; font-family: Abel\, sans-serif
 \; text-align: center\; color: rgb(51\, 51\, 51)\; font-size: 14px\; caret
 -color: rgb(51\, 51\, 51)\; -webkit-tap-highlight-color: rgba(0\, 0\, 0\, 
 0)\; text-size-adjust: 100%\; line-height: 1.656\;"><font color="#222222" 
 face="Arial"><span style="font-size: 14.6667px\;"><u>Efectivo en:</u></spa
 n></font></p><p dir="ltr" style="margin: 0pt 0px\; font-family: Abel\, san
 s-serif\; text-align: center\; color: rgb(51\, 51\, 51)\; font-size: 14px\
 ; caret-color: rgb(51\, 51\, 51)\; -webkit-tap-highlight-color: rgba(0\, 0
 \, 0\, 0)\; text-size-adjust: 100%\; line-height: 1.656\;"><span style="fo
 nt-size: 11.5pt\; font-family: Arial\; color: rgb(32\, 31\, 30)\; font-wei
 ght: 700\; font-variant-numeric: normal\; font-variant-east-asian: normal\
 ; vertical-align: baseline\;">TecnoCentro:</span><span style="font-size: 1
 1.5pt\; font-family: Arial\; color: rgb(32\, 31\, 30)\; font-variant-numer
 ic: normal\; font-variant-east-asian: normal\; vertical-align: baseline\;"
 >&nbsp\;Rivadavia 3065 -&nbsp\;<span style="font-weight: 700\;">Olavarria<
 /span></span></p><div style="text-align: center\; -webkit-tap-highlight-co
 lor: rgba(0\, 0\, 0\, 0)\; text-size-adjust: 100%\; font-family: Arial\, H
 elvetica\, sans-serif\; font-size: small\; color: rgb(33\, 33\, 33)\;"><i>
 <br></i></div><p dir="ltr" style="margin: 0pt 0px\; font-family: Abel\, sa
 ns-serif\; text-align: center\; color: rgb(51\, 51\, 51)\; font-size: 14px
 \; caret-color: rgb(51\, 51\, 51)\; -webkit-tap-highlight-color: rgba(0\, 
 0\, 0\, 0)\; text-size-adjust: 100%\; line-height: 1.656\;"><span style="f
 ont-size: 11pt\; font-family: Arial\; color: rgb(34\, 34\, 34)\; font-vari
 ant-numeric: normal\; font-variant-east-asian: normal\; vertical-align: ba
 seline\;"><span style="font-weight: 700\;"><u>Entradas de Discapacidad</u>
 </span></span></p><p dir="ltr" style="margin: 0pt 0px\; font-family: Abel\
 , sans-serif\; text-align: center\; color: rgb(51\, 51\, 51)\; font-size: 
 14px\; caret-color: rgb(51\, 51\, 51)\; -webkit-tap-highlight-color: rgba(
 0\, 0\, 0\, 0)\; text-size-adjust: 100%\; line-height: 1.656\;"><span styl
 e="font-size: 11pt\; font-family: Arial\; color: rgb(34\, 34\, 34)\; font-
 variant-numeric: normal\; font-variant-east-asian: normal\; vertical-align
 : baseline\;"></span></p><p dir="ltr" style="margin: 0pt 0px\; font-family
 : Abel\, sans-serif\; text-align: center\; color: rgb(51\, 51\, 51)\; font
 -size: 14px\; line-height: 1.656\;"><span style="font-size: 11pt\; font-fa
 mily: Arial\; color: rgb(34\, 34\, 34)\; font-variant-numeric: normal\; fo
 nt-variant-east-asian: normal\; vertical-align: baseline\;">Para solicitar
  entradas de discapacidad por favor&nbsp\;dirigirse a la&nbsp\;<span style
 ="font-weight: bolder\;">Boletería del Teatro</span>&nbsp\;de&nbsp\;<span
  style="font-weight: bolder\;">Lunes a viernes de 8:30 a 16hs.</span></spa
 n></p><p style="margin: 0pt 0px\; text-align: center\; color: rgb(34\, 34\
 , 34)\; font-family: Arial\, Helvetica\, sans-serif\; font-size: small\; l
 ine-height: 1.656\;"><font face="Arial" color="#ffffff"><span style="font-
 size: 14.6667px\; background-color: rgb(103\, 78\, 167)\;"><span style="fo
 nt-weight: bolder\;">Las entradas se podrán&nbsp\;solicitar a partir del 
 1er día hábil del mes corriente del evento.</span></span></font></p><p d
 ir="ltr" style="margin: 0pt 0px\; font-family: Abel\, sans-serif\; text-al
 ign: center\; color: rgb(51\, 51\, 51)\; font-size: 14px\; caret-color: rg
 b(51\, 51\, 51)\; -webkit-tap-highlight-color: rgba(0\, 0\, 0\, 0)\; text-
 size-adjust: 100%\; line-height: 1.656\;"><span style="font-size: 11pt\; f
 ont-family: Arial\; color: rgb(34\, 34\, 34)\; font-variant-numeric: norma
 l\; font-variant-east-asian: normal\; vertical-align: baseline\;"><br></sp
 an></p><p dir="ltr" style="margin: 0pt 0px\; font-family: Abel\, sans-seri
 f\; text-align: center\; color: rgb(51\, 51\, 51)\; font-size: 14px\; care
 t-color: rgb(51\, 51\, 51)\; -webkit-tap-highlight-color: rgba(0\, 0\, 0\,
  0)\; text-size-adjust: 100%\; line-height: 1.38\;"><a href="http://www.ar
 ticket.com.ar/" style="color: rgb(51\, 122\, 183)\;"><span style="font-siz
 e: 11.5pt\; font-family: Arial\; color: rgb(17\, 85\, 204)\; font-variant-
 numeric: normal\; font-variant-east-asian: normal\; text-decoration-line: 
 underline\; text-decoration-skip-ink: none\; vertical-align: baseline\;">w
 ww.articket.com.ar</span></a></p><p style="font-family: Abel\, sans-serif\
 ; text-align: center\;"><br style="color: rgb(51\, 51\, 51)\; font-size: 1
 4px\; caret-color: rgb(51\, 51\, 51)\; -webkit-tap-highlight-color: rgba(0
 \, 0\, 0\, 0)\; text-size-adjust: 100%\;"></p><p dir="ltr" style="margin: 
 0pt 0px\; font-family: Abel\, sans-serif\; text-align: center\; color: rgb
 (51\, 51\, 51)\; font-size: 14px\; caret-color: rgb(51\, 51\, 51)\; -webki
 t-tap-highlight-color: rgba(0\, 0\, 0\, 0)\; text-size-adjust: 100%\; line
 -height: 1.38\;"><span style="font-size: 11pt\; font-family: Arial\; color
 : rgb(34\, 34\, 34)\; font-weight: 700\; font-variant-numeric: normal\; fo
 nt-variant-east-asian: normal\; vertical-align: baseline\;">APTO TODO PUBL
 ICO</span></p><p dir="ltr" style="margin: 0pt 0px\; font-family: Abel\, sa
 ns-serif\; text-align: center\; color: rgb(51\, 51\, 51)\; font-size: 14px
 \; caret-color: rgb(51\, 51\, 51)\; -webkit-tap-highlight-color: rgba(0\, 
 0\, 0\, 0)\; text-size-adjust: 100%\; line-height: 1.38\;"><span style="fo
 nt-size: 11pt\; font-family: Arial\; color: rgb(34\, 34\, 34)\; font-weigh
 t: 700\; font-variant-numeric: normal\; font-variant-east-asian: normal\; 
 vertical-align: baseline\;"><br></span></p><p dir="ltr" style="margin: 0pt
  0px\; font-family: Abel\, sans-serif\; text-align: center\; color: rgb(51
 \, 51\, 51)\; font-size: 14px\; caret-color: rgb(51\, 51\, 51)\; -webkit-t
 ap-highlight-color: rgba(0\, 0\, 0\, 0)\; text-size-adjust: 100%\; line-he
 ight: 1.38\;"><span style="font-size: 11pt\; font-family: Arial\; color: r
 gb(34\, 34\, 34)\; font-weight: 700\; font-variant-numeric: normal\; font-
 variant-east-asian: normal\; vertical-align: baseline\;">---</span></p><p 
 dir="ltr" style="margin: 0pt 0px\; font-family: Abel\, sans-serif\; text-a
 lign: center\; color: rgb(51\, 51\, 51)\; font-size: 14px\; caret-color: r
 gb(51\, 51\, 51)\; -webkit-tap-highlight-color: rgba(0\, 0\, 0\, 0)\; text
 -size-adjust: 100%\; line-height: 1.38\;"><span style="font-size: 11pt\; f
 ont-family: Arial\; color: rgb(34\, 34\, 34)\; font-weight: 700\; font-var
 iant-numeric: normal\; font-variant-east-asian: normal\; vertical-align: b
 aseline\;"><br></span></p><p dir="ltr" style="margin: 0pt 0px\; text-align
 : center\; -webkit-tap-highlight-color: rgba(0\, 0\, 0\, 0)\; text-size-ad
 just: 100%\; line-height: 1.38\;"><font color="#222222" face="Arial"><span
  style="font-size: 14.6667px\; caret-color: rgb(51\, 51\, 51)\;"><b>Llega 
 El Esférico\, de la mano de Sonrisas producciones\, al Teatro Municipal d
 e Olavarría con su</b></span></font></p><p dir="ltr" style="margin: 0pt 0
 px\; text-align: center\; -webkit-tap-highlight-color: rgba(0\, 0\, 0\, 0)
 \; text-size-adjust: 100%\; line-height: 1.38\;"><font color="#222222" fac
 e="Arial"><span style="font-size: 14.6667px\; caret-color: rgb(51\, 51\, 5
 1)\;"><b>espectáculo destinado a instituciones públicas y privadas\, de 
 nivel primario.</b></span></font></p><p dir="ltr" style="margin: 0pt 0px\;
  text-align: center\; -webkit-tap-highlight-color: rgba(0\, 0\, 0\, 0)\; t
 ext-size-adjust: 100%\; line-height: 1.38\;"><font color="#222222" face="A
 rial"><span style="font-size: 14.6667px\; caret-color: rgb(51\, 51\, 51)\;
 "><b>14hs. “Quijote\, historias de un caballero” versión del clásico
  cervantino.</b></span></font></p><p dir="ltr" style="margin: 0pt 0px\; te
 xt-align: center\; -webkit-tap-highlight-color: rgba(0\, 0\, 0\, 0)\; text
 -size-adjust: 100%\; line-height: 1.38\;"><font color="#222222" face="Aria
 l"><span style="font-size: 14.6667px\; caret-color: rgb(51\, 51\, 51)\;"><
 b>Esta adaptación acerca el clásico a los niños de hoy. La historia man
 tiene el espíritu original de</b></span></font></p><p dir="ltr" style="ma
 rgin: 0pt 0px\; text-align: center\; -webkit-tap-highlight-color: rgba(0\,
  0\, 0\, 0)\; text-size-adjust: 100%\; line-height: 1.38\;"><font color="#
 222222" face="Arial"><span style="font-size: 14.6667px\; caret-color: rgb(
 51\, 51\, 51)\;"><b>la obra de Cervantes\, pero lo combina con elementos c
 ontemporáneos: la vida cotidiana\, el</b></span></font></p><p dir="ltr" s
 tyle="margin: 0pt 0px\; text-align: center\; -webkit-tap-highlight-color: 
 rgba(0\, 0\, 0\, 0)\; text-size-adjust: 100%\; line-height: 1.38\;"><font 
 color="#222222" face="Arial"><span style="font-size: 14.6667px\; caret-col
 or: rgb(51\, 51\, 51)\;"><b>humor\, los objetos del hogar y situaciones ac
 tuales.</b></span></font></p><p dir="ltr" style="margin: 0pt 0px\; text-al
 ign: center\; -webkit-tap-highlight-color: rgba(0\, 0\, 0\, 0)\; text-size
 -adjust: 100%\; line-height: 1.38\;"><font color="#222222" face="Arial"><s
 pan style="font-size: 14.6667px\; caret-color: rgb(51\, 51\, 51)\;"><b>De 
 esta forma\, los niños descubren que los clásicos no pertenecen sólo al
  pasado. Las historias</b></span></font></p><p dir="ltr" style="margin: 0p
 t 0px\; text-align: center\; -webkit-tap-highlight-color: rgba(0\, 0\, 0\,
  0)\; text-size-adjust: 100%\; line-height: 1.38\;"><font color="#222222" 
 face="Arial"><b><span style="font-variant-numeric: normal\; font-variant-e
 ast-asian: normal\; vertical-align: baseline\; font-size: 14.6667px\; care
 t-color: rgb(51\, 51\, 51)\;"></span></b></font></p><p dir="ltr" style="ma
 rgin: 0pt 0px\; text-align: center\; -webkit-tap-highlight-color: rgba(0\,
  0\, 0\, 0)\; text-size-adjust: 100%\; line-height: 1.38\;"><font color="#
 222222" face="Arial"><span style="font-size: 14.6667px\; caret-color: rgb(
 51\, 51\, 51)\;"><b>siguen vivas cada vez que alguien se anima a contarlas
  de nuevo.</b></span></font></p><p dir="ltr" style="margin: 0pt 0px\; text
 -align: center\; -webkit-tap-highlight-color: rgba(0\, 0\, 0\, 0)\; text-s
 ize-adjust: 100%\; line-height: 1.38\;"><font color="#222222" face="Arial"
 ><span style="font-size: 14.6667px\; caret-color: rgb(51\, 51\, 51)\;"><sp
 an style="font-weight: bolder\;"><br></span></span></font></p><p dir="ltr"
  style="margin: 0pt 0px\; text-align: center\; line-height: 1.38\;"><font 
 face="Abel\, sans-serif" color="#9c9c94"><span style="font-size: 12px\;">P
 ROMO BANCO PROVINCIA CONDICIONES:&nbsp\;<a href="https://tr.ee/89uSGj" tar
 get="_blank">https://tr.ee/89uSGj</a></span></font></p><p dir="ltr" style=
 "margin: 0pt 0px\; text-align: center\; line-height: 1.38\;"><br style="fo
 nt-family: Abel\, sans-serif\;"></p>
END:VEVENT
END:VCALENDAR
