BEGIN:VCALENDAR
VERSION:2.0
PRODID:-//My Calendar//mxm.dk//
BEGIN:VEVENT
SUMMARY:CANTINELA EN MAR DEL PLATA
DTSTART:20260424T230000Z
DTEND:20260425T025500Z
DTSTAMP:20260424T124519Z
DESCRIPTION:<p style="text-align: center\;"><b><u><span style="font-size: 
 24px\;">CANTINELA EN MAR DEL PLATA</span></u></b></p><p style="text-align:
  center\;"><b>Cantinela la banda formada por&nbsp\;</b><b style="font-size
 : 1rem\;">Elio Delgado (Callejeros) guitarra y voz</b></p><p style="text-a
 lign: center\;"><b style="font-size: 1rem\;">Horacio Ale (ex Gardelitos) B
 ateria&nbsp\;</b></p><p style="text-align: center\;"><b style="font-size: 
 1rem\;">Maury bajo y voz</b></p><p style="text-align: center\;"><b style="
 font-size: 1rem\;">Canciones de Callejeros y Los Gardelitos mas las nuevas
 </b></p><p style="text-align: center\;"><b><br></b></p><p style="text-alig
 n: center\;"><b>Invitados:</b></p><p style="text-align: center\;"><b>La So
 ga de Cain -&nbsp\;</b><b style="font-size: 1rem\;">'Homenaje Redondo'</b>
 </p><p style="text-align: center\;"><b style="font-size: 1rem\;">&nbsp\;</
 b><b style="font-size: 1rem\;">Suspensivos&nbsp\;</b><b style="font-size: 
 1rem\;">(Acústico)</b></p><p style="text-align: center\;"><b style="font-
 size: 1rem\;"><br></b></p><p style="text-align: center\;"><b style="font-s
 ize: 1rem\;"><u><br></u></b></p><p></p><div style="text-align: center\;"><
 span style="font-size: 11.5pt\;">Entradas anticipadas limitadas en efectiv
 o:</span></div><p></p><p dir="ltr" style="margin: 0pt 0px\; font-family: A
 bel\, sans-serif\; text-align: center\; text-size-adjust: 100%\; color: rg
 b(51\, 51\, 51)\; font-size: 14px\; line-height: 1.656\;"><span style="fon
 t-size: 11pt\; font-family: Arial\; color: rgb(34\, 34\, 34)\; font-varian
 t-numeric: normal\; font-variant-east-asian: normal\; vertical-align: base
 line\;">&nbsp\;</span></p><p dir="ltr" style="margin: 0pt 0px\; font-famil
 y: Abel\, sans-serif\; text-align: center\; text-size-adjust: 100%\; color
 : rgb(51\, 51\, 51)\; font-size: 14px\; line-height: 1.656\;"><span style=
 "font-size: 11.5pt\; font-family: Arial\; color: rgb(32\, 31\, 30)\; font-
 weight: 700\; font-variant-numeric: normal\; font-variant-east-asian: norm
 al\; vertical-align: baseline\;">La Casa de las Guitarras:</span><span sty
 le="font-size: 11.5pt\; font-family: Arial\; color: rgb(32\, 31\, 30)\; fo
 nt-variant-numeric: normal\; font-variant-east-asian: normal\; vertical-al
 ign: baseline\;">&nbsp\;Belgrano 3420 - Mar del Plata</span></p><p dir="lt
 r" style="margin: 0pt 0px\; font-family: Abel\, sans-serif\; text-align: c
 enter\; color: rgb(51\, 51\, 51)\; font-size: 14px\; line-height: 1.656\;"
 ><span style="font-size: 11.5pt\; font-family: Arial\; color: rgb(32\, 31\
 , 30)\; background-color: transparent\; font-variant-numeric: normal\; fon
 t-variant-east-asian: normal\; vertical-align: baseline\; white-space-coll
 apse: preserve\;"><span style="font-weight: bolder\;">FAVA Casa Central:</
 span></span><span style="font-size: 11.5pt\; font-family: Arial\; color: r
 gb(32\, 31\, 30)\; background-color: transparent\; font-weight: 700\; font
 -variant-numeric: normal\; font-variant-east-asian: normal\; vertical-alig
 n: baseline\; white-space-collapse: preserve\;"> </span><span style="font-
 size: 11.5pt\; font-family: Arial\; color: rgb(32\, 31\, 30)\; background-
 color: transparent\; font-variant-numeric: normal\; font-variant-east-asia
 n: normal\; vertical-align: baseline\; white-space-collapse: preserve\;">A
 v. Pedro Luro 3247 - Mar del Plata</span></p><div><span style="font-size: 
 11.5pt\; font-family: Arial\; color: rgb(32\, 31\, 30)\; background-color:
  transparent\; font-variant-numeric: normal\; font-variant-east-asian: nor
 mal\; vertical-align: baseline\; white-space-collapse: preserve\;"><br></s
 pan></div><p dir="ltr" style="margin: 0pt 0px\; font-family: Abel\, sans-s
 erif\; text-align: center\; text-size-adjust: 100%\; color: rgb(51\, 51\, 
 51)\; font-size: 14px\; line-height: 1.38\;"><a href="http://www.articket.
 com.ar/" style="color: rgb(51\, 122\, 183)\; text-decoration-line: underli
 ne\;"><span style="font-size: 11.5pt\; font-family: Arial\; color: rgb(17\
 , 85\, 204)\; font-variant-numeric: normal\; font-variant-east-asian: norm
 al\; text-decoration-skip-ink: none\; vertical-align: baseline\;">www.arti
 cket.com.ar</span></a></p><p dir="ltr" style="margin: 0pt 0px\; font-famil
 y: Abel\, sans-serif\; text-align: center\; text-size-adjust: 100%\; color
 : rgb(51\, 51\, 51)\; font-size: 14px\; line-height: 1.656\;"><br></p><p><
 span style="color: rgb(32\, 31\, 30)\; font-family: Arial\; font-size: 11.
 5pt\;"></span></p><p dir="ltr" style="margin: 0pt 0px\; font-family: Abel\
 , sans-serif\; text-align: center\; text-size-adjust: 100%\; color: rgb(51
 \, 51\, 51)\; font-size: 14px\; line-height: 1.38\;"><span style="caret-co
 lor: rgb(34\, 34\, 34)\; color: rgb(34\, 34\, 34)\; font-family: Arial\; f
 ont-size: 14.6667px\; font-weight: 700\; white-space-collapse: preserve\;"
 >APTO TODO PUBLICO</span></p><p dir="ltr" style="margin: 0pt 0px\; font-fa
 mily: Abel\, sans-serif\; text-align: center\; text-size-adjust: 100%\; co
 lor: rgb(51\, 51\, 51)\; font-size: 14px\; line-height: 1.38\;"><span styl
 e="caret-color: rgb(34\, 34\, 34)\; color: rgb(34\, 34\, 34)\; font-family
 : Arial\; font-size: 14.6667px\; font-weight: 700\; white-space-collapse: 
 preserve\;">MENORES ACOMPAÑADOS POR UN MAYOR\n\n</span></p><p dir="ltr" s
 tyle="margin: 0pt 0px\; text-align: center\; line-height: 1.38\;"><font fa
 ce="Abel\, sans-serif" color="#9c9c94"><span style="font-size: 12px\;">PRO
 MO BANCO PROVINCIA CONDICIONES:&nbsp\;<a href="https://tr.ee/89uSGj" targe
 t="_blank">https://tr.ee/89uSGj</a></span></font></p><p dir="ltr" style="m
 argin: 0pt 0px\; text-align: center\; line-height: 1.38\;"><br style="font
 -family: Abel\, sans-serif\;"></p><p dir="ltr" style="margin: 0pt 0px\; fo
 nt-family: Abel\, sans-serif\; text-align: center\; text-size-adjust: 100%
 \; color: rgb(51\, 51\, 51)\; font-size: 14px\; line-height: 1.38\;"><span
  style="caret-color: rgb(34\, 34\, 34)\; color: rgb(34\, 34\, 34)\; font-f
 amily: Arial\; font-size: 14.6667px\; font-weight: 700\; white-space-colla
 pse: preserve\;">\n</span></p>
END:VEVENT
END:VCALENDAR
