BEGIN:VCALENDAR
VERSION:2.0
PRODID:-//My Calendar//mxm.dk//
BEGIN:VEVENT
SUMMARY:COVER NIGHTS - VIVA LA VIDA - THE CHAMPIONS - WOTAH FACK
DTSTART:20260509T000000Z
DTEND:20260509T060000Z
DTSTAMP:20260422T140224Z
DESCRIPTION:<h2 style="color: rgb(0\, 0\, 0)\; font-family: Nunito\, -appl
 e-system\, BlinkMacSystemFont\, &quot\;Segoe UI&quot\;\, Roboto\, &quot\;H
 elvetica Neue&quot\;\, Arial\, sans-serif\, &quot\;Apple Color Emoji&quot\
 ;\, &quot\;Segoe UI Emoji&quot\;\, &quot\;Segoe UI Symbol&quot\;\, &quot\;
 Noto Color Emoji&quot\;\; text-align: center\;"><u style=""><b>COVER NIGHT
 S</b></u></h2><h2 style="color: rgb(0\, 0\, 0)\; font-family: Nunito\, -ap
 ple-system\, BlinkMacSystemFont\, &quot\;Segoe UI&quot\;\, Roboto\, &quot\
 ;Helvetica Neue&quot\;\, Arial\, sans-serif\, &quot\;Apple Color Emoji&quo
 t\;\, &quot\;Segoe UI Emoji&quot\;\, &quot\;Segoe UI Symbol&quot\;\, &quot
 \;Noto Color Emoji&quot\;\; text-align: center\;"><span style="font-size: 
 24px\;"><u style=""><b>VIVA LA VIDA - THE CHAMPIONS - WOTAH FACK<br><br></
 b></u></span></h2><p style="text-align: center\;"><span style="color: rgb(
 32\, 31\, 30)\; font-family: Arial\; font-size: 11.5pt\;">Entradas anticip
 adas limitadas en efectivo:</span></p><p dir="ltr" style="margin: 0pt 0px\
 ; font-family: Abel\, sans-serif\; text-align: center\; text-size-adjust: 
 100%\; color: rgb(51\, 51\, 51)\; font-size: 14px\; line-height: 1.656\;">
 <span style="font-size: 11pt\; font-family: Arial\; color: rgb(34\, 34\, 3
 4)\; font-variant-numeric: normal\; font-variant-east-asian: normal\; vert
 ical-align: baseline\;">&nbsp\;</span></p><p dir="ltr" style="margin: 0pt 
 0px\; font-family: Abel\, sans-serif\; text-align: center\; text-size-adju
 st: 100%\; color: rgb(51\, 51\, 51)\; font-size: 14px\; line-height: 1.656
 \;"><span style="font-size: 11.5pt\; font-family: Arial\; color: rgb(32\, 
 31\, 30)\; font-weight: 700\; font-variant-numeric: normal\; font-variant-
 east-asian: normal\; vertical-align: baseline\;">La Casa de las Guitarras:
 </span><span style="font-size: 11.5pt\; font-family: Arial\; color: rgb(32
 \, 31\, 30)\; font-variant-numeric: normal\; font-variant-east-asian: norm
 al\; vertical-align: baseline\;">&nbsp\;Belgrano 3420 - Mar del Plata</spa
 n></p><p dir="ltr" style="margin: 0pt 0px\; font-family: Abel\, sans-serif
 \; text-align: center\; color: rgb(51\, 51\, 51)\; font-size: 14px\; line-
 height: 1.656\;"><span style="font-size: 11.5pt\; font-family: Arial\; col
 or: rgb(32\, 31\, 30)\; background-color: transparent\; font-variant-numer
 ic: normal\; font-variant-east-asian: normal\; vertical-align: baseline\; 
 white-space-collapse: preserve\;"><span style="font-weight: bolder\;">FAVA
  Casa Central:</span></span><span style="font-size: 11.5pt\; font-family: 
 Arial\; color: rgb(32\, 31\, 30)\; background-color: transparent\; font-we
 ight: 700\; font-variant-numeric: normal\; font-variant-east-asian: normal
 \; vertical-align: baseline\; white-space-collapse: preserve\;"> </span><s
 pan style="font-size: 11.5pt\; font-family: Arial\; color: rgb(32\, 31\, 3
 0)\; background-color: transparent\; font-variant-numeric: normal\; font-v
 ariant-east-asian: normal\; vertical-align: baseline\; white-space-collaps
 e: preserve\;">Av. Pedro Luro 3247 - Mar del Plata</span></p><p dir="ltr" 
 style="margin: 0pt 0px\; font-family: Abel\, sans-serif\; text-align: cent
 er\; text-size-adjust: 100%\; color: rgb(51\, 51\, 51)\; font-size: 14px\;
  line-height: 1.656\;"><br></p><p dir="ltr" style="margin: 0pt 0px\; font-
 family: Abel\, sans-serif\; text-align: center\; text-size-adjust: 100%\; 
 color: rgb(51\, 51\, 51)\; font-size: 14px\; line-height: 1.38\;"><a href=
 "http://www.articket.com.ar/" style="color: rgb(51\, 122\, 183)\;"><span s
 tyle="font-size: 11.5pt\; font-family: Arial\; color: rgb(17\, 85\, 204)\;
  font-variant-numeric: normal\; font-variant-east-asian: normal\; text-dec
 oration-line: underline\; text-decoration-skip-ink: none\; vertical-align:
  baseline\;">www.articket.com.ar</span></a></p><p dir="ltr" style="margin:
  0pt 0px\; font-family: Abel\, sans-serif\; text-align: center\; text-size
 -adjust: 100%\; color: rgb(51\, 51\, 51)\; font-size: 14px\; line-height: 
 1.656\;"><br></p><p dir="ltr" style="margin: 0pt 0px\; font-family: Abel\,
  sans-serif\; text-align: center\; text-size-adjust: 100%\; color: rgb(51\
 , 51\, 51)\; font-size: 14px\; line-height: 1.38\;"><span style="caret-col
 or: rgb(34\, 34\, 34)\; color: rgb(34\, 34\, 34)\; font-family: Arial\; fo
 nt-size: 14.6667px\; white-space-collapse: preserve\;"><span style="font-w
 eight: bolder\;">APTO +14 (hasta 00hs)</span></span></p><p dir="ltr" style
 ="margin: 0pt 0px\; font-family: Abel\, sans-serif\; text-align: center\; 
 text-size-adjust: 100%\; color: rgb(51\, 51\, 51)\; font-size: 14px\; line
 -height: 1.38\;"><span style="caret-color: rgb(34\, 34\, 34)\; color: rgb(
 34\, 34\, 34)\; font-family: Arial\; font-size: 14.6667px\; white-space-co
 llapse: preserve\;"><span style="font-weight: bolder\;"><br></span></span>
 </p><p dir="ltr" style="margin: 0pt 0px\; font-family: Abel\, sans-serif\;
  text-align: center\; text-size-adjust: 100%\; color: rgb(51\, 51\, 51)\; 
 font-size: 14px\; line-height: 1.38\;"><span style="caret-color: rgb(34\, 
 34\, 34)\; color: rgb(34\, 34\, 34)\; font-family: Arial\; font-size: 14.6
 667px\; white-space-collapse: preserve\;"><span style="font-weight: bolder
 \;"><br></span></span></p><p dir="ltr" style="margin: 0pt 0px\; text-align
 : center\; line-height: 1.38\;"><font face="Abel\, sans-serif" color="#9c9
 c94"><span style="font-size: 12px\;">PROMO BANCO PROVINCIA CONDICIONES:&nb
 sp\;<a href="https://tr.ee/89uSGj" target="_blank">https://tr.ee/89uSGj</a
 ></span></font></p><p dir="ltr" style="margin: 0pt 0px\; text-align: cente
 r\; line-height: 1.38\;"><br style="font-family: Abel\, sans-serif\;"></p>
END:VEVENT
END:VCALENDAR
