BEGIN:VCALENDAR
VERSION:2.0
PRODID:-//My Calendar//mxm.dk//
BEGIN:VEVENT
SUMMARY:A FULL CON TODO EN ABBEY ROAD 16-5
DTSTART:20260517T000000Z
DTEND:20260517T080000Z
DTSTAMP:20260421T064148Z
DESCRIPTION:<p dir="ltr" style="margin: 0pt 0px\; text-align: center\; lin
 e-height: 1.656\;"><font color="#201f1e" face="Arial"><span style="font-si
 ze: 36px\; white-space-collapse: preserve\;"><b><u>A FULL CON TODO</u></b>
 </span></font></p><p dir="ltr" style="margin: 0pt 0px\; text-align: center
 \; line-height: 1.656\;"><font color="#201f1e" face="Arial"><span style="f
 ont-size: 15.3333px\; white-space-collapse: preserve\;"><span style="font-
 size: 24px\;"><u><span style="font-weight: bolder\;">EN ABBEY ROAD</span><
 /u></span></span></font></p><p dir="ltr" style="margin: 0pt 0px\; font-fam
 ily: Abel\, sans-serif\; text-align: center\; color: rgb(51\, 51\, 51)\; f
 ont-size: 14px\; line-height: 1.656\;"><font color="#201f1e" face="Arial">
 <span style="font-size: 15.3333px\; white-space-collapse: preserve\;"><spa
 n style="font-weight: 700\;"><u><span style="color: rgb(34\, 34\, 34)\; fo
 nt-family: Arial\, Helvetica\, sans-serif\; font-size: small\; font-weight
 : 400\; text-align: start\; white-space-collapse: collapse\;"><br></span><
 /u></span></span></font></p><p dir="ltr" style="margin: 0pt 0px\; font-fam
 ily: Abel\, sans-serif\; text-align: center\; color: rgb(51\, 51\, 51)\; f
 ont-size: 14px\; line-height: 1.656\;"><span style="font-size: 11.5pt\; fo
 nt-family: Arial\; color: rgb(32\, 31\, 30)\; background-color: transparen
 t\; font-variant-numeric: normal\; font-variant-east-asian: normal\; verti
 cal-align: baseline\; white-space-collapse: preserve\;">Entradas anticipad
 as limitadas en efectivo:</span></p><p dir="ltr" style="margin: 0pt 0px\; 
 font-family: Abel\, sans-serif\; text-align: center\; color: rgb(51\, 51\,
  51)\; font-size: 14px\; line-height: 1.656\;"><span style="font-size: 11p
 t\; font-family: Arial\; color: rgb(34\, 34\, 34)\; background-color: tran
 sparent\; font-variant-numeric: normal\; font-variant-east-asian: normal\;
  vertical-align: baseline\; white-space-collapse: preserve\;">&nbsp\;</spa
 n></p><p dir="ltr" style="margin: 0pt 0px\; font-family: Abel\, sans-serif
 \; text-align: center\; color: rgb(51\, 51\, 51)\; font-size: 14px\; line-
 height: 1.656\;"><span style="font-size: 11.5pt\; font-family: Arial\; col
 or: rgb(32\, 31\, 30)\; background-color: transparent\; font-weight: 700\;
  font-variant-numeric: normal\; font-variant-east-asian: normal\; vertical
 -align: baseline\; white-space-collapse: preserve\;">La Casa de las Guitar
 ras:</span><span style="font-size: 11.5pt\; font-family: Arial\; color: rg
 b(32\, 31\, 30)\; background-color: transparent\; font-variant-numeric: no
 rmal\; font-variant-east-asian: normal\; vertical-align: baseline\; white-
 space-collapse: preserve\;"> Belgrano 3420 - Mar del Plata</span></p><p di
 r="ltr" style="margin: 0pt 0px\; font-family: Abel\, sans-serif\; text-ali
 gn: center\; color: rgb(51\, 51\, 51)\; font-size: 14px\; line-height: 1.6
 56\;"><span style="font-size: 11.5pt\; font-family: Arial\; color: rgb(32\
 , 31\, 30)\; background-color: transparent\; font-variant-numeric: normal\
 ; font-variant-east-asian: normal\; vertical-align: baseline\; white-space
 -collapse: preserve\;"><span style="font-weight: bolder\;">FAVA Casa Centr
 al:</span></span><span style="font-size: 11.5pt\; font-family: Arial\; col
 or: rgb(32\, 31\, 30)\; background-color: transparent\; font-weight: 700\;
  font-variant-numeric: normal\; font-variant-east-asian: normal\; vertical
 -align: baseline\; white-space-collapse: preserve\;"> </span><span style="
 font-size: 11.5pt\; font-family: Arial\; color: rgb(32\, 31\, 30)\; backgr
 ound-color: transparent\; font-variant-numeric: normal\; font-variant-east
 -asian: normal\; vertical-align: baseline\; white-space-collapse: preserve
 \;">Av. Pedro Luro 3247 - Mar del Plata</span></p><p dir="ltr" style="marg
 in: 0pt 0px\; font-family: Abel\, sans-serif\; text-align: center\; color:
  rgb(51\, 51\, 51)\; font-size: 14px\; line-height: 1.656\;"><span style="
 background-color: transparent\; color: rgb(34\, 34\, 34)\; font-family: Ar
 ial\; font-size: 11pt\; white-space-collapse: preserve\;">&nbsp\;</span></
 p><p dir="ltr" style="margin: 0pt 0px\; font-family: Abel\, sans-serif\; t
 ext-align: center\; color: rgb(51\, 51\, 51)\; font-size: 14px\; line-heig
 ht: 1.38\;"><a href="http://www.articket.com.ar/" style="color: rgb(51\, 1
 22\, 183)\;"><span style="font-size: 11.5pt\; font-family: Arial\; color: 
 rgb(17\, 85\, 204)\; font-variant-numeric: normal\; font-variant-east-asia
 n: normal\; text-decoration-line: underline\; text-decoration-skip-ink: no
 ne\; vertical-align: baseline\; white-space-collapse: preserve\;">www.arti
 cket.com.ar</span></a></p><p dir="ltr" style="margin: 0pt 0px\; font-famil
 y: Abel\, sans-serif\; text-align: center\; color: rgb(51\, 51\, 51)\; fon
 t-size: 14px\; line-height: 1.656\;"><br></p><p dir="ltr" style="margin: 0
 pt 0px\; font-family: Abel\, sans-serif\; text-align: center\; color: rgb(
 51\, 51\, 51)\; font-size: 14px\; line-height: 1.38\;"><span style="font-s
 ize: 11pt\; font-family: Arial\; color: rgb(34\, 34\, 34)\; font-variant-n
 umeric: normal\; font-variant-east-asian: normal\; vertical-align: baselin
 e\; white-space-collapse: preserve\;"><span style="font-weight: bolder\;">
 APTO +18 AÑOS</span></span></p><p dir="ltr" style="margin: 0pt 0px\; font
 -family: Abel\, sans-serif\; text-align: center\; color: rgb(51\, 51\, 51)
 \; font-size: 14px\; line-height: 1.38\;"><br><br><span style="color: rgb(
 156\, 156\, 148)\; font-size: 12px\;">PROMO BANCO PROVINCIA CONDICIONES:&n
 bsp\;</span><a href="https://tr.ee/89uSGj" target="_blank" style="backgrou
 nd-color: rgb(255\, 255\, 255)\; font-size: 12px\;">https://tr.ee/89uSGj</
 a></p>
END:VEVENT
END:VCALENDAR
