BEGIN:VCALENDAR
VERSION:2.0
PRODID:-//My Calendar//mxm.dk//
BEGIN:VEVENT
SUMMARY:VUELTA A LOS 90s - DELIRIO Y PROVOCAME
DTSTART:20260503T000000Z
DTEND:20260503T060000Z
DTSTAMP:20260424T124244Z
DESCRIPTION:<p dir="ltr" style="margin: 0pt 0px\; text-align: center\; lin
 e-height: 1.656\;"><u style="white-space-collapse: preserve\; color: rgb(3
 2\, 31\, 30)\; font-family: Arial\;"><span style="font-weight: bolder\;"><
 span style="font-size: 36px\;">VUELTA A LOS 90's\n</span><span style="font
 -size: 24px\;">SHOW DE DELIRIO Y PROVOCAME\nLUEGO SEGUIMOS CON SHOW DE ARU
 BA CUMBIA\nEN ABBEY ROAD</span></span></u></p><p dir="ltr" style="margin: 
 0pt 0px\; font-family: Abel\, sans-serif\; text-align: center\; color: rgb
 (51\, 51\, 51)\; font-size: 14px\; line-height: 1.656\;"><font color="#201
 f1e" face="Arial"><span style="font-size: 15.3333px\; white-space-collapse
 : preserve\;"><span style="font-weight: 700\;"><u><span style="color: rgb(
 34\, 34\, 34)\; font-family: Arial\, Helvetica\, sans-serif\; font-size: s
 mall\; font-weight: 400\; text-align: start\; white-space-collapse: collap
 se\;"><br></span></u></span></span></font></p><p dir="ltr" style="margin: 
 0pt 0px\; font-family: Abel\, sans-serif\; text-align: center\; color: rgb
 (51\, 51\, 51)\; font-size: 14px\; line-height: 1.656\;"><span style="font
 -size: 11.5pt\; font-family: Arial\; color: rgb(32\, 31\, 30)\; background
 -color: transparent\; font-variant-numeric: normal\; font-variant-east-asi
 an: normal\; vertical-align: baseline\; white-space-collapse: preserve\;">
 Entradas anticipadas limitadas en efectivo:</span></p><p dir="ltr" style="
 margin: 0pt 0px\; font-family: Abel\, sans-serif\; text-align: center\; co
 lor: rgb(51\, 51\, 51)\; font-size: 14px\; line-height: 1.656\;"><span sty
 le="font-size: 11pt\; font-family: Arial\; color: rgb(34\, 34\, 34)\; back
 ground-color: transparent\; font-variant-numeric: normal\; font-variant-ea
 st-asian: normal\; vertical-align: baseline\; white-space-collapse: preser
 ve\;">&nbsp\;</span></p><p dir="ltr" style="margin: 0pt 0px\; font-family:
  Abel\, sans-serif\; text-align: center\; color: rgb(51\, 51\, 51)\; font-
 size: 14px\; line-height: 1.656\;"><span style="font-size: 11.5pt\; font-f
 amily: Arial\; color: rgb(32\, 31\, 30)\; background-color: transparent\; 
 font-weight: 700\; font-variant-numeric: normal\; font-variant-east-asian:
  normal\; vertical-align: baseline\; white-space-collapse: preserve\;">La 
 Casa de las Guitarras:</span><span style="font-size: 11.5pt\; font-family:
  Arial\; color: rgb(32\, 31\, 30)\; background-color: transparent\; font-v
 ariant-numeric: normal\; font-variant-east-asian: normal\; vertical-align:
  baseline\; white-space-collapse: preserve\;"> Belgrano 3420 - Mar del Pla
 ta</span></p><p dir="ltr" style="margin: 0pt 0px\; font-family: Abel\, san
 s-serif\; text-align: center\; color: rgb(51\, 51\, 51)\; font-size: 14px\
 ; line-height: 1.656\;"><span style="font-size: 11.5pt\; font-family: Aria
 l\; color: rgb(32\, 31\, 30)\; background-color: transparent\; font-varian
 t-numeric: normal\; font-variant-east-asian: normal\; vertical-align: base
 line\; white-space-collapse: preserve\;"><span style="font-weight: bolder\
 ;">FAVA Casa Central:</span></span><span style="font-size: 11.5pt\; font-f
 amily: Arial\; color: rgb(32\, 31\, 30)\; background-color: transparent\; 
 font-weight: 700\; font-variant-numeric: normal\; font-variant-east-asian:
  normal\; vertical-align: baseline\; white-space-collapse: preserve\;"> </
 span><span style="font-size: 11.5pt\; font-family: Arial\; color: rgb(32\,
  31\, 30)\; background-color: transparent\; font-variant-numeric: normal\;
  font-variant-east-asian: normal\; vertical-align: baseline\; white-space-
 collapse: preserve\;">Av. Pedro Luro 3247 - Mar del Plata</span></p><p dir
 ="ltr" style="margin: 0pt 0px\; font-family: Abel\, sans-serif\; text-alig
 n: center\; color: rgb(51\, 51\, 51)\; font-size: 14px\; line-height: 1.65
 6\;"><span style="background-color: transparent\; color: rgb(34\, 34\, 34)
 \; font-family: Arial\; font-size: 11pt\; white-space-collapse: preserve\;
 ">&nbsp\;</span></p><p dir="ltr" style="margin: 0pt 0px\; font-family: Abe
 l\, sans-serif\; text-align: center\; color: rgb(51\, 51\, 51)\; font-size
 : 14px\; line-height: 1.38\;"><a href="http://www.articket.com.ar/" style=
 "color: rgb(51\, 122\, 183)\;"><span style="font-size: 11.5pt\; font-famil
 y: Arial\; color: rgb(17\, 85\, 204)\; font-variant-numeric: normal\; font
 -variant-east-asian: normal\; text-decoration-line: underline\; text-decor
 ation-skip-ink: none\; vertical-align: baseline\; white-space-collapse: pr
 eserve\;">www.articket.com.ar</span></a></p><p dir="ltr" style="margin: 0p
 t 0px\; font-family: Abel\, sans-serif\; text-align: center\; color: rgb(5
 1\, 51\, 51)\; font-size: 14px\; line-height: 1.656\;"><br></p><p dir="ltr
 " style="margin: 0pt 0px\; font-family: Abel\, sans-serif\; text-align: ce
 nter\; color: rgb(51\, 51\, 51)\; font-size: 14px\; line-height: 1.38\;"><
 span style="font-size: 11pt\; font-family: Arial\; color: rgb(34\, 34\, 34
 )\; font-variant-numeric: normal\; font-variant-east-asian: normal\; verti
 cal-align: baseline\; white-space-collapse: preserve\;"><span style="font-
 weight: bolder\;">APTO +14 (hasta 00hs)</span></span></p><p dir="ltr" styl
 e="margin: 0pt 0px\; font-family: Abel\, sans-serif\; text-align: center\;
  color: rgb(51\, 51\, 51)\; font-size: 14px\; line-height: 1.38\;">---<br>
 <br><br><span style="color: rgb(156\, 156\, 148)\; font-size: 12px\;">PROM
 O BANCO PROVINCIA CONDICIONES:&nbsp\;</span><a href="https://tr.ee/89uSGj"
  target="_blank" style="background-color: rgb(255\, 255\, 255)\; font-size
 : 12px\;">https://tr.ee/89uSGj</a></p>
END:VEVENT
END:VCALENDAR
