BEGIN:VCALENDAR
VERSION:2.0
PRODID:-//My Calendar//mxm.dk//
BEGIN:VEVENT
SUMMARY:VALENTINO MERLO EN OLAVARRIA
DTSTART:20260507T233000Z
DTEND:20260508T025500Z
DTSTAMP:20260423T145122Z
DESCRIPTION:<p dir="ltr" style="text-align: center\; margin: 0pt 0px\; -we
 bkit-tap-highlight-color: rgba(0\, 0\, 0\, 0)\; text-size-adjust: 100%\; l
 ine-height: 1.656\;"><font color="#201f1e" face="Arial"><span style="font-
 size: 18px\; caret-color: rgb(51\, 51\, 51)\;"><b><u>VALENTINO MERLO</u></
 b></span></font></p><p dir="ltr" style="margin: 0pt 0px\; text-align: cent
 er\; -webkit-tap-highlight-color: rgba(0\, 0\, 0\, 0)\; text-size-adjust: 
 100%\; line-height: 1.656\;"><font color="#201f1e" face="Arial"><u><font f
 ace="Abel\, sans-serif"><span style="font-size: 15.3333px\; font-weight: b
 older\; caret-color: rgb(51\, 51\, 51)\;">EN OLAVARRIA</span></font></u></
 font></p><p dir="ltr" style="margin: 0pt 0px\; font-family: Abel\, sans-se
 rif\; text-align: center\; color: rgb(51\, 51\, 51)\; font-size: 14px\; ca
 ret-color: rgb(51\, 51\, 51)\; -webkit-tap-highlight-color: rgba(0\, 0\, 0
 \, 0)\; text-size-adjust: 100%\; line-height: 1.656\;"><span style="font-s
 ize: 11.5pt\; font-family: Arial\; color: rgb(32\, 31\, 30)\; font-variant
 -numeric: normal\; font-variant-east-asian: normal\; vertical-align: basel
 ine\;"><br></span></p><p dir="ltr" style="margin: 0pt 0px\; font-family: A
 bel\, sans-serif\; text-align: center\; color: rgb(51\, 51\, 51)\; font-si
 ze: 14px\; caret-color: rgb(51\, 51\, 51)\; -webkit-tap-highlight-color: r
 gba(0\, 0\, 0\, 0)\; text-size-adjust: 100%\; line-height: 1.656\;"><span 
 style="font-size: 11.5pt\; font-family: Arial\; color: rgb(32\, 31\, 30)\;
  font-variant-numeric: normal\; font-variant-east-asian: normal\; vertical
 -align: baseline\;">Entradas anticipadas:<br><br></span></p><p dir="ltr" s
 tyle="margin: 0pt 0px\; font-family: Abel\, sans-serif\; text-align: cente
 r\; color: rgb(51\, 51\, 51)\; font-size: 14px\; caret-color: rgb(51\, 51\
 , 51)\; -webkit-tap-highlight-color: rgba(0\, 0\, 0\, 0)\; text-size-adjus
 t: 100%\; line-height: 1.656\;"><u style="color: rgb(34\, 34\, 34)\; font-
 family: Arial\; font-size: 14.6667px\;">POR SISTEMA:<br></u><span style="f
 ont-weight: 700\; color: rgb(34\, 34\, 34)\; font-family: Arial\; font-siz
 e: 11pt\;">(Todos los medios de pago)</span></p><p dir="ltr" style="margin
 : 0pt 0px\; font-family: Abel\, sans-serif\; text-align: center\; color: r
 gb(51\, 51\, 51)\; font-size: 14px\; caret-color: rgb(51\, 51\, 51)\; -web
 kit-tap-highlight-color: rgba(0\, 0\, 0\, 0)\; text-size-adjust: 100%\; li
 ne-height: 1.656\;"><span style="font-weight: 700\; color: rgb(34\, 34\, 3
 4)\; font-family: Arial\; font-size: 11pt\;"><br></span></p><p dir="ltr" s
 tyle="margin: 0pt 0px\; font-family: Abel\, sans-serif\; text-align: cente
 r\; color: rgb(51\, 51\, 51)\; font-size: 14px\; caret-color: rgb(51\, 51\
 , 51)\; -webkit-tap-highlight-color: rgba(0\, 0\, 0\, 0)\; text-size-adjus
 t: 100%\; line-height: 1.656\;"><font color="#222222" face="Arial"><span s
 tyle="font-size: 14.6667px\;"><u>Efectivo en:</u></span></font></p><p dir=
 "ltr" style="margin: 0pt 0px\; font-family: Abel\, sans-serif\; text-align
 : center\; color: rgb(51\, 51\, 51)\; font-size: 14px\; caret-color: rgb(5
 1\, 51\, 51)\; -webkit-tap-highlight-color: rgba(0\, 0\, 0\, 0)\; text-siz
 e-adjust: 100%\; line-height: 1.656\;"><span style="font-size: 11.5pt\; fo
 nt-family: Arial\; color: rgb(32\, 31\, 30)\; font-weight: 700\; font-vari
 ant-numeric: normal\; font-variant-east-asian: normal\; vertical-align: ba
 seline\;">TecnoCentro:</span><span style="font-size: 11.5pt\; font-family:
  Arial\; color: rgb(32\, 31\, 30)\; font-variant-numeric: normal\; font-va
 riant-east-asian: normal\; vertical-align: baseline\;">&nbsp\;Rivadavia 30
 65 -&nbsp\;<span style="font-weight: 700\;">Olavarria</span></span></p><di
 v style="text-align: center\; -webkit-tap-highlight-color: rgba(0\, 0\, 0\
 , 0)\; text-size-adjust: 100%\; font-family: Arial\, Helvetica\, sans-seri
 f\; font-size: small\; color: rgb(33\, 33\, 33)\;"><i><br></i></div><p dir
 ="ltr" style="margin: 0pt 0px\; font-family: Abel\, sans-serif\; text-alig
 n: center\; color: rgb(51\, 51\, 51)\; font-size: 14px\; caret-color: rgb(
 51\, 51\, 51)\; -webkit-tap-highlight-color: rgba(0\, 0\, 0\, 0)\; text-si
 ze-adjust: 100%\; line-height: 1.656\;"><span style="font-size: 11pt\; fon
 t-family: Arial\; color: rgb(34\, 34\, 34)\; font-variant-numeric: normal\
 ; font-variant-east-asian: normal\; vertical-align: baseline\;"><span styl
 e="font-weight: 700\;"><u>Entradas de Discapacidad</u></span></span></p><p
  dir="ltr" style="margin: 0pt 0px\; font-family: Abel\, sans-serif\; text-
 align: center\; color: rgb(51\, 51\, 51)\; font-size: 14px\; caret-color: 
 rgb(51\, 51\, 51)\; -webkit-tap-highlight-color: rgba(0\, 0\, 0\, 0)\; tex
 t-size-adjust: 100%\; line-height: 1.656\;"><span style="font-size: 11pt\;
  font-family: Arial\; color: rgb(34\, 34\, 34)\; font-variant-numeric: nor
 mal\; font-variant-east-asian: normal\; vertical-align: baseline\;"></span
 ></p><p dir="ltr" style="margin: 0pt 0px\; font-family: Abel\, sans-serif\
 ; text-align: center\; color: rgb(51\, 51\, 51)\; font-size: 14px\; line-h
 eight: 1.656\;"><span style="font-size: 11pt\; font-family: Arial\; color:
  rgb(34\, 34\, 34)\; font-variant-numeric: normal\; font-variant-east-asia
 n: normal\; vertical-align: baseline\;">Para solicitar entradas de discapa
 cidad por favor&nbsp\;dirigirse a la&nbsp\;<span style="font-weight: bolde
 r\;">Boletería del Teatro</span>&nbsp\;de&nbsp\;<span style="font-weight:
  bolder\;">Lunes a viernes de 8:30 a 16hs.</span></span></p><p style="marg
 in: 0pt 0px\; text-align: center\; color: rgb(34\, 34\, 34)\; font-family:
  Arial\, Helvetica\, sans-serif\; font-size: small\; line-height: 1.656\;"
 ><font face="Arial" color="#ffffff"><span style="font-size: 14.6667px\; ba
 ckground-color: rgb(103\, 78\, 167)\;"><span style="font-weight: bolder\;"
 >Las entradas se podrán&nbsp\;solicitar a partir del 1er día hábil del 
 mes corriente del evento.</span></span></font></p><p dir="ltr" style="marg
 in: 0pt 0px\; font-family: Abel\, sans-serif\; text-align: center\; color:
  rgb(51\, 51\, 51)\; font-size: 14px\; caret-color: rgb(51\, 51\, 51)\; -w
 ebkit-tap-highlight-color: rgba(0\, 0\, 0\, 0)\; text-size-adjust: 100%\; 
 line-height: 1.656\;"><span style="font-size: 11pt\; font-family: Arial\; 
 color: rgb(34\, 34\, 34)\; font-variant-numeric: normal\; font-variant-eas
 t-asian: normal\; vertical-align: baseline\;"><br></span></p><p dir="ltr" 
 style="margin: 0pt 0px\; font-family: Abel\, sans-serif\; text-align: cent
 er\; color: rgb(51\, 51\, 51)\; font-size: 14px\; caret-color: rgb(51\, 51
 \, 51)\; -webkit-tap-highlight-color: rgba(0\, 0\, 0\, 0)\; text-size-adju
 st: 100%\; line-height: 1.38\;"><a href="http://www.articket.com.ar/" styl
 e="color: rgb(51\, 122\, 183)\;"><span style="font-size: 11.5pt\; font-fam
 ily: Arial\; color: rgb(17\, 85\, 204)\; font-variant-numeric: normal\; fo
 nt-variant-east-asian: normal\; text-decoration-line: underline\; text-dec
 oration-skip-ink: none\; vertical-align: baseline\;">www.articket.com.ar</
 span></a></p><p style="font-family: Abel\, sans-serif\; text-align: center
 \;"><br style="color: rgb(51\, 51\, 51)\; font-size: 14px\; caret-color: r
 gb(51\, 51\, 51)\; -webkit-tap-highlight-color: rgba(0\, 0\, 0\, 0)\; text
 -size-adjust: 100%\;"></p><p dir="ltr" style="margin: 0pt 0px\; font-famil
 y: Abel\, sans-serif\; text-align: center\; color: rgb(51\, 51\, 51)\; fon
 t-size: 14px\; caret-color: rgb(51\, 51\, 51)\; -webkit-tap-highlight-colo
 r: rgba(0\, 0\, 0\, 0)\; text-size-adjust: 100%\; line-height: 1.38\;"><sp
 an style="font-size: 11pt\; font-family: Arial\; color: rgb(34\, 34\, 34)\
 ; font-weight: 700\; font-variant-numeric: normal\; font-variant-east-asia
 n: normal\; vertical-align: baseline\;">APTO TODO PUBLICO</span></p><p dir
 ="ltr" style="margin: 0pt 0px\; font-family: Abel\, sans-serif\; text-alig
 n: center\; color: rgb(51\, 51\, 51)\; font-size: 14px\; caret-color: rgb(
 51\, 51\, 51)\; -webkit-tap-highlight-color: rgba(0\, 0\, 0\, 0)\; text-si
 ze-adjust: 100%\; line-height: 1.38\;"><span style="font-size: 11pt\; font
 -family: Arial\; color: rgb(34\, 34\, 34)\; font-weight: 700\; font-varian
 t-numeric: normal\; font-variant-east-asian: normal\; vertical-align: base
 line\;"><br></span></p><p dir="ltr" style="margin: 0pt 0px\; font-family: 
 Abel\, sans-serif\; text-align: center\; color: rgb(51\, 51\, 51)\; font-s
 ize: 14px\; caret-color: rgb(51\, 51\, 51)\; -webkit-tap-highlight-color: 
 rgba(0\, 0\, 0\, 0)\; text-size-adjust: 100%\; line-height: 1.38\;"><span 
 style="font-size: 11pt\; font-family: Arial\; color: rgb(34\, 34\, 34)\; f
 ont-weight: 700\; font-variant-numeric: normal\; font-variant-east-asian: 
 normal\; vertical-align: baseline\;">---</span></p><p dir="ltr" style="mar
 gin: 0pt 0px\; font-family: Abel\, sans-serif\; text-align: center\; color
 : rgb(51\, 51\, 51)\; font-size: 14px\; caret-color: rgb(51\, 51\, 51)\; -
 webkit-tap-highlight-color: rgba(0\, 0\, 0\, 0)\; text-size-adjust: 100%\;
  line-height: 1.38\;"><br></p><p dir="ltr" style="margin: 0pt 0px\; text-a
 lign: center\; -webkit-tap-highlight-color: rgba(0\, 0\, 0\, 0)\; text-siz
 e-adjust: 100%\; line-height: 1.38\;"><font color="#333333" face="Abel\, s
 ans-serif"><span style="font-size: 14px\; caret-color: rgb(51\, 51\, 51)\;
 ">Valentino Merlo\, el fenómeno musical rosarino que conquistó al públi
 co con su voz y</span></font></p><p dir="ltr" style="margin: 0pt 0px\; tex
 t-align: center\; -webkit-tap-highlight-color: rgba(0\, 0\, 0\, 0)\; text-
 size-adjust: 100%\; line-height: 1.38\;"><font color="#333333" face="Abel\
 , sans-serif"><span style="font-size: 14px\; caret-color: rgb(51\, 51\, 51
 )\;">colaboraciones explosivas (como su participación en el Crossover 7 d
 e Big One\, Tu Foto</span></font></p><p dir="ltr" style="margin: 0pt 0px\;
  text-align: center\; -webkit-tap-highlight-color: rgba(0\, 0\, 0\, 0)\; t
 ext-size-adjust: 100%\; line-height: 1.38\;"><font color="#333333" face="A
 bel\, sans-serif"><span style="font-size: 14px\; caret-color: rgb(51\, 51\
 , 51)\;">con Q Lokura o su trabajo junto a Coti)\, anuncia su Gira 2026. E
 l Fenómeno Vocal que</span></font></p><p dir="ltr" style="margin: 0pt 0px
 \; text-align: center\; -webkit-tap-highlight-color: rgba(0\, 0\, 0\, 0)\;
  text-size-adjust: 100%\; line-height: 1.38\;"><font color="#333333" face=
 "Abel\, sans-serif"><span style="font-size: 14px\; caret-color: rgb(51\, 5
 1\, 51)\;">Deslumbra Valentino Merlo ha vivido un ascenso meteórico desde
  que se viralizó su</span></font></p><p dir="ltr" style="margin: 0pt 0px\
 ; text-align: center\; -webkit-tap-highlight-color: rgba(0\, 0\, 0\, 0)\; 
 text-size-adjust: 100%\; line-height: 1.38\;"><font color="#333333" face="
 Abel\, sans-serif"><span style="font-size: 14px\; caret-color: rgb(51\, 51
 \, 51)\;">talento\, pasando de cantar en eventos locales en Rosario a llen
 ar teatros y participar</span></font></p><p dir="ltr" style="margin: 0pt 0
 px\; text-align: center\; -webkit-tap-highlight-color: rgba(0\, 0\, 0\, 0)
 \; text-size-adjust: 100%\; line-height: 1.38\;"><font color="#333333" fac
 e="Abel\, sans-serif"><span style="font-size: 14px\; caret-color: rgb(51\,
  51\, 51)\;">en festivales masivos como la Fiesta Nacional de la Confluenc
 ia y Villa María en 2025.</span></font></p><p dir="ltr" style="margin: 0p
 t 0px\; text-align: center\; -webkit-tap-highlight-color: rgba(0\, 0\, 0\,
  0)\; text-size-adjust: 100%\; line-height: 1.38\;"><font color="#333333" 
 face="Abel\, sans-serif"><span style="font-size: 14px\; caret-color: rgb(5
 1\, 51\, 51)\;">Con solo 17 años\, el joven artista se consolida como una
  de las voces más</span></font></p><p dir="ltr" style="margin: 0pt 0px\; 
 text-align: center\; -webkit-tap-highlight-color: rgba(0\, 0\, 0\, 0)\; te
 xt-size-adjust: 100%\; line-height: 1.38\;"><font color="#333333" face="Ab
 el\, sans-serif"><span style="font-size: 14px\; caret-color: rgb(51\, 51\,
  51)\;">prometedoras de la escena nacional. La nueva presentación promete
  ser un recorrido</span></font></p><p dir="ltr" style="margin: 0pt 0px\; t
 ext-align: center\; -webkit-tap-highlight-color: rgba(0\, 0\, 0\, 0)\; tex
 t-size-adjust: 100%\; line-height: 1.38\;"><font color="#333333" face="Abe
 l\, sans-serif"><span style="font-size: 14px\; caret-color: rgb(51\, 51\, 
 51)\;">vibrante por todos sus éxitos\, incluyendo temas que suman millone
 s de</span></font></p><p dir="ltr" style="margin: 0pt 0px\; text-align: ce
 nter\; -webkit-tap-highlight-color: rgba(0\, 0\, 0\, 0)\; text-size-adjust
 : 100%\; line-height: 1.38\;"><font color="#333333" face="Abel\, sans-seri
 f"><span style="font-size: 14px\; caret-color: rgb(51\, 51\, 51)\;">reprod
 ucciones en YouTube.</span></font></p><p dir="ltr" style="margin: 0pt 0px\
 ; text-align: center\; -webkit-tap-highlight-color: rgba(0\, 0\, 0\, 0)\; 
 text-size-adjust: 100%\; line-height: 1.38\;"><font color="#222222" face="
 Arial"><span style="font-size: 14.6667px\; caret-color: rgb(51\, 51\, 51)\
 ;"><span style="font-weight: bolder\;"><br></span></span></font></p><p dir
 ="ltr" style="margin: 0pt 0px\; text-align: center\; line-height: 1.38\;">
 <font face="Abel\, sans-serif" color="#9c9c94"><span style="font-size: 12p
 x\;">PROMO BANCO PROVINCIA CONDICIONES:&nbsp\;<a href="https://tr.ee/89uSG
 j" target="_blank">https://tr.ee/89uSGj</a></span></font></p>
END:VEVENT
END:VCALENDAR
