BEGIN:VCALENDAR
VERSION:2.0
PRODID:-//My Calendar//mxm.dk//
BEGIN:VEVENT
SUMMARY:PABLO CORDONET - VENGO DE LOS 80s
DTSTART:20260808T000000Z
DTEND:20260808T025500Z
DTSTAMP:20260424T124803Z
DESCRIPTION:<p dir="ltr" style="margin: 0pt 0px\; text-align: center\; lin
 e-height: 1.656\;"><span style="font-size: 24px\;"><b><u>PABLO CORDONET</u
 ></b></span></p><p dir="ltr" style="margin: 0pt 0px\; text-align: center\;
  line-height: 1.656\;"><span style="font-size: 24px\;"><b><u>VENGO DE LOS 
 80s</u></b></span></p><p dir="ltr" style="margin: 0pt 0px\; text-align: ce
 nter\; line-height: 1.656\;"><span style="text-align: left\; font-size: 24
 px\;"><span style="font-weight: bolder\;"><u>EN VORTERIX<br><br></u></span
 ></span></p><div style="text-align: center\; font-family: Arial\, Helvetic
 a\, sans-serif\; font-size: small\; color: rgb(0\, 0\, 0)\;"><p class="Mso
 Normal" style="margin: 0cm 0cm 8pt\; color: rgb(34\, 34\, 34)\; line-heigh
 t: 16.1891px\;"><br></p></div><div dir="auto" style="font-family: Abel\, s
 ans-serif\; text-align: center\;"><div></div></div><p dir="ltr" style="mar
 gin: 0pt 0px\; font-family: Abel\, sans-serif\; text-align: center\; color
 : rgb(51\, 51\, 51)\; font-size: 14px\; line-height: 1.656\;"><span style=
 "font-size: 11.5pt\; font-family: Arial\; color: rgb(32\, 31\, 30)\; backg
 round-color: transparent\; font-variant-numeric: normal\; font-variant-eas
 t-asian: normal\; vertical-align: baseline\;">Entradas anticipadas limitad
 as en efectivo:</span></p><p dir="ltr" style="margin: 0pt 0px\; font-famil
 y: Abel\, sans-serif\; text-align: center\; color: rgb(51\, 51\, 51)\; fon
 t-size: 14px\; line-height: 1.656\;"><span style="font-size: 11pt\; font-f
 amily: Arial\; color: rgb(34\, 34\, 34)\; background-color: transparent\; 
 font-variant-numeric: normal\; font-variant-east-asian: normal\; vertical-
 align: baseline\;">&nbsp\;</span></p><p dir="ltr" style="margin: 0pt 0px\;
  font-family: Abel\, sans-serif\; text-align: center\; color: rgb(51\, 51\
 , 51)\; font-size: 14px\; line-height: 1.656\;"><span style="font-size: 11
 .5pt\; font-family: Arial\; color: rgb(32\, 31\, 30)\; background-color: t
 ransparent\; font-variant-numeric: normal\; font-variant-east-asian: norma
 l\; vertical-align: baseline\;"><span style="font-weight: bolder\;">La Cas
 a de las Guitarras:</span></span><span style="font-size: 11.5pt\; font-fam
 ily: Arial\; color: rgb(32\, 31\, 30)\; background-color: transparent\; fo
 nt-variant-numeric: normal\; font-variant-east-asian: normal\; vertical-al
 ign: baseline\;">&nbsp\;Belgrano 3420 - Mar del Plata</span></p><p dir="lt
 r" style="margin: 0pt 0px\; font-family: Abel\, sans-serif\; text-align: c
 enter\; color: rgb(51\, 51\, 51)\; font-size: 14px\; line-height: 1.656\;"
 ><span style="white-space-collapse: preserve\; background-color: transpare
 nt\; font-size: 11.5pt\; font-family: Arial\; color: rgb(32\, 31\, 30)\; f
 ont-variant-numeric: normal\; font-variant-east-asian: normal\; vertical-a
 lign: baseline\;"><span style="font-weight: bolder\;">FAVA Casa Central:</
 span></span><span style="white-space-collapse: preserve\; background-color
 : transparent\; font-size: 11.5pt\; font-family: Arial\; color: rgb(32\, 3
 1\, 30)\; font-weight: 700\; font-variant-numeric: normal\; font-variant-e
 ast-asian: normal\; vertical-align: baseline\;"> </span><span style="white
 -space-collapse: preserve\; background-color: transparent\; font-size: 11.
 5pt\; font-family: Arial\; color: rgb(32\, 31\, 30)\; font-variant-numeric
 : normal\; font-variant-east-asian: normal\; vertical-align: baseline\;">A
 v. Pedro Luro 3247 - Mar del Plata</span></p><p dir="ltr" style="margin: 0
 pt 0px\; font-family: Abel\, sans-serif\; text-align: center\; color: rgb(
 51\, 51\, 51)\; font-size: 14px\; line-height: 1.656\;"><span style="font-
 size: 11pt\; font-family: Arial\; color: rgb(34\, 34\, 34)\; background-co
 lor: transparent\; font-variant-numeric: normal\; font-variant-east-asian:
  normal\; vertical-align: baseline\;">&nbsp\;</span></p><p dir="ltr" style
 ="margin: 0pt 0px\; font-family: Abel\, sans-serif\; text-align: center\; 
 color: rgb(51\, 51\, 51)\; font-size: 14px\; line-height: 1.38\;"><a href=
 "http://www.articket.com.ar/" target="_blank">www.articket.com.ar</a><br><
 /p><p dir="ltr" style="margin: 0pt 0px\; font-family: Abel\, sans-serif\; 
 text-align: center\; color: rgb(51\, 51\, 51)\; font-size: 14px\; line-hei
 ght: 1.38\;"><br></p><p dir="ltr" style="margin: 0pt 0px\; font-family: Ab
 el\, sans-serif\; text-align: center\; color: rgb(51\, 51\, 51)\; font-siz
 e: 14px\; line-height: 1.38\;"><br></p><p dir="ltr" style="margin: 0pt 0px
 \; font-family: Abel\, sans-serif\; text-align: center\; color: rgb(51\, 5
 1\, 51)\; font-size: 14px\; line-height: 1.38\;"><span style="font-weight:
  bolder\;">SHOW APTO TODO PUBLICO</span></p><p dir="ltr" style="margin: 0p
 t 0px\; font-family: Abel\, sans-serif\; text-align: center\; color: rgb(5
 1\, 51\, 51)\; font-size: 14px\; line-height: 1.38\;"><br></p><p dir="ltr"
  style="margin: 0pt 0px\; font-family: Abel\, sans-serif\; text-align: cen
 ter\; color: rgb(51\, 51\, 51)\; font-size: 14px\; line-height: 1.38\;"><b
 r></p><p dir="ltr" style="margin: 0pt 0px\; font-family: Abel\, sans-serif
 \; text-align: center\; color: rgb(51\, 51\, 51)\; font-size: 14px\; line-
 height: 1.38\;"><br></p><p dir="ltr" style="margin: 0pt 0px\; text-align: 
 center\; line-height: 1.38\;"><font face="Abel\, sans-serif" color="#9c9c9
 4"><span style="font-size: 12px\;">PROMO BANCO PROVINCIA CONDICIONES:&nbsp
 \;<a href="https://tr.ee/89uSGj" target="_blank">https://tr.ee/89uSGj</a><
 /span></font></p>
END:VEVENT
END:VCALENDAR
