BEGIN:VCALENDAR
VERSION:2.0
PRODID:-//My Calendar//mxm.dk//
BEGIN:VEVENT
SUMMARY:DEMASIADO DE PABLO MOLINARI EN VORTERIX
DTSTART:20260823T000000Z
DTEND:20260823T025500Z
DTSTAMP:20260424T124617Z
DESCRIPTION:<p dir="ltr" style="margin: 0pt 0px\; text-align: center\; lin
 e-height: 1.656\;"><span style="color: rgb(0\, 0\, 0)\; font-family: &quot
 \;Segoe UI&quot\;\; text-align: start\; font-size: 24px\;"><b style=""><u>
 "DEMASIADO" de Pablo Molinari</u></b></span></p><p dir="ltr" style="margin
 : 0pt 0px\; text-align: center\; line-height: 1.656\;"><span style="text-a
 lign: left\; font-size: 24px\;"><span style="font-weight: bolder\;"><u>EN 
 VORTERIX<br><br></u></span></span></p><div style="text-align: center\; fon
 t-family: Arial\, Helvetica\, sans-serif\; font-size: small\; color: rgb(0
 \, 0\, 0)\;"><p class="MsoNormal" style="margin: 0cm 0cm 8pt\; color: rgb(
 34\, 34\, 34)\; line-height: 16.1891px\;"><br></p></div><div dir="auto" st
 yle="font-family: Abel\, sans-serif\; text-align: center\;"><div></div></d
 iv><p dir="ltr" style="margin: 0pt 0px\; font-family: Abel\, sans-serif\; 
 text-align: center\; color: rgb(51\, 51\, 51)\; font-size: 14px\; line-hei
 ght: 1.656\;"><span style="font-size: 11.5pt\; font-family: Arial\; color:
  rgb(32\, 31\, 30)\; background-color: transparent\; font-variant-numeric:
  normal\; font-variant-east-asian: normal\; vertical-align: baseline\;">En
 tradas anticipadas limitadas en efectivo:</span></p><p dir="ltr" style="ma
 rgin: 0pt 0px\; font-family: Abel\, sans-serif\; text-align: center\; colo
 r: rgb(51\, 51\, 51)\; font-size: 14px\; line-height: 1.656\;"><span style
 ="font-size: 11pt\; font-family: Arial\; color: rgb(34\, 34\, 34)\; backgr
 ound-color: transparent\; font-variant-numeric: normal\; font-variant-east
 -asian: normal\; vertical-align: baseline\;">&nbsp\;</span></p><p dir="ltr
 " style="margin: 0pt 0px\; font-family: Abel\, sans-serif\; text-align: ce
 nter\; color: rgb(51\, 51\, 51)\; font-size: 14px\; line-height: 1.656\;">
 <span style="font-size: 11.5pt\; font-family: Arial\; color: rgb(32\, 31\,
  30)\; background-color: transparent\; font-variant-numeric: normal\; font
 -variant-east-asian: normal\; vertical-align: baseline\;"><span style="fon
 t-weight: bolder\;">La Casa de las Guitarras:</span></span><span style="fo
 nt-size: 11.5pt\; font-family: Arial\; color: rgb(32\, 31\, 30)\; backgrou
 nd-color: transparent\; font-variant-numeric: normal\; font-variant-east-a
 sian: normal\; vertical-align: baseline\;">&nbsp\;Belgrano 3420 - Mar del 
 Plata</span></p><p dir="ltr" style="margin: 0pt 0px\; font-family: Abel\, 
 sans-serif\; text-align: center\; color: rgb(51\, 51\, 51)\; font-size: 14
 px\; line-height: 1.656\;"><span style="white-space-collapse: preserve\; b
 ackground-color: transparent\; font-size: 11.5pt\; font-family: Arial\; co
 lor: rgb(32\, 31\, 30)\; font-variant-numeric: normal\; font-variant-east-
 asian: normal\; vertical-align: baseline\;"><span style="font-weight: bold
 er\;">FAVA Casa Central:</span></span><span style="white-space-collapse: p
 reserve\; background-color: transparent\; font-size: 11.5pt\; font-family:
  Arial\; color: rgb(32\, 31\, 30)\; font-weight: 700\; font-variant-numeri
 c: normal\; font-variant-east-asian: normal\; vertical-align: baseline\;">
  </span><span style="white-space-collapse: preserve\; background-color: tr
 ansparent\; font-size: 11.5pt\; font-family: Arial\; color: rgb(32\, 31\, 
 30)\; font-variant-numeric: normal\; font-variant-east-asian: normal\; ver
 tical-align: baseline\;">Av. Pedro Luro 3247 - Mar del Plata</span></p><p 
 dir="ltr" style="margin: 0pt 0px\; font-family: Abel\, sans-serif\; text-a
 lign: center\; color: rgb(51\, 51\, 51)\; font-size: 14px\; line-height: 1
 .656\;"><span style="font-size: 11pt\; font-family: Arial\; color: rgb(34\
 , 34\, 34)\; background-color: transparent\; font-variant-numeric: normal\
 ; font-variant-east-asian: normal\; vertical-align: baseline\;">&nbsp\;</s
 pan></p><p dir="ltr" style="margin: 0pt 0px\; font-family: Abel\, sans-ser
 if\; text-align: center\; color: rgb(51\, 51\, 51)\; font-size: 14px\; lin
 e-height: 1.38\;"><a href="http://www.articket.com.ar/" target="_blank">ww
 w.articket.com.ar</a><br></p><p dir="ltr" style="margin: 0pt 0px\; font-fa
 mily: Abel\, sans-serif\; text-align: center\; color: rgb(51\, 51\, 51)\; 
 font-size: 14px\; line-height: 1.38\;"><br></p><p dir="ltr" style="margin:
  0pt 0px\; font-family: Abel\, sans-serif\; text-align: center\; color: rg
 b(51\, 51\, 51)\; font-size: 14px\; line-height: 1.38\;"><br></p><p dir="l
 tr" style="margin: 0pt 0px\; font-family: Abel\, sans-serif\; text-align: 
 center\; color: rgb(51\, 51\, 51)\; font-size: 14px\; line-height: 1.38\;"
 ><span style="font-weight: bolder\;">SHOW APTO TODO PUBLICO</span></p><p d
 ir="ltr" style="margin: 0pt 0px\; font-family: Abel\, sans-serif\; text-al
 ign: center\; color: rgb(51\, 51\, 51)\; font-size: 14px\; line-height: 1.
 38\;"><br></p><p dir="ltr" style="margin: 0pt 0px\; font-family: Abel\, sa
 ns-serif\; text-align: center\; color: rgb(51\, 51\, 51)\; font-size: 14px
 \; line-height: 1.38\;"><br></p><p dir="ltr" style="margin: 0pt 0px\; font
 -family: Abel\, sans-serif\; text-align: center\; color: rgb(51\, 51\, 51)
 \; font-size: 14px\; line-height: 1.38\;"><br></p><p dir="ltr" style="marg
 in: 0pt 0px\; text-align: center\; line-height: 1.38\;"><font face="Abel\,
  sans-serif" color="#9c9c94"><span style="font-size: 12px\;">PROMO BANCO P
 ROVINCIA CONDICIONES:&nbsp\;<a href="https://tr.ee/89uSGj" target="_blank"
 >https://tr.ee/89uSGj</a></span></font></p>
END:VEVENT
END:VCALENDAR
