BEGIN:VCALENDAR
VERSION:2.0
PRODID:-//My Calendar//mxm.dk//
BEGIN:VEVENT
SUMMARY:MUNICH ROCK Y SAVIA EN WO
DTSTART:20260510T010000Z
DTEND:20260510T080000Z
DTSTAMP:20260422T135850Z
DESCRIPTION:<p style="text-align: center\;"><font color="#1f1f1f" face="Se
 goe UI"><span style="font-size: 24px\; font-variant-ligatures: no-contextu
 al\;"><span style="font-weight: bolder\;"><u>MUNICH ROCK Y SAVIA<br>NECOCH
 EA</u></span></span></font></p><p style="text-align: center\;">Entradas an
 ticipadas limitadas en efectivo:</p><p style="text-align: center\;">&nbsp\
 ;ADN Store: Calle 61 N° 2813 - Necochea.</p><p style="text-align: center\
 ;">www.articket.com.ar</p><p style="text-align: center\;"><br></p><p style
 ="text-align: center\;"><span style="font-weight: bolder\;">APTO TODO PUBL
 ICO</span></p><p style="text-align: center\;"><span style="font-weight: bo
 lder\;"><br></span></p><p dir="ltr" style="margin: 0pt 0px\; text-align: c
 enter\; line-height: 1.38\;"><font face="Abel\, sans-serif" color="#9c9c94
 "><span style="font-size: 12px\;">PROMO BANCO PROVINCIA CONDICIONES:&nbsp\
 ;<a href="https://tr.ee/89uSGj" target="_blank">https://tr.ee/89uSGj</a></
 span></font></p><p dir="ltr" style="margin: 0pt 0px\; text-align: center\;
  line-height: 1.38\;"><br></p>
END:VEVENT
END:VCALENDAR
