BEGIN:VCALENDAR
VERSION:2.0
PRODID:-//My Calendar//mxm.dk//
BEGIN:VEVENT
SUMMARY:ESCUELAS AL TEATRO - HEROICA TODO PUEDE SUCEDER
DTSTART:20260610T131500Z
DTEND:20260610T160000Z
DTSTAMP:20260424T124417Z
DESCRIPTION:<div style="text-align: center\;"><font color="#1f1f1f" face="
 Google Sans\, Roboto\, RobotoDraft\, Helvetica\, Arial\, sans-serif"><span
  style="font-size: 22px\; font-variant-ligatures: no-contextual\;"><u styl
 e=""><b>ESCUELAS AL TEATRO</b></u></span></font></div><div style="text-ali
 gn: center\;"><font color="#1f1f1f" face="Google Sans\, Roboto\, RobotoDra
 ft\, Helvetica\, Arial\, sans-serif"><span style="font-size: 22px\; font-v
 ariant-ligatures: no-contextual\;"><u style=""><b>"HEROICA\, TODO PUEDE SU
 CEDER"</b></u></span></font></div><p dir="ltr" style="margin: 0pt 0px\; te
 xt-align: center\; -webkit-tap-highlight-color: rgba(0\, 0\, 0\, 0)\; text
 -size-adjust: 100%\; line-height: 1.656\;"><font color="#000000"><font fac
 e="Arial"><u><font face="Abel\, sans-serif"><span style="font-size: 15.333
 3px\; font-weight: bolder\; caret-color: rgb(51\, 51\, 51)\;">EN OLAVARRIA
 </span></font></u></font></font></p><p dir="ltr" style="margin: 0pt 0px\; 
 text-align: center\; -webkit-tap-highlight-color: rgba(0\, 0\, 0\, 0)\; te
 xt-size-adjust: 100%\; line-height: 1.656\;"><br></p><p dir="ltr" style="m
 argin: 0pt 0px\; font-family: Abel\, sans-serif\; text-align: center\; col
 or: rgb(51\, 51\, 51)\; font-size: 14px\; caret-color: rgb(51\, 51\, 51)\;
  -webkit-tap-highlight-color: rgba(0\, 0\, 0\, 0)\; text-size-adjust: 100%
 \; line-height: 1.656\;"><span style="font-size: 11.5pt\; font-family: Ari
 al\; color: rgb(32\, 31\, 30)\; font-variant-numeric: normal\; font-varian
 t-east-asian: normal\; vertical-align: baseline\;">Entradas anticipadas:<b
 r><br></span></p><p dir="ltr" style="margin: 0pt 0px\; font-family: Abel\,
  sans-serif\; text-align: center\; color: rgb(51\, 51\, 51)\; font-size: 1
 4px\; caret-color: rgb(51\, 51\, 51)\; -webkit-tap-highlight-color: rgba(0
 \, 0\, 0\, 0)\; text-size-adjust: 100%\; line-height: 1.656\;"><u style="c
 olor: rgb(34\, 34\, 34)\; font-family: Arial\; font-size: 14.6667px\;">POR
  SISTEMA:<br></u><span style="font-weight: 700\; color: rgb(34\, 34\, 34)\
 ; font-family: Arial\; font-size: 11pt\;">(Todos los medios de pago)</span
 ></p><p dir="ltr" style="margin: 0pt 0px\; font-family: Abel\, sans-serif\
 ; text-align: center\; color: rgb(51\, 51\, 51)\; font-size: 14px\; caret-
 color: rgb(51\, 51\, 51)\; -webkit-tap-highlight-color: rgba(0\, 0\, 0\, 0
 )\; text-size-adjust: 100%\; line-height: 1.656\;"><span style="font-weigh
 t: 700\; color: rgb(34\, 34\, 34)\; font-family: Arial\; font-size: 11pt\;
 "><br></span></p><p dir="ltr" style="margin: 0pt 0px\; font-family: Abel\,
  sans-serif\; text-align: center\; color: rgb(51\, 51\, 51)\; font-size: 1
 4px\; caret-color: rgb(51\, 51\, 51)\; -webkit-tap-highlight-color: rgba(0
 \, 0\, 0\, 0)\; text-size-adjust: 100%\; line-height: 1.656\;"><font color
 ="#222222" face="Arial"><span style="font-size: 14.6667px\;"><u>Efectivo e
 n:</u></span></font></p><p dir="ltr" style="margin: 0pt 0px\; font-family:
  Abel\, sans-serif\; text-align: center\; color: rgb(51\, 51\, 51)\; font-
 size: 14px\; caret-color: rgb(51\, 51\, 51)\; -webkit-tap-highlight-color:
  rgba(0\, 0\, 0\, 0)\; text-size-adjust: 100%\; line-height: 1.656\;"><spa
 n style="font-size: 11.5pt\; font-family: Arial\; color: rgb(32\, 31\, 30)
 \; font-weight: 700\; font-variant-numeric: normal\; font-variant-east-asi
 an: normal\; vertical-align: baseline\;">TecnoCentro:</span><span style="f
 ont-size: 11.5pt\; font-family: Arial\; color: rgb(32\, 31\, 30)\; font-va
 riant-numeric: normal\; font-variant-east-asian: normal\; vertical-align: 
 baseline\;">&nbsp\;Rivadavia 3065 -&nbsp\;<span style="font-weight: 700\;"
 >Olavarria</span></span></p><div style="text-align: center\; -webkit-tap-h
 ighlight-color: rgba(0\, 0\, 0\, 0)\; text-size-adjust: 100%\; font-family
 : Arial\, Helvetica\, sans-serif\; font-size: small\; color: rgb(33\, 33\,
  33)\;"><i><br></i></div><p dir="ltr" style="margin: 0pt 0px\; font-family
 : Abel\, sans-serif\; text-align: center\; color: rgb(51\, 51\, 51)\; font
 -size: 14px\; caret-color: rgb(51\, 51\, 51)\; -webkit-tap-highlight-color
 : rgba(0\, 0\, 0\, 0)\; text-size-adjust: 100%\; line-height: 1.656\;"><sp
 an style="font-size: 11pt\; font-family: Arial\; color: rgb(34\, 34\, 34)\
 ; font-variant-numeric: normal\; font-variant-east-asian: normal\; vertica
 l-align: baseline\;"><span style="font-weight: 700\;"><u>Entradas de Disca
 pacidad</u></span></span></p><p dir="ltr" style="margin: 0pt 0px\; font-fa
 mily: Abel\, sans-serif\; text-align: center\; color: rgb(51\, 51\, 51)\; 
 font-size: 14px\; caret-color: rgb(51\, 51\, 51)\; -webkit-tap-highlight-c
 olor: rgba(0\, 0\, 0\, 0)\; text-size-adjust: 100%\; line-height: 1.656\;"
 ><span style="font-size: 11pt\; font-family: Arial\; color: rgb(34\, 34\, 
 34)\; font-variant-numeric: normal\; font-variant-east-asian: normal\; ver
 tical-align: baseline\;"></span></p><p dir="ltr" style="margin: 0pt 0px\; 
 font-family: Abel\, sans-serif\; text-align: center\; color: rgb(51\, 51\,
  51)\; font-size: 14px\; line-height: 1.656\;"><span style="font-size: 11p
 t\; font-family: Arial\; color: rgb(34\, 34\, 34)\; font-variant-numeric: 
 normal\; font-variant-east-asian: normal\; vertical-align: baseline\;">Par
 a solicitar entradas de discapacidad por favor&nbsp\;dirigirse a la&nbsp\;
 <span style="font-weight: bolder\;">Boletería del Teatro</span>&nbsp\;de&
 nbsp\;<span style="font-weight: bolder\;">Lunes a viernes de 8:30 a 16hs.<
 /span></span></p><p style="margin: 0pt 0px\; text-align: center\; color: r
 gb(34\, 34\, 34)\; font-family: Arial\, Helvetica\, sans-serif\; font-size
 : small\; line-height: 1.656\;"><font face="Arial" color="#ffffff"><span s
 tyle="font-size: 14.6667px\; background-color: rgb(103\, 78\, 167)\;"><spa
 n style="font-weight: bolder\;">Las entradas se podrán&nbsp\;solicitar a 
 partir del 1er día hábil del mes corriente del evento.</span></span></fo
 nt></p><p dir="ltr" style="margin: 0pt 0px\; font-family: Abel\, sans-seri
 f\; text-align: center\; color: rgb(51\, 51\, 51)\; font-size: 14px\; care
 t-color: rgb(51\, 51\, 51)\; -webkit-tap-highlight-color: rgba(0\, 0\, 0\,
  0)\; text-size-adjust: 100%\; line-height: 1.656\;"><span style="font-siz
 e: 11pt\; font-family: Arial\; color: rgb(34\, 34\, 34)\; font-variant-num
 eric: normal\; font-variant-east-asian: normal\; vertical-align: baseline\
 ;"><br></span></p><p dir="ltr" style="margin: 0pt 0px\; font-family: Abel\
 , sans-serif\; text-align: center\; color: rgb(51\, 51\, 51)\; font-size: 
 14px\; caret-color: rgb(51\, 51\, 51)\; -webkit-tap-highlight-color: rgba(
 0\, 0\, 0\, 0)\; text-size-adjust: 100%\; line-height: 1.38\;"><a href="ht
 tp://www.articket.com.ar/" style="color: rgb(51\, 122\, 183)\;"><span styl
 e="font-size: 11.5pt\; font-family: Arial\; color: rgb(17\, 85\, 204)\; fo
 nt-variant-numeric: normal\; font-variant-east-asian: normal\; text-decora
 tion-line: underline\; text-decoration-skip-ink: none\; vertical-align: ba
 seline\;">www.articket.com.ar</span></a></p><p style="font-family: Abel\, 
 sans-serif\; text-align: center\;"><br style="color: rgb(51\, 51\, 51)\; f
 ont-size: 14px\; caret-color: rgb(51\, 51\, 51)\; -webkit-tap-highlight-co
 lor: rgba(0\, 0\, 0\, 0)\; text-size-adjust: 100%\;"></p><p dir="ltr" styl
 e="margin: 0pt 0px\; font-family: Abel\, sans-serif\; text-align: center\;
  color: rgb(51\, 51\, 51)\; font-size: 14px\; caret-color: rgb(51\, 51\, 5
 1)\; -webkit-tap-highlight-color: rgba(0\, 0\, 0\, 0)\; text-size-adjust: 
 100%\; line-height: 1.38\;"><span style="font-size: 11pt\; font-family: Ar
 ial\; color: rgb(34\, 34\, 34)\; font-weight: 700\; font-variant-numeric: 
 normal\; font-variant-east-asian: normal\; vertical-align: baseline\;">APT
 O TODO PUBLICO</span></p><p dir="ltr" style="margin: 0pt 0px\; font-family
 : Abel\, sans-serif\; text-align: center\; color: rgb(51\, 51\, 51)\; font
 -size: 14px\; caret-color: rgb(51\, 51\, 51)\; -webkit-tap-highlight-color
 : rgba(0\, 0\, 0\, 0)\; text-size-adjust: 100%\; line-height: 1.38\;"><spa
 n style="font-size: 11pt\; font-family: Arial\; color: rgb(34\, 34\, 34)\;
  font-weight: 700\; font-variant-numeric: normal\; font-variant-east-asian
 : normal\; vertical-align: baseline\;"><br></span></p><p dir="ltr" style="
 margin: 0pt 0px\; font-family: Abel\, sans-serif\; text-align: center\; co
 lor: rgb(51\, 51\, 51)\; font-size: 14px\; caret-color: rgb(51\, 51\, 51)\
 ; -webkit-tap-highlight-color: rgba(0\, 0\, 0\, 0)\; text-size-adjust: 100
 %\; line-height: 1.38\;"><span style="font-size: 11pt\; font-family: Arial
 \; color: rgb(34\, 34\, 34)\; font-weight: 700\; font-variant-numeric: nor
 mal\; font-variant-east-asian: normal\; vertical-align: baseline\;">---</s
 pan></p><p dir="ltr" style="margin: 0pt 0px\; font-family: Abel\, sans-ser
 if\; text-align: center\; color: rgb(51\, 51\, 51)\; font-size: 14px\; car
 et-color: rgb(51\, 51\, 51)\; -webkit-tap-highlight-color: rgba(0\, 0\, 0\
 , 0)\; text-size-adjust: 100%\; line-height: 1.38\;"><span style="font-siz
 e: 11pt\; font-family: Arial\; color: rgb(34\, 34\, 34)\; font-weight: 700
 \; font-variant-numeric: normal\; font-variant-east-asian: normal\; vertic
 al-align: baseline\;"><br></span></p><p dir="ltr" style="margin: 0pt 0px\;
  text-align: center\; -webkit-tap-highlight-color: rgba(0\, 0\, 0\, 0)\; t
 ext-size-adjust: 100%\; line-height: 1.38\;"><font color="#222222" face="A
 rial"><span style="font-size: 14.6667px\; caret-color: rgb(51\, 51\, 51)\;
 "><b>Llega El Esférico\, de la mano de Sonrisas producciones\, al Teatro 
 Municipal de Olavarría con su</b></span></font></p><p dir="ltr" style="ma
 rgin: 0pt 0px\; text-align: center\; -webkit-tap-highlight-color: rgba(0\,
  0\, 0\, 0)\; text-size-adjust: 100%\; line-height: 1.38\;"><font color="#
 222222" face="Arial"><span style="font-size: 14.6667px\; caret-color: rgb(
 51\, 51\, 51)\;"><b>espectáculo destinado a instituciones públicas y pri
 vadas\, de nivel secundario.</b></span></font></p><p dir="ltr" style="marg
 in: 0pt 0px\; text-align: center\; -webkit-tap-highlight-color: rgba(0\, 0
 \, 0\, 0)\; text-size-adjust: 100%\; line-height: 1.38\;"><font color="#22
 2222" face="Arial"><span style="font-size: 14.6667px\; caret-color: rgb(51
 \, 51\, 51)\;"><b>“Heroica\, todo puede suceder”</b></span></font></p>
 <p dir="ltr" style="margin: 0pt 0px\; text-align: center\; -webkit-tap-hig
 hlight-color: rgba(0\, 0\, 0\, 0)\; text-size-adjust: 100%\; line-height: 
 1.38\;"><font color="#222222" face="Arial"><span style="font-size: 14.6667
 px\; caret-color: rgb(51\, 51\, 51)\;"><b>Tres actores interpretan una pro
 puesta muy dinámica\, divertida\, que desanda los principales</b></span><
 /font></p><p dir="ltr" style="margin: 0pt 0px\; text-align: center\; -webk
 it-tap-highlight-color: rgba(0\, 0\, 0\, 0)\; text-size-adjust: 100%\; lin
 e-height: 1.38\;"><font color="#222222" face="Arial"><span style="font-siz
 e: 14.6667px\; caret-color: rgb(51\, 51\, 51)\;"><b>pasajes del relato de 
 Homero. La obra se divide en diferentes secuencias y repasa desde que</b><
 /span></font></p><p dir="ltr" style="margin: 0pt 0px\; text-align: center\
 ; -webkit-tap-highlight-color: rgba(0\, 0\, 0\, 0)\; text-size-adjust: 100
 %\; line-height: 1.38\;"><font color="#222222" face="Arial"><span style="f
 ont-size: 14.6667px\; caret-color: rgb(51\, 51\, 51)\;"><b>Odiseo es prisi
 onero en la Isla de la Ninfa Calipso\, un sinfín de aventuras hasta el en
 cuentro&nbsp\;</b></span></font><b style="font-size: 14.6667px\; caret-col
 or: rgb(51\, 51\, 51)\; color: rgb(34\, 34\, 34)\; font-family: Arial\;">c
 on su amada Penélope.</b></p><p dir="ltr" style="margin: 0pt 0px\; text-a
 lign: center\; -webkit-tap-highlight-color: rgba(0\, 0\, 0\, 0)\; text-siz
 e-adjust: 100%\; line-height: 1.38\;"><font color="#222222" face="Arial"><
 span style="font-size: 14.6667px\; caret-color: rgb(51\, 51\, 51)\;"><b>De
  esta forma\, los adolescentes descubren que los clásicos no pertenecen s
 ólo al pasado. Las</b></span></font></p><p dir="ltr" style="margin: 0pt 0
 px\; text-align: center\; -webkit-tap-highlight-color: rgba(0\, 0\, 0\, 0)
 \; text-size-adjust: 100%\; line-height: 1.38\;"><font color="#222222" fac
 e="Arial"><span style="font-size: 14.6667px\; caret-color: rgb(51\, 51\, 5
 1)\;"><b>historias siguen vivas cada vez que alguien se anima a contarlas 
 de nuevo.</b></span></font></p><p dir="ltr" style="margin: 0pt 0px\; text-
 align: center\; -webkit-tap-highlight-color: rgba(0\, 0\, 0\, 0)\; text-si
 ze-adjust: 100%\; line-height: 1.38\;"><font color="#222222" face="Arial">
 <span style="font-size: 14.6667px\; caret-color: rgb(51\, 51\, 51)\;"><spa
 n style="font-weight: bolder\;"><br></span></span></font></p><p dir="ltr" 
 style="margin: 0pt 0px\; text-align: center\; line-height: 1.38\;"><font f
 ace="Abel\, sans-serif" color="#9c9c94"><span style="font-size: 12px\;">PR
 OMO BANCO PROVINCIA CONDICIONES:&nbsp\;<a href="https://tr.ee/89uSGj" targ
 et="_blank">https://tr.ee/89uSGj</a></span></font></p><p dir="ltr" style="
 margin: 0pt 0px\; text-align: center\; line-height: 1.38\;"><br style="fon
 t-family: Abel\, sans-serif\;"></p>
END:VEVENT
END:VCALENDAR
