BEGIN:VCALENDAR
VERSION:2.0
PRODID:-//My Calendar//mxm.dk//
BEGIN:VEVENT
SUMMARY:LA H NO MURIO EN MDP
DTSTART:20260704T000000Z
DTEND:20260704T025500Z
DTSTAMP:20260421T132224Z
DESCRIPTION:<div style="text-align: center\; text-size-adjust: 100%\;"><fo
 nt color="#222222" face="Arial"><span style="font-size: 24px\;"><b><u>LA H
  NO MURIO</u></b></span></font></div><div style="text-align: center\; text
 -size-adjust: 100%\;"><font color="#222222" face="Arial"><span style="font
 -size: 14.6667px\;"><span style="font-weight: bolder\; font-size: 24px\;">
 <u>EN MAR DEL PLATA</u></span></span></font></div><div style="font-family:
  Abel\, sans-serif\; text-align: center\; text-size-adjust: 100%\; font-si
 ze: 14px\; color: rgb(34\, 34\, 34)\;"><font face="Arial"><span style="fon
 t-size: 14.6667px\;"><div style="font-family: Arial\, Helvetica\, sans-ser
 if\; font-size: small\;"><br></div></span></font></div><div style="text-al
 ign: center\; text-size-adjust: 100%\; color: rgb(34\, 34\, 34)\; font-fam
 ily: Arial\, Helvetica\, sans-serif\; font-size: small\;"><p dir="ltr" sty
 le="margin: 0pt 0px\; color: rgb(51\, 51\, 51)\; font-family: Abel\, sans-
 serif\; font-size: 14px\; line-height: 1.656\;"><span style="font-size: 11
 pt\; font-family: Arial\; color: rgb(34\, 34\, 34)\; font-variant-numeric:
  normal\; font-variant-east-asian: normal\; vertical-align: baseline\;">&n
 bsp\;</span></p><p dir="ltr" style="margin: 0pt 0px\; color: rgb(51\, 51\,
  51)\; font-family: Abel\, sans-serif\; font-size: 14px\; line-height: 1.6
 56\;"><span style="font-size: 11.5pt\; font-family: Arial\; color: rgb(32\
 , 31\, 30)\; font-weight: 700\; font-variant-numeric: normal\; font-varian
 t-east-asian: normal\; vertical-align: baseline\;">La Casa de las Guitarra
 s:</span><span style="font-size: 11.5pt\; font-family: Arial\; color: rgb(
 32\, 31\, 30)\; font-variant-numeric: normal\; font-variant-east-asian: no
 rmal\; vertical-align: baseline\;">&nbsp\;Belgrano 3420 - Mar del Plata</s
 pan></p><p dir="ltr" style="margin: 0pt 0px\; font-family: Abel\, sans-ser
 if\; color: rgb(51\, 51\, 51)\; font-size: 14px\; line-height: 1.656\;"><s
 pan style="font-size: 11.5pt\; font-family: Arial\; color: rgb(32\, 31\, 3
 0)\; background-color: transparent\; font-variant-numeric: normal\; font-v
 ariant-east-asian: normal\; vertical-align: baseline\; white-space-collaps
 e: preserve\;"><span style="font-weight: bolder\;">FAVA Casa Central:</spa
 n></span><span style="font-size: 11.5pt\; font-family: Arial\; color: rgb(
 32\, 31\, 30)\; background-color: transparent\; font-weight: 700\; font-va
 riant-numeric: normal\; font-variant-east-asian: normal\; vertical-align: 
 baseline\; white-space-collapse: preserve\;"> </span><span style="font-siz
 e: 11.5pt\; font-family: Arial\; color: rgb(32\, 31\, 30)\; background-col
 or: transparent\; font-variant-numeric: normal\; font-variant-east-asian: 
 normal\; vertical-align: baseline\; white-space-collapse: preserve\;">Av. 
 Pedro Luro 3247 - Mar del Plata</span></p><p dir="ltr" style="margin: 0pt 
 0px\; color: rgb(51\, 51\, 51)\; font-family: Abel\, sans-serif\; font-siz
 e: 14px\; line-height: 1.656\;"><span style="font-size: 11.5pt\; font-fami
 ly: Arial\; color: rgb(32\, 31\, 30)\; font-variant-numeric: normal\; font
 -variant-east-asian: normal\; vertical-align: baseline\;"><span style="fon
 t-weight: bolder\;">ADN Store:</span></span><span style="font-size: 11.5pt
 \; font-family: Arial\; color: rgb(32\, 31\, 30)\; font-variant-numeric: n
 ormal\; font-variant-east-asian: normal\; vertical-align: baseline\;">&nbs
 p\;Calle 61 N° 2813 - Necochea</span></p><p dir="ltr" style="margin: 0pt 
 0px\; color: rgb(51\, 51\, 51)\; font-family: Abel\, sans-serif\; font-siz
 e: 14px\; line-height: 1.656\;"><span style="font-size: 11.5pt\; font-fami
 ly: Arial\; color: rgb(32\, 31\, 30)\; font-variant-numeric: normal\; font
 -variant-east-asian: normal\; vertical-align: baseline\;"><br></span></p><
 p dir="ltr" style="margin: 0pt 0px\; color: rgb(51\, 51\, 51)\; font-famil
 y: Abel\, sans-serif\; font-size: 14px\; line-height: 1.656\;"><span style
 ="font-size: 11.5pt\; font-family: Arial\; color: rgb(32\, 31\, 30)\; font
 -variant-numeric: normal\; font-variant-east-asian: normal\; vertical-alig
 n: baseline\;"><u style="color: rgb(34\, 34\, 34)\; font-size: 14.6667px\;
  caret-color: rgb(51\, 51\, 51)\;"><span style="font-weight: bolder\;">Ent
 radas de Discapacidad</span><br></u><span style="color: rgb(34\, 34\, 34)\
 ; font-size: 14.6667px\;">Para solicitar entradas de discapacidad por favo
 r enviar un mail a&nbsp\;<span style="font-weight: bolder\;">acreditacione
 s@refgroup.com.ar</span></span></span></p><p dir="ltr" style="margin: 0pt 
 0px\; color: rgb(51\, 51\, 51)\; font-family: Abel\, sans-serif\; font-siz
 e: 14px\; line-height: 1.656\;"><span style="font-size: 11.5pt\; font-fami
 ly: Arial\; color: rgb(32\, 31\, 30)\; font-variant-numeric: normal\; font
 -variant-east-asian: normal\; vertical-align: baseline\;"><br></span></p><
 p dir="ltr" style="margin: 0pt 0px\; color: rgb(51\, 51\, 51)\; font-famil
 y: Abel\, sans-serif\; font-size: 14px\; line-height: 1.656\;"><span style
 ="font-size: 11.5pt\; font-family: Arial\; color: rgb(32\, 31\, 30)\; font
 -variant-numeric: normal\; font-variant-east-asian: normal\; vertical-alig
 n: baseline\;"><span style="color: rgb(17\, 85\, 204)\; text-decoration-li
 ne: underline\; font-size: 11.5pt\; font-variant-numeric: normal\; font-va
 riant-east-asian: normal\; text-decoration-skip-ink: none\; vertical-align
 : baseline\;"><a href="http://www.articket.com.ar/" style="color: rgb(51\,
  122\, 183)\; font-family: Abel\, sans-serif\; font-size: 14px\;">www.arti
 cket.com.ar</a></span></span></p><p dir="ltr" style="margin: 0pt 0px\; col
 or: rgb(51\, 51\, 51)\; font-family: Abel\, sans-serif\; font-size: 14px\;
  line-height: 1.656\;"><span style="font-size: 11.5pt\; font-family: Arial
 \; color: rgb(32\, 31\, 30)\; font-variant-numeric: normal\; font-variant-
 east-asian: normal\; vertical-align: baseline\;"><br></span></p><p dir="lt
 r" style="margin: 0pt 0px\; color: rgb(51\, 51\, 51)\; font-family: Abel\,
  sans-serif\; font-size: 14px\; line-height: 1.656\;"><span style="font-we
 ight: bolder\;"><span style="font-size: 11pt\; font-family: Arial\; color:
  rgb(34\, 34\, 34)\; font-variant-numeric: normal\; font-variant-east-asia
 n: normal\; vertical-align: baseline\;">&nbsp\;SHOW&nbsp\;</span><span sty
 le="color: rgb(32\, 31\, 30)\; font-family: Arial\; font-size: 15.3333px\;
 ">APTO MAYORES 3 AÑOS</span></span></p><p dir="ltr" style="margin: 0pt 0p
 x\; color: rgb(51\, 51\, 51)\; font-family: Abel\, sans-serif\; font-size:
  14px\; line-height: 1.656\;"><span style="font-weight: bolder\;"><span st
 yle="color: rgb(32\, 31\, 30)\; font-family: Arial\; font-size: 15.3333px\
 ;"><br></span></span></p><p dir="ltr" style="margin: 0pt 0px\; color: rgb(
 51\, 51\, 51)\; font-family: Abel\, sans-serif\; font-size: 14px\; line-he
 ight: 1.656\;"><span style="font-weight: bolder\;"><span style="color: rgb
 (32\, 31\, 30)\; font-family: Arial\; font-size: 15.3333px\;"><br></span><
 /span></p><p dir="ltr" style="margin: 0pt 0px\; line-height: 1.38\;"><font
  face="Abel\, sans-serif" color="#9c9c94"><span style="font-size: 12px\;">
 PROMO BANCO PROVINCIA CONDICIONES:&nbsp\;<a href="https://tr.ee/89uSGj" ta
 rget="_blank">https://tr.ee/89uSGj</a></span></font></p><p dir="ltr" style
 ="margin: 0pt 0px\; line-height: 1.38\;"><br style="color: rgb(33\, 37\, 4
 1)\; font-size: 16px\; font-family: Abel\, sans-serif\;"></p></div>
END:VEVENT
END:VCALENDAR
