BEGIN:VCALENDAR
VERSION:2.0
PRODID:-//My Calendar//mxm.dk//
BEGIN:VEVENT
SUMMARY:UNA NOCHE CON FREDDIE TRIBUTO A QUEEN - ANDY REX EN CAMPANA
DTSTART:20260524T003000Z
DTEND:20260524T025500Z
DTSTAMP:20260424T124709Z
DESCRIPTION:<div style="text-align: center\; text-size-adjust: 100%\;"><fo
 nt color="#222222" face="Arial"><span style="font-weight: bolder\;"><u><di
 v style="text-size-adjust: 100%\;"><span style="font-size: 24px\;">UNA NOC
 HE CON FREDDIE - ANDY REX</span></div><font face="Abel\, sans-serif"><span
  style="font-size: 14.6667px\;"><span style="font-size: 18px\;">EN CAMPANA
 </span></span></font></u></span></font><font face="Arial"><br><div><div st
 yle="font-family: Abel\, sans-serif\; text-size-adjust: 100%\;"><br></div>
 <div style="font-family: Abel\, sans-serif\; text-size-adjust: 100%\;"><fo
 nt color="#000000"><span style="font-size: 14.6667px\; background-color: r
 gb(255\, 255\, 0)\;"><br></span></font></div></div></font></div><div style
 ="text-align: center\; text-size-adjust: 100%\; color: rgb(34\, 34\, 34)\;
  font-family: Arial\, Helvetica\, sans-serif\; font-size: small\;"><p dir=
 "ltr" style="margin: 0pt 0px\; color: rgb(51\, 51\, 51)\; font-family: Abe
 l\, sans-serif\; font-size: 14px\; line-height: 1.656\;"><span style="font
 -size: 11.5pt\; font-family: Arial\; color: rgb(32\, 31\, 30)\; font-varia
 nt-numeric: normal\; font-variant-east-asian: normal\; vertical-align: bas
 eline\;"><span style="color: rgb(17\, 85\, 204)\; text-decoration-line: un
 derline\; font-size: 11.5pt\; font-variant-numeric: normal\; font-variant-
 east-asian: normal\; text-decoration-skip-ink: none\; vertical-align: base
 line\;"><a href="http://www.articket.com.ar/" style="color: rgb(51\, 122\,
  183)\; font-family: Abel\, sans-serif\; font-size: 14px\;">www.articket.c
 om.ar</a></span></span></p><p dir="ltr" style="margin: 0pt 0px\; color: rg
 b(51\, 51\, 51)\; font-family: Abel\, sans-serif\; font-size: 14px\; line-
 height: 1.656\;"><span style="font-size: 11.5pt\; font-family: Arial\; col
 or: rgb(32\, 31\, 30)\; font-variant-numeric: normal\; font-variant-east-a
 sian: normal\; vertical-align: baseline\;"><br></span></p><p dir="ltr" sty
 le="margin: 0pt 0px\; color: rgb(51\, 51\, 51)\; font-family: Abel\, sans-
 serif\; font-size: 14px\; line-height: 1.656\;"><span style="font-size: 11
 pt\; font-family: Arial\; color: rgb(34\, 34\, 34)\; font-variant-numeric:
  normal\; font-variant-east-asian: normal\; vertical-align: baseline\;"><s
 pan style="font-weight: 700\;">&nbsp\;SHOW&nbsp\;</span></span><span style
 ="color: rgb(32\, 31\, 30)\; font-family: Arial\; font-size: 15.3333px\;">
 <span style="font-weight: 700\;">APTO TODO PUBLICO<br><br></span></span></
 p><p dir="ltr" style="margin: 0pt 0px\; line-height: 1.38\;"><font face="A
 bel\, sans-serif" color="#9c9c94"><span style="font-size: 12px\;">PROMO BA
 NCO PROVINCIA CONDICIONES:&nbsp\;<a href="https://tr.ee/89uSGj" target="_b
 lank">https://tr.ee/89uSGj</a></span></font></p><p dir="ltr" style="margin
 : 0pt 0px\; line-height: 1.38\;"><br style="color: rgb(33\, 37\, 41)\; fon
 t-family: Abel\, sans-serif\; font-size: 16px\;"></p></div>
END:VEVENT
END:VCALENDAR
