BEGIN:VCALENDAR
VERSION:2.0
PRODID:-//My Calendar//mxm.dk//
BEGIN:VEVENT
SUMMARY:LIGHT MUSIC PARTY BY LAUCHA BASSI EN SAHARA CLUB
DTSTART:20260419T010000Z
DTEND:20260419T080000Z
DTSTAMP:20260421T064748Z
DESCRIPTION:<p style="text-align: center\;"><font color="#1f1f1f" face="Se
 goe UI"><span style="font-size: 24px\; font-variant-ligatures: no-contextu
 al\;"><span style="font-weight: bolder\;"><u>T</u></span><b><u>LIGHT MUSIC
  PARTY BY LAUCHA BASSI EN SAHARA CLUB</u></b></span></font></p><p style="t
 ext-align: center\;"><font color="#1f1f1f" face="Segoe UI"><span style="fo
 nt-size: 24px\; font-variant-ligatures: no-contextual\;"><span style="font
 -weight: bolder\;"><u>NECOCHEA</u></span></span></font></p><p style="text-
 align: center\;"><font color="#1f1f1f" face="Segoe UI"><span style="font-s
 ize: 24px\; font-variant-ligatures: no-contextual\;"><span style="font-wei
 ght: bolder\;"><u></u></span></span></font></p><p style="text-align: cente
 r\;"><font color="#1f1f1f" face="Segoe UI"><span style="font-size: 18px\; 
 font-variant-ligatures: no-contextual\;">Dirección: Fabián Varela.&nbsp\
 ;</span></font></p><p style="text-align: center\;"><font color="#1f1f1f" f
 ace="Segoe UI"><span style="font-size: 24px\; font-variant-ligatures: no-c
 ontextual\;"><span style="font-weight: bolder\;"><u><br></u></span></span>
 </font></p><p style="text-align: center\;">Entradas anticipadas limitadas 
 en efectivo:</p><p style="text-align: center\;">&nbsp\;ADN Store: Calle 61
  N° 2813 - Necochea.</p><p style="text-align: center\;">www.articket.com.
 ar</p><p style="text-align: center\;"><br></p><p style="text-align: center
 \;"><span style="font-weight: bolder\;">APTO +18 AÑOS</span></p><p style=
 "text-align: center\;"><span style="font-weight: bolder\;"><br></span></p>
 <p dir="ltr" style="margin: 0pt 0px\; text-align: center\; line-height: 1.
 38\;"><font face="Abel\, sans-serif" color="#9c9c94"><span style="font-siz
 e: 12px\;">PROMO BANCO PROVINCIA CONDICIONES:&nbsp\;<a href="https://tr.ee
 /89uSGj" target="_blank">https://tr.ee/89uSGj</a></span></font></p><p dir=
 "ltr" style="margin: 0pt 0px\; text-align: center\; line-height: 1.38\;"><
 br></p>
END:VEVENT
END:VCALENDAR
