BEGIN:VCALENDAR
VERSION:2.0
PRODID:-//My Calendar//mxm.dk//
BEGIN:VEVENT
SUMMARY:ELECTROPOP REMIXFEST EN ABBEY ROAD
DTSTART:20260607T000000Z
DTEND:20260607T080000Z
DTSTAMP:20260424T124245Z
DESCRIPTION:<p dir="ltr" style="margin: 0pt 0px\; text-align: center\; lin
 e-height: 1.656\;"><font color="#201f1e" face="Arial"><span style="font-si
 ze: 36px\; white-space-collapse: preserve\;"><b><u>ELECTROPOP REMIXFEST 80
 ´ 90´</u></b></span></font></p><p dir="ltr" style="margin: 0pt 0px\; tex
 t-align: center\; line-height: 1.656\;"><font color="#201f1e" face="Arial"
 ><span style="font-size: 15.3333px\; white-space-collapse: preserve\;"><sp
 an style="font-size: 24px\;"><u><span style="font-weight: bolder\;">EN ABB
 EY ROAD</span></u></span></span></font></p><p dir="ltr" style="margin: 0pt
  0px\; text-align: center\; line-height: 1.656\;"><font color="#201f1e" fa
 ce="Arial"><span style="font-size: 15.3333px\; white-space-collapse: prese
 rve\;"><span style="font-size: 24px\;"><u><span style="font-weight: bolder
 \;"><br></span></u></span></span></font></p><p dir="ltr" style="margin: 0p
 t 0px\; text-align: center\; line-height: 1.656\;"><font color="#201f1e" f
 ace="Arial"><span style="font-size: 15.3333px\; white-space-collapse: pres
 erve\;"><span style="font-size: 24px\;"><u><span style="font-weight: bolde
 r\;">SHOW EN VIVO DE:</span></u></span></span></font></p><p dir="ltr" styl
 e="margin: 0pt 0px\; text-align: center\; line-height: 1.656\;"><font colo
 r="#201f1e" face="Arial"><span style="font-size: 15.3333px\; white-space-c
 ollapse: preserve\;"><span style="font-size: 24px\;"><u><span style="font-
 weight: bolder\;">STAR - DM MODE - THE BOYS - DJ CHIROLA PEREZ</span></u><
 /span></span></font></p><p dir="ltr" style="margin: 0pt 0px\; font-family:
  Abel\, sans-serif\; text-align: center\; color: rgb(51\, 51\, 51)\; font-
 size: 14px\; line-height: 1.656\;"><font color="#201f1e" face="Arial"><spa
 n style="font-size: 15.3333px\; white-space-collapse: preserve\;"><span st
 yle="font-weight: 700\;"><u><span style="color: rgb(34\, 34\, 34)\; font-f
 amily: Arial\, Helvetica\, sans-serif\; font-size: small\; font-weight: 40
 0\; text-align: start\; white-space-collapse: collapse\;"><br></span></u><
 /span></span></font></p><p dir="ltr" style="margin: 0pt 0px\; font-family:
  Abel\, sans-serif\; text-align: center\; color: rgb(51\, 51\, 51)\; font-
 size: 14px\; line-height: 1.656\;"><span style="font-size: 11.5pt\; font-f
 amily: Arial\; color: rgb(32\, 31\, 30)\; background-color: transparent\; 
 font-variant-numeric: normal\; font-variant-east-asian: normal\; vertical-
 align: baseline\; white-space-collapse: preserve\;">Entradas anticipadas l
 imitadas en efectivo:</span></p><p dir="ltr" style="margin: 0pt 0px\; font
 -family: Abel\, sans-serif\; text-align: center\; color: rgb(51\, 51\, 51)
 \; font-size: 14px\; line-height: 1.656\;"><span style="font-size: 11pt\; 
 font-family: Arial\; color: rgb(34\, 34\, 34)\; background-color: transpar
 ent\; font-variant-numeric: normal\; font-variant-east-asian: normal\; ver
 tical-align: baseline\; white-space-collapse: preserve\;">&nbsp\;</span></
 p><p dir="ltr" style="margin: 0pt 0px\; font-family: Abel\, sans-serif\; t
 ext-align: center\; color: rgb(51\, 51\, 51)\; font-size: 14px\; line-heig
 ht: 1.656\;"><span style="font-size: 11.5pt\; font-family: Arial\; color: 
 rgb(32\, 31\, 30)\; background-color: transparent\; font-weight: 700\; fon
 t-variant-numeric: normal\; font-variant-east-asian: normal\; vertical-ali
 gn: baseline\; white-space-collapse: preserve\;">La Casa de las Guitarras:
 </span><span style="font-size: 11.5pt\; font-family: Arial\; color: rgb(32
 \, 31\, 30)\; background-color: transparent\; font-variant-numeric: normal
 \; font-variant-east-asian: normal\; vertical-align: baseline\; white-spac
 e-collapse: preserve\;"> Belgrano 3420 - Mar del Plata</span></p><p dir="l
 tr" style="margin: 0pt 0px\; font-family: Abel\, sans-serif\; text-align: 
 center\; color: rgb(51\, 51\, 51)\; font-size: 14px\; line-height: 1.656\;
 "><span style="font-size: 11.5pt\; font-family: Arial\; color: rgb(32\, 31
 \, 30)\; background-color: transparent\; font-variant-numeric: normal\; fo
 nt-variant-east-asian: normal\; vertical-align: baseline\; white-space-col
 lapse: preserve\;"><span style="font-weight: bolder\;">FAVA Casa Central:<
 /span></span><span style="font-size: 11.5pt\; font-family: Arial\; color: 
 rgb(32\, 31\, 30)\; background-color: transparent\; font-weight: 700\; fon
 t-variant-numeric: normal\; font-variant-east-asian: normal\; vertical-ali
 gn: baseline\; white-space-collapse: preserve\;"> </span><span style="font
 -size: 11.5pt\; font-family: Arial\; color: rgb(32\, 31\, 30)\; background
 -color: transparent\; font-variant-numeric: normal\; font-variant-east-asi
 an: normal\; vertical-align: baseline\; white-space-collapse: preserve\;">
 Av. Pedro Luro 3247 - Mar del Plata</span></p><p dir="ltr" style="margin: 
 0pt 0px\; font-family: Abel\, sans-serif\; text-align: center\; color: rgb
 (51\, 51\, 51)\; font-size: 14px\; line-height: 1.656\;"><span style="back
 ground-color: transparent\; color: rgb(34\, 34\, 34)\; font-family: Arial\
 ; font-size: 11pt\; white-space-collapse: preserve\;">&nbsp\;</span></p><p
  dir="ltr" style="margin: 0pt 0px\; font-family: Abel\, sans-serif\; text-
 align: center\; color: rgb(51\, 51\, 51)\; font-size: 14px\; line-height: 
 1.38\;"><a href="http://www.articket.com.ar/" style="color: rgb(51\, 122\,
  183)\;"><span style="font-size: 11.5pt\; font-family: Arial\; color: rgb(
 17\, 85\, 204)\; font-variant-numeric: normal\; font-variant-east-asian: n
 ormal\; text-decoration-line: underline\; text-decoration-skip-ink: none\;
  vertical-align: baseline\; white-space-collapse: preserve\;">www.articket
 .com.ar</span></a></p><p dir="ltr" style="margin: 0pt 0px\; font-family: A
 bel\, sans-serif\; text-align: center\; color: rgb(51\, 51\, 51)\; font-si
 ze: 14px\; line-height: 1.656\;"><br></p><p dir="ltr" style="margin: 0pt 0
 px\; font-family: Abel\, sans-serif\; text-align: center\; color: rgb(51\,
  51\, 51)\; font-size: 14px\; line-height: 1.38\;"><span style="font-size:
  11pt\; font-family: Arial\; color: rgb(34\, 34\, 34)\; font-variant-numer
 ic: normal\; font-variant-east-asian: normal\; vertical-align: baseline\; 
 white-space-collapse: preserve\;"><span style="font-weight: bolder\;">APTO
  +14 (hasta 00hs)</span></span></p><p dir="ltr" style="margin: 0pt 0px\; f
 ont-family: Abel\, sans-serif\; text-align: center\; color: rgb(51\, 51\, 
 51)\; font-size: 14px\; line-height: 1.38\;"><br><br><span style="color: r
 gb(156\, 156\, 148)\; font-size: 12px\;">PROMO BANCO PROVINCIA CONDICIONES
 :&nbsp\;</span><a href="https://tr.ee/89uSGj" target="_blank" style="backg
 round-color: rgb(255\, 255\, 255)\; font-size: 12px\;">https://tr.ee/89uSG
 j</a></p>
END:VEVENT
END:VCALENDAR
