BEGIN:VCALENDAR
VERSION:2.0
PRODID:-//My Calendar//mxm.dk//
BEGIN:VEVENT
SUMMARY:ANGELA NAVARRO Y MARTIN MAZZON EN VORTERIX
DTSTART:20260515T000000Z
DTEND:20260515T080000Z
DTSTAMP:20260424T124438Z
DESCRIPTION:<p dir="ltr" style="margin: 0pt 0px\; text-align: center\; lin
 e-height: 1.656\;"><font face="Abel\, sans-serif"><span style="font-size: 
 24px\;"><b><u>ANGELA NAVARRO &amp\; MARTIN MAZZON EN VORTERIX</u></b></spa
 n></font></p><p dir="ltr" style="margin: 0pt 0px\; font-family: Abel\, san
 s-serif\; text-align: center\; line-height: 1.656\;"><u><span style="font-
 weight: bolder\;">EN VORTERIX</span></u></p><p dir="ltr" style="margin: 0p
 t 0px\; font-family: Abel\, sans-serif\; text-align: center\; line-height:
  1.656\;"><u><span style="font-weight: bolder\;"><br></span></u></p><p dir
 ="ltr" style="margin: 0pt 0px\; text-align: center\; line-height: 1.656\;"
 ><font face="Abel\, sans-serif"><b>Banda Invitada: Felix Fritz</b></font><
 /p><p dir="ltr" style="margin: 0pt 0px\; font-family: Abel\, sans-serif\; 
 text-align: center\; line-height: 1.656\;"><u><span style="font-weight: bo
 lder\;"></span></u><br></p><p dir="ltr" style="margin: 0pt 0px\; text-alig
 n: center\; line-height: 1.656\;"><font face="Abel\, sans-serif"><br></fon
 t></p><div dir="auto" style="font-family: Abel\, sans-serif\; text-align: 
 center\;"><div></div></div><p dir="ltr" style="margin: 0pt 0px\; font-fami
 ly: Abel\, sans-serif\; text-align: center\; color: rgb(51\, 51\, 51)\; fo
 nt-size: 14px\; line-height: 1.656\;"><span style="font-size: 11.5pt\; fon
 t-family: Arial\; color: rgb(32\, 31\, 30)\; font-variant-numeric: normal\
 ; font-variant-east-asian: normal\; vertical-align: baseline\;">Entradas a
 nticipadas limitadas en efectivo:</span></p><p dir="ltr" style="margin: 0p
 t 0px\; font-family: Abel\, sans-serif\; text-align: center\; color: rgb(5
 1\, 51\, 51)\; font-size: 14px\; line-height: 1.656\;"><span style="font-s
 ize: 11pt\; font-family: Arial\; color: rgb(34\, 34\, 34)\; font-variant-n
 umeric: normal\; font-variant-east-asian: normal\; vertical-align: baselin
 e\;">&nbsp\;</span></p><p dir="ltr" style="margin: 0pt 0px\; font-family: 
 Abel\, sans-serif\; text-align: center\; color: rgb(51\, 51\, 51)\; font-s
 ize: 14px\; line-height: 1.656\;"><span style="font-size: 11.5pt\; font-fa
 mily: Arial\; color: rgb(32\, 31\, 30)\; font-variant-numeric: normal\; fo
 nt-variant-east-asian: normal\; vertical-align: baseline\;"><span style="f
 ont-weight: bolder\;">La Casa de las Guitarras:</span></span><span style="
 font-size: 11.5pt\; font-family: Arial\; color: rgb(32\, 31\, 30)\; font-v
 ariant-numeric: normal\; font-variant-east-asian: normal\; vertical-align:
  baseline\;">&nbsp\;Belgrano 3420 - Mar del Plata</span></p><p dir="ltr" s
 tyle="margin: 0pt 0px\; font-family: Abel\, sans-serif\; text-align: cente
 r\; color: rgb(51\, 51\, 51)\; font-size: 14px\; line-height: 1.656\;"><sp
 an style="white-space-collapse: preserve\; background-color: transparent\;
  font-size: 11.5pt\; font-family: Arial\; color: rgb(32\, 31\, 30)\; font-
 variant-numeric: normal\; font-variant-east-asian: normal\; vertical-align
 : baseline\;"><span style="font-weight: bolder\;">FAVA Casa Central:</span
 ></span><span style="white-space-collapse: preserve\; background-color: tr
 ansparent\; font-size: 11.5pt\; font-family: Arial\; color: rgb(32\, 31\, 
 30)\; font-weight: 700\; font-variant-numeric: normal\; font-variant-east-
 asian: normal\; vertical-align: baseline\;"> </span><span style="white-spa
 ce-collapse: preserve\; background-color: transparent\; font-size: 11.5pt\
 ; font-family: Arial\; color: rgb(32\, 31\, 30)\; font-variant-numeric: no
 rmal\; font-variant-east-asian: normal\; vertical-align: baseline\;">Av. P
 edro Luro 3247 - Mar del Plata</span></p><p dir="ltr" style="margin: 0pt 0
 px\; font-family: Abel\, sans-serif\; text-align: center\; color: rgb(51\,
  51\, 51)\; font-size: 14px\; line-height: 1.656\;"><span style="color: rg
 b(34\, 34\, 34)\; font-family: Arial\; font-size: 11pt\;">&nbsp\;</span></
 p><p dir="ltr" style="margin: 0pt 0px\; font-family: Abel\, sans-serif\; t
 ext-align: center\; color: rgb(51\, 51\, 51)\; font-size: 14px\; line-heig
 ht: 1.38\;"><a href="http://www.articket.com.ar/" target="_blank">www.arti
 cket.com.ar</a></p><p dir="ltr" style="margin: 0pt 0px\; font-family: Abel
 \, sans-serif\; text-align: center\; color: rgb(51\, 51\, 51)\; font-size:
  14px\; line-height: 1.38\;"><br></p><p dir="ltr" style="margin: 0pt 0px\;
  font-family: Abel\, sans-serif\; text-align: center\; color: rgb(51\, 51\
 , 51)\; font-size: 14px\; line-height: 1.38\;"><span style="font-weight: b
 older\;">EVENTO ATP</span></p><p dir="ltr" style="margin: 0pt 0px\; font-f
 amily: Abel\, sans-serif\; text-align: center\; color: rgb(51\, 51\, 51)\;
  font-size: 14px\; line-height: 1.38\;"><span style="font-weight: bolder\;
 "><br></span></p><p dir="ltr" style="margin: 0pt 0px\; font-family: Abel\,
  sans-serif\; text-align: center\; color: rgb(51\, 51\, 51)\; font-size: 1
 4px\; line-height: 1.38\;"><span style="font-weight: bolder\;"><br></span>
 </p><p dir="ltr" style="margin: 0pt 0px\; text-align: center\; line-height
 : 1.38\;"><font face="Abel\, sans-serif" color="#9c9c94"><span style="font
 -size: 12px\;">PROMO BANCO PROVINCIA CONDICIONES:&nbsp\;<a href="https://t
 r.ee/89uSGj" target="_blank">https://tr.ee/89uSGj</a></span></font></p>
END:VEVENT
END:VCALENDAR
