BEGIN:VCALENDAR
VERSION:2.0
PRODID:-//My Calendar//mxm.dk//
BEGIN:VEVENT
SUMMARY:LAS GUERRERAS K-POP - MAYO
DTSTART:20260501T190000Z
DTEND:20260501T210000Z
DTSTAMP:20260424T124633Z
DESCRIPTION:<div style="text-align: center\; -webkit-tap-highlight-color: 
 rgba(0\, 0\, 0\, 0)\; text-size-adjust: 100%\;"><font color="#1f1f1f" face
 ="Google Sans\, Roboto\, RobotoDraft\, Helvetica\, Arial\, sans-serif"><sp
 an style="font-size: 18px\; font-variant-ligatures: no-contextual\;"><span
  style="font-weight: bolder\;"><u>LAS GUERRERAS K-POP</u></span></span></f
 ont></div><div style="text-align: center\; -webkit-tap-highlight-color: rg
 ba(0\, 0\, 0\, 0)\; text-size-adjust: 100%\;"><span style="font-family: &q
 uot\;Google Sans&quot\;\, Roboto\, RobotoDraft\, Helvetica\, Arial\, sans-
 serif\; font-size: 18px\; font-variant-ligatures: no-contextual\; text-ali
 gn: start\;"><u style="color: rgb(31\, 31\, 31)\; font-weight: bolder\;">T
 EATRO SAN MARTIN</u></span></div><div style="text-align: center\; -webkit-
 tap-highlight-color: rgba(0\, 0\, 0\, 0)\; text-size-adjust: 100%\;"><span
  style="font-family: &quot\;Google Sans&quot\;\, Roboto\, RobotoDraft\, He
 lvetica\, Arial\, sans-serif\; font-size: 18px\; font-variant-ligatures: n
 o-contextual\; text-align: start\;"><u style="color: rgb(31\, 31\, 31)\; f
 ont-weight: bolder\;">MAYO<br></u><br><br></span></div><div style="text-al
 ign: center\; -webkit-tap-highlight-color: rgba(0\, 0\, 0\, 0)\; text-size
 -adjust: 100%\;"><span style="background-color: rgb(255\, 255\, 0)\; color
 : rgb(0\, 0\, 0)\; font-size: 18px\; font-weight: 700\; text-align: left\;
 ">LAS ENTRADAS SE CANJEAN EN BOLETERIA DEL TEATRO.</span></div><div style=
 "text-align: center\; -webkit-tap-highlight-color: rgba(0\, 0\, 0\, 0)\; t
 ext-size-adjust: 100%\;"><div><span style="font-size: 11.5pt\; font-family
 : Arial\; color: rgb(32\, 31\, 30)\; background-color: transparent\; font-
 variant-numeric: normal\; font-variant-east-asian: normal\; vertical-align
 : baseline\; white-space-collapse: preserve\;"><br></span></div><p dir="lt
 r" style="margin: 0pt 0px\; color: rgb(51\, 51\, 51)\; font-family: Abel\,
  sans-serif\; font-size: 14px\; line-height: 1.656\;"><span style="font-si
 ze: 11.5pt\; font-family: Arial\; color: rgb(32\, 31\, 30)\; font-variant-
 numeric: normal\; font-variant-east-asian: normal\; vertical-align: baseli
 ne\;"><span style="color: rgb(17\, 85\, 204)\; text-decoration-line: under
 line\; font-size: 11.5pt\; font-variant-numeric: normal\; font-variant-eas
 t-asian: normal\; text-decoration-skip-ink: none\; vertical-align: baselin
 e\;"><a href="http://www.articket.com.ar/" style="color: rgb(51\, 122\, 18
 3)\; font-family: Abel\, sans-serif\; font-size: 14px\;">www.articket.com.
 ar</a></span></span></p><p dir="ltr" style="margin: 0pt 0px\; color: rgb(5
 1\, 51\, 51)\; font-family: Abel\, sans-serif\; font-size: 14px\; line-hei
 ght: 1.656\;"><span style="font-size: 11.5pt\; font-family: Arial\; color:
  rgb(32\, 31\, 30)\; font-variant-numeric: normal\; font-variant-east-asia
 n: normal\; vertical-align: baseline\;"><br></span></p><p dir="ltr" style=
 "margin: 0pt 0px\; color: rgb(51\, 51\, 51)\; font-family: Abel\, sans-ser
 if\; font-size: 14px\; line-height: 1.656\;"><span style="font-size: 11pt\
 ; font-family: Arial\; color: rgb(34\, 34\, 34)\; font-variant-numeric: no
 rmal\; font-variant-east-asian: normal\; vertical-align: baseline\;"><span
  style="font-weight: 700\;">&nbsp\;SHOW&nbsp\;</span></span><span style="c
 olor: rgb(32\, 31\, 30)\; font-family: Arial\; font-size: 15.3333px\;"><sp
 an style="font-weight: 700\;">APTO TODO PUBLICO</span></span></p><p dir="l
 tr" style="margin: 0pt 0px\; color: rgb(51\, 51\, 51)\; font-family: Abel\
 , sans-serif\; font-size: 14px\; line-height: 1.656\;"><span style="color:
  rgb(32\, 31\, 30)\; font-family: Arial\; font-size: 15.3333px\;"><span st
 yle="font-weight: 700\;"><br></span></span></p><p dir="ltr" style="margin:
  0pt 0px\; color: rgb(51\, 51\, 51)\; font-family: Abel\, sans-serif\; fon
 t-size: 14px\; line-height: 1.656\;"><span style="color: rgb(32\, 31\, 30)
 \; font-family: Arial\; font-size: 15.3333px\;"><span style="font-weight: 
 700\;"><br></span></span></p><p dir="ltr" style="margin: 0pt 0px\; color: 
 rgb(51\, 51\, 51)\; font-family: Abel\, sans-serif\; font-size: 14px\; lin
 e-height: 1.656\;"><span style="color: rgb(156\, 156\, 148)\; font-size: 1
 2px\;">PROMO BANCO PROVINCIA CONDICIONES:&nbsp\;</span><a href="https://tr
 .ee/89uSGj" target="_blank" style="background-color: rgb(255\, 255\, 255)\
 ; font-size: 12px\;">https://tr.ee/89uSGj</a></p></div>
END:VEVENT
BEGIN:VEVENT
SUMMARY:LAS GUERRERAS K-POP - MAYO
DTSTART:20260502T190000Z
DTEND:20260502T210000Z
DTSTAMP:20260424T124633Z
DESCRIPTION:<div style="text-align: center\; -webkit-tap-highlight-color: 
 rgba(0\, 0\, 0\, 0)\; text-size-adjust: 100%\;"><font color="#1f1f1f" face
 ="Google Sans\, Roboto\, RobotoDraft\, Helvetica\, Arial\, sans-serif"><sp
 an style="font-size: 18px\; font-variant-ligatures: no-contextual\;"><span
  style="font-weight: bolder\;"><u>LAS GUERRERAS K-POP</u></span></span></f
 ont></div><div style="text-align: center\; -webkit-tap-highlight-color: rg
 ba(0\, 0\, 0\, 0)\; text-size-adjust: 100%\;"><span style="font-family: &q
 uot\;Google Sans&quot\;\, Roboto\, RobotoDraft\, Helvetica\, Arial\, sans-
 serif\; font-size: 18px\; font-variant-ligatures: no-contextual\; text-ali
 gn: start\;"><u style="color: rgb(31\, 31\, 31)\; font-weight: bolder\;">T
 EATRO SAN MARTIN</u></span></div><div style="text-align: center\; -webkit-
 tap-highlight-color: rgba(0\, 0\, 0\, 0)\; text-size-adjust: 100%\;"><span
  style="font-family: &quot\;Google Sans&quot\;\, Roboto\, RobotoDraft\, He
 lvetica\, Arial\, sans-serif\; font-size: 18px\; font-variant-ligatures: n
 o-contextual\; text-align: start\;"><u style="color: rgb(31\, 31\, 31)\; f
 ont-weight: bolder\;">MAYO<br></u><br><br></span></div><div style="text-al
 ign: center\; -webkit-tap-highlight-color: rgba(0\, 0\, 0\, 0)\; text-size
 -adjust: 100%\;"><span style="background-color: rgb(255\, 255\, 0)\; color
 : rgb(0\, 0\, 0)\; font-size: 18px\; font-weight: 700\; text-align: left\;
 ">LAS ENTRADAS SE CANJEAN EN BOLETERIA DEL TEATRO.</span></div><div style=
 "text-align: center\; -webkit-tap-highlight-color: rgba(0\, 0\, 0\, 0)\; t
 ext-size-adjust: 100%\;"><div><span style="font-size: 11.5pt\; font-family
 : Arial\; color: rgb(32\, 31\, 30)\; background-color: transparent\; font-
 variant-numeric: normal\; font-variant-east-asian: normal\; vertical-align
 : baseline\; white-space-collapse: preserve\;"><br></span></div><p dir="lt
 r" style="margin: 0pt 0px\; color: rgb(51\, 51\, 51)\; font-family: Abel\,
  sans-serif\; font-size: 14px\; line-height: 1.656\;"><span style="font-si
 ze: 11.5pt\; font-family: Arial\; color: rgb(32\, 31\, 30)\; font-variant-
 numeric: normal\; font-variant-east-asian: normal\; vertical-align: baseli
 ne\;"><span style="color: rgb(17\, 85\, 204)\; text-decoration-line: under
 line\; font-size: 11.5pt\; font-variant-numeric: normal\; font-variant-eas
 t-asian: normal\; text-decoration-skip-ink: none\; vertical-align: baselin
 e\;"><a href="http://www.articket.com.ar/" style="color: rgb(51\, 122\, 18
 3)\; font-family: Abel\, sans-serif\; font-size: 14px\;">www.articket.com.
 ar</a></span></span></p><p dir="ltr" style="margin: 0pt 0px\; color: rgb(5
 1\, 51\, 51)\; font-family: Abel\, sans-serif\; font-size: 14px\; line-hei
 ght: 1.656\;"><span style="font-size: 11.5pt\; font-family: Arial\; color:
  rgb(32\, 31\, 30)\; font-variant-numeric: normal\; font-variant-east-asia
 n: normal\; vertical-align: baseline\;"><br></span></p><p dir="ltr" style=
 "margin: 0pt 0px\; color: rgb(51\, 51\, 51)\; font-family: Abel\, sans-ser
 if\; font-size: 14px\; line-height: 1.656\;"><span style="font-size: 11pt\
 ; font-family: Arial\; color: rgb(34\, 34\, 34)\; font-variant-numeric: no
 rmal\; font-variant-east-asian: normal\; vertical-align: baseline\;"><span
  style="font-weight: 700\;">&nbsp\;SHOW&nbsp\;</span></span><span style="c
 olor: rgb(32\, 31\, 30)\; font-family: Arial\; font-size: 15.3333px\;"><sp
 an style="font-weight: 700\;">APTO TODO PUBLICO</span></span></p><p dir="l
 tr" style="margin: 0pt 0px\; color: rgb(51\, 51\, 51)\; font-family: Abel\
 , sans-serif\; font-size: 14px\; line-height: 1.656\;"><span style="color:
  rgb(32\, 31\, 30)\; font-family: Arial\; font-size: 15.3333px\;"><span st
 yle="font-weight: 700\;"><br></span></span></p><p dir="ltr" style="margin:
  0pt 0px\; color: rgb(51\, 51\, 51)\; font-family: Abel\, sans-serif\; fon
 t-size: 14px\; line-height: 1.656\;"><span style="color: rgb(32\, 31\, 30)
 \; font-family: Arial\; font-size: 15.3333px\;"><span style="font-weight: 
 700\;"><br></span></span></p><p dir="ltr" style="margin: 0pt 0px\; color: 
 rgb(51\, 51\, 51)\; font-family: Abel\, sans-serif\; font-size: 14px\; lin
 e-height: 1.656\;"><span style="color: rgb(156\, 156\, 148)\; font-size: 1
 2px\;">PROMO BANCO PROVINCIA CONDICIONES:&nbsp\;</span><a href="https://tr
 .ee/89uSGj" target="_blank" style="background-color: rgb(255\, 255\, 255)\
 ; font-size: 12px\;">https://tr.ee/89uSGj</a></p></div>
END:VEVENT
END:VCALENDAR
