BEGIN:VCALENDAR
VERSION:2.0
PRODID:-//My Calendar//mxm.dk//
BEGIN:VEVENT
SUMMARY:ARGENTINA - NUESTRO PAIS UN ESCENARIO
DTSTART:20260510T000000Z
DTEND:20260510T025500Z
DTSTAMP:20260421T064243Z
DESCRIPTION:<p dir="ltr" style="margin: 0pt 0px\; text-align: center\; -we
 bkit-tap-highlight-color: rgba(0\, 0\, 0\, 0)\; text-size-adjust: 100%\; l
 ine-height: 1.656\;"><span style="text-align: left\; caret-color: rgb(51\,
  51\, 51)\;"><font color="#201f1e" face="Arial"><span style="font-weight: 
 bolder\;"><u><span style="font-size: 18px\;">ARGENTINA. NUESTRO PAÍS\, UN
  ESCENARIO</span><br></u></span></font></span><font color="#201f1e" face="
 Arial"><u><font face="Abel\, sans-serif"><span style="font-size: 15.3333px
 \; font-weight: bolder\; caret-color: rgb(51\, 51\, 51)\;">EN OLAVARRIA</s
 pan></font></u></font></p><p dir="ltr" style="margin: 0pt 0px\; font-famil
 y: Abel\, sans-serif\; text-align: center\; color: rgb(51\, 51\, 51)\; fon
 t-size: 14px\; caret-color: rgb(51\, 51\, 51)\; -webkit-tap-highlight-colo
 r: rgba(0\, 0\, 0\, 0)\; text-size-adjust: 100%\; line-height: 1.656\;"><s
 pan style="font-size: 11.5pt\; font-family: Arial\; color: rgb(32\, 31\, 3
 0)\; font-variant-numeric: normal\; font-variant-east-asian: normal\; vert
 ical-align: baseline\;"><br></span></p><p dir="ltr" style="margin: 0pt 0px
 \; font-family: Abel\, sans-serif\; text-align: center\; color: rgb(51\, 5
 1\, 51)\; font-size: 14px\; caret-color: rgb(51\, 51\, 51)\; -webkit-tap-h
 ighlight-color: rgba(0\, 0\, 0\, 0)\; text-size-adjust: 100%\; line-height
 : 1.656\;"><span style="font-size: 11.5pt\; font-family: Arial\; color: rg
 b(32\, 31\, 30)\; font-variant-numeric: normal\; font-variant-east-asian: 
 normal\; vertical-align: baseline\;">Entradas anticipadas:<br><br></span><
 /p><p dir="ltr" style="margin: 0pt 0px\; font-family: Abel\, sans-serif\; 
 text-align: center\; color: rgb(51\, 51\, 51)\; font-size: 14px\; caret-co
 lor: rgb(51\, 51\, 51)\; -webkit-tap-highlight-color: rgba(0\, 0\, 0\, 0)\
 ; text-size-adjust: 100%\; line-height: 1.656\;"><u style="color: rgb(34\,
  34\, 34)\; font-family: Arial\; font-size: 14.6667px\;">POR SISTEMA:<br><
 /u><span style="font-weight: 700\; color: rgb(34\, 34\, 34)\; font-family:
  Arial\; font-size: 11pt\;">(Todos los medios de pago)</span></p><p dir="l
 tr" style="margin: 0pt 0px\; font-family: Abel\, sans-serif\; text-align: 
 center\; color: rgb(51\, 51\, 51)\; font-size: 14px\; caret-color: rgb(51\
 , 51\, 51)\; -webkit-tap-highlight-color: rgba(0\, 0\, 0\, 0)\; text-size-
 adjust: 100%\; line-height: 1.656\;"><span style="font-weight: 700\; color
 : rgb(34\, 34\, 34)\; font-family: Arial\; font-size: 11pt\;"><br></span><
 /p><p dir="ltr" style="margin: 0pt 0px\; font-family: Abel\, sans-serif\; 
 text-align: center\; color: rgb(51\, 51\, 51)\; font-size: 14px\; caret-co
 lor: rgb(51\, 51\, 51)\; -webkit-tap-highlight-color: rgba(0\, 0\, 0\, 0)\
 ; text-size-adjust: 100%\; line-height: 1.656\;"><font color="#222222" fac
 e="Arial"><span style="font-size: 14.6667px\;"><u>Efectivo en:</u></span><
 /font></p><p dir="ltr" style="margin: 0pt 0px\; font-family: Abel\, sans-s
 erif\; text-align: center\; color: rgb(51\, 51\, 51)\; font-size: 14px\; c
 aret-color: rgb(51\, 51\, 51)\; -webkit-tap-highlight-color: rgba(0\, 0\, 
 0\, 0)\; text-size-adjust: 100%\; line-height: 1.656\;"><span style="font-
 size: 11.5pt\; font-family: Arial\; color: rgb(32\, 31\, 30)\; font-weight
 : 700\; font-variant-numeric: normal\; font-variant-east-asian: normal\; v
 ertical-align: baseline\;">TecnoCentro:</span><span style="font-size: 11.5
 pt\; font-family: Arial\; color: rgb(32\, 31\, 30)\; font-variant-numeric:
  normal\; font-variant-east-asian: normal\; vertical-align: baseline\;">&n
 bsp\;Rivadavia 3065 -&nbsp\;<span style="font-weight: 700\;">Olavarria</sp
 an></span></p><div style="text-align: center\; -webkit-tap-highlight-color
 : rgba(0\, 0\, 0\, 0)\; text-size-adjust: 100%\; font-family: Arial\, Helv
 etica\, sans-serif\; font-size: small\; color: rgb(33\, 33\, 33)\;"><i><br
 ></i></div><p dir="ltr" style="margin: 0pt 0px\; font-family: Abel\, sans-
 serif\; text-align: center\; color: rgb(51\, 51\, 51)\; font-size: 14px\; 
 caret-color: rgb(51\, 51\, 51)\; -webkit-tap-highlight-color: rgba(0\, 0\,
  0\, 0)\; text-size-adjust: 100%\; line-height: 1.656\;"><span style="font
 -size: 11pt\; font-family: Arial\; color: rgb(34\, 34\, 34)\; font-variant
 -numeric: normal\; font-variant-east-asian: normal\; vertical-align: basel
 ine\;"><span style="font-weight: 700\;"><u>Entradas de Discapacidad</u></s
 pan></span></p><p dir="ltr" style="margin: 0pt 0px\; font-family: Abel\, s
 ans-serif\; text-align: center\; color: rgb(51\, 51\, 51)\; font-size: 14p
 x\; caret-color: rgb(51\, 51\, 51)\; -webkit-tap-highlight-color: rgba(0\,
  0\, 0\, 0)\; text-size-adjust: 100%\; line-height: 1.656\;"><span style="
 font-size: 11pt\; font-family: Arial\; color: rgb(34\, 34\, 34)\; font-var
 iant-numeric: normal\; font-variant-east-asian: normal\; vertical-align: b
 aseline\;"></span></p><p dir="ltr" style="margin: 0pt 0px\; font-family: A
 bel\, sans-serif\; text-align: center\; color: rgb(51\, 51\, 51)\; font-si
 ze: 14px\; line-height: 1.656\;"><span style="font-size: 11pt\; font-famil
 y: Arial\; color: rgb(34\, 34\, 34)\; font-variant-numeric: normal\; font-
 variant-east-asian: normal\; vertical-align: baseline\;">Para solicitar en
 tradas de discapacidad por favor&nbsp\;dirigirse a la&nbsp\;<span style="f
 ont-weight: bolder\;">Boletería del Teatro</span>&nbsp\;de&nbsp\;<span st
 yle="font-weight: bolder\;">Lunes a viernes de 8:30 a 16hs.</span></span><
 /p><p style="margin: 0pt 0px\; text-align: center\; color: rgb(34\, 34\, 3
 4)\; font-family: Arial\, Helvetica\, sans-serif\; font-size: small\; line
 -height: 1.656\;"><font face="Arial" color="#ffffff"><span style="font-siz
 e: 14.6667px\; background-color: rgb(103\, 78\, 167)\;"><span style="font-
 weight: bolder\;">Las entradas se podrán&nbsp\;solicitar a partir del 1er
  día hábil del mes corriente del evento.</span></span></font></p><p dir=
 "ltr" style="margin: 0pt 0px\; font-family: Abel\, sans-serif\; text-align
 : center\; color: rgb(51\, 51\, 51)\; font-size: 14px\; caret-color: rgb(5
 1\, 51\, 51)\; -webkit-tap-highlight-color: rgba(0\, 0\, 0\, 0)\; text-siz
 e-adjust: 100%\; line-height: 1.656\;"><span style="font-size: 11pt\; font
 -family: Arial\; color: rgb(34\, 34\, 34)\; font-variant-numeric: normal\;
  font-variant-east-asian: normal\; vertical-align: baseline\;"><br></span>
 </p><p dir="ltr" style="margin: 0pt 0px\; font-family: Abel\, sans-serif\;
  text-align: center\; color: rgb(51\, 51\, 51)\; font-size: 14px\; caret-c
 olor: rgb(51\, 51\, 51)\; -webkit-tap-highlight-color: rgba(0\, 0\, 0\, 0)
 \; text-size-adjust: 100%\; line-height: 1.38\;"><a href="http://www.artic
 ket.com.ar/" style="color: rgb(51\, 122\, 183)\;"><span style="font-size: 
 11.5pt\; font-family: Arial\; color: rgb(17\, 85\, 204)\; font-variant-num
 eric: normal\; font-variant-east-asian: normal\; text-decoration-line: und
 erline\; text-decoration-skip-ink: none\; vertical-align: baseline\;">www.
 articket.com.ar</span></a></p><p style="font-family: Abel\, sans-serif\; t
 ext-align: center\;"><br style="color: rgb(51\, 51\, 51)\; font-size: 14px
 \; caret-color: rgb(51\, 51\, 51)\; -webkit-tap-highlight-color: rgba(0\, 
 0\, 0\, 0)\; text-size-adjust: 100%\;"></p><p dir="ltr" style="margin: 0pt
  0px\; font-family: Abel\, sans-serif\; text-align: center\; color: rgb(51
 \, 51\, 51)\; font-size: 14px\; caret-color: rgb(51\, 51\, 51)\; -webkit-t
 ap-highlight-color: rgba(0\, 0\, 0\, 0)\; text-size-adjust: 100%\; line-he
 ight: 1.38\;"><span style="font-size: 11pt\; font-family: Arial\; color: r
 gb(34\, 34\, 34)\; font-weight: 700\; font-variant-numeric: normal\; font-
 variant-east-asian: normal\; vertical-align: baseline\;">APTO TODO PUBLICO
 </span></p><p dir="ltr" style="margin: 0pt 0px\; font-family: Abel\, sans-
 serif\; text-align: center\; color: rgb(51\, 51\, 51)\; font-size: 14px\; 
 caret-color: rgb(51\, 51\, 51)\; -webkit-tap-highlight-color: rgba(0\, 0\,
  0\, 0)\; text-size-adjust: 100%\; line-height: 1.38\;"><span style="font-
 size: 11pt\; font-family: Arial\; color: rgb(34\, 34\, 34)\; font-weight: 
 700\; font-variant-numeric: normal\; font-variant-east-asian: normal\; ver
 tical-align: baseline\;"><br></span></p><p dir="ltr" style="margin: 0pt 0p
 x\; font-family: Abel\, sans-serif\; text-align: center\; color: rgb(51\, 
 51\, 51)\; font-size: 14px\; caret-color: rgb(51\, 51\, 51)\; -webkit-tap-
 highlight-color: rgba(0\, 0\, 0\, 0)\; text-size-adjust: 100%\; line-heigh
 t: 1.38\;"><span style="font-size: 11pt\; font-family: Arial\; color: rgb(
 34\, 34\, 34)\; font-weight: 700\; font-variant-numeric: normal\; font-var
 iant-east-asian: normal\; vertical-align: baseline\;">---</span></p><p dir
 ="ltr" style="margin: 0pt 0px\; font-family: Abel\, sans-serif\; text-alig
 n: center\; color: rgb(51\, 51\, 51)\; font-size: 14px\; caret-color: rgb(
 51\, 51\, 51)\; -webkit-tap-highlight-color: rgba(0\, 0\, 0\, 0)\; text-si
 ze-adjust: 100%\; line-height: 1.38\;"><br></p><p dir="ltr" style="margin:
  0pt 0px\; text-align: center\; -webkit-tap-highlight-color: rgba(0\, 0\, 
 0\, 0)\; text-size-adjust: 100%\; line-height: 1.38\;"><font color="#33333
 3" face="Abel\, sans-serif"><span style="font-size: 14px\; caret-color: rg
 b(51\, 51\, 51)\;">ARGENTINA\, Nuestro país\, un escenario.</span></font>
 </p><p dir="ltr" style="margin: 0pt 0px\; text-align: center\; -webkit-tap
 -highlight-color: rgba(0\, 0\, 0\, 0)\; text-size-adjust: 100%\; line-heig
 ht: 1.38\;"><font color="#333333" face="Abel\, sans-serif"><span style="fo
 nt-size: 14px\; caret-color: rgb(51\, 51\, 51)\;">Es un show que dará que
  hablar\, en dónde los fundamentos principales serán el ser</span></font
 ></p><p dir="ltr" style="margin: 0pt 0px\; text-align: center\; -webkit-ta
 p-highlight-color: rgba(0\, 0\, 0\, 0)\; text-size-adjust: 100%\; line-hei
 ght: 1.38\;"><font color="#333333" face="Abel\, sans-serif"><span style="f
 ont-size: 14px\; caret-color: rgb(51\, 51\, 51)\;">nosotros\, el ser Argen
 tinos\, con todo lo que eso implica.</span></font></p><p dir="ltr" style="
 margin: 0pt 0px\; text-align: center\; -webkit-tap-highlight-color: rgba(0
 \, 0\, 0\, 0)\; text-size-adjust: 100%\; line-height: 1.38\;"><font color=
 "#333333" face="Abel\, sans-serif"><span style="font-size: 14px\; caret-co
 lor: rgb(51\, 51\, 51)\;">Volver a nuestras raíces\, transitar el camino 
 recorrido hasta lo que hoy somos.</span></font></p><p dir="ltr" style="mar
 gin: 0pt 0px\; text-align: center\; -webkit-tap-highlight-color: rgba(0\, 
 0\, 0\, 0)\; text-size-adjust: 100%\; line-height: 1.38\;"><font color="#3
 33333" face="Abel\, sans-serif"><span style="font-size: 14px\; caret-color
 : rgb(51\, 51\, 51)\;">El mismo nivel de show\, música en vivo\, shows di
 námicos y además de nuestros</span></font></p><p dir="ltr" style="margin
 : 0pt 0px\; text-align: center\; -webkit-tap-highlight-color: rgba(0\, 0\,
  0\, 0)\; text-size-adjust: 100%\; line-height: 1.38\;"><font color="#3333
 33" face="Abel\, sans-serif"><span style="font-size: 14px\; caret-color: r
 gb(51\, 51\, 51)\;">bailarines e intérpretes de siempre\, invitados espec
 iales que ya conocerán!&nbsp\;</span></font></p><p dir="ltr" style="margi
 n: 0pt 0px\; text-align: center\; -webkit-tap-highlight-color: rgba(0\, 0\
 , 0\, 0)\; text-size-adjust: 100%\; line-height: 1.38\;"><font color="#333
 333" face="Abel\, sans-serif"><span style="font-size: 14px\; caret-color: 
 rgb(51\, 51\, 51)\;">Los docentes apuestan fuerte a cada una de estas pues
 tas nacionales\, con el alma y el</span></font></p><p dir="ltr" style="mar
 gin: 0pt 0px\; text-align: center\; -webkit-tap-highlight-color: rgba(0\, 
 0\, 0\, 0)\; text-size-adjust: 100%\; line-height: 1.38\;"><font color="#3
 33333" face="Abel\, sans-serif"><span style="font-size: 14px\; caret-color
 : rgb(51\, 51\, 51)\;">corazón en cada paso.&nbsp\;</span></font></p><p d
 ir="ltr" style="margin: 0pt 0px\; text-align: center\; -webkit-tap-highlig
 ht-color: rgba(0\, 0\, 0\, 0)\; text-size-adjust: 100%\; line-height: 1.38
 \;"><font color="#333333" face="Abel\, sans-serif"><span style="font-size:
  14px\; caret-color: rgb(51\, 51\, 51)\;">No te quedes afuera\, un show an
 ual más que El Estudio emprende\, desde el amor a lo</span></font></p><p 
 dir="ltr" style="margin: 0pt 0px\; text-align: center\; -webkit-tap-highli
 ght-color: rgba(0\, 0\, 0\, 0)\; text-size-adjust: 100%\; line-height: 1.3
 8\;"><font color="#333333" face="Abel\, sans-serif"><span style="font-size
 : 14px\; caret-color: rgb(51\, 51\, 51)\;">que hacemos!&nbsp\;</span></fon
 t></p><p dir="ltr" style="margin: 0pt 0px\; text-align: center\; -webkit-t
 ap-highlight-color: rgba(0\, 0\, 0\, 0)\; text-size-adjust: 100%\; line-he
 ight: 1.38\;"><font color="#333333" face="Abel\, sans-serif"><span style="
 font-size: 14px\; caret-color: rgb(51\, 51\, 51)\;">Los esperamos!!</span>
 </font></p><p dir="ltr" style="margin: 0pt 0px\; text-align: center\; -web
 kit-tap-highlight-color: rgba(0\, 0\, 0\, 0)\; text-size-adjust: 100%\; li
 ne-height: 1.38\;"><font color="#222222" face="Arial"><span style="font-si
 ze: 14.6667px\; caret-color: rgb(51\, 51\, 51)\;"><span style="font-weight
 : bolder\;"><br></span></span></font></p><p dir="ltr" style="margin: 0pt 0
 px\; text-align: center\; line-height: 1.38\;"><font face="Abel\, sans-ser
 if" color="#9c9c94"><span style="font-size: 12px\;">PROMO BANCO PROVINCIA 
 CONDICIONES:&nbsp\;<a href="https://tr.ee/89uSGj" target="_blank">https://
 tr.ee/89uSGj</a></span></font></p><p dir="ltr" style="margin: 0pt 0px\; te
 xt-align: center\; line-height: 1.38\;"><br style="font-family: Abel\, san
 s-serif\;"></p>
END:VEVENT
END:VCALENDAR
