BEGIN:VCALENDAR
VERSION:2.0
PRODID:-//My Calendar//mxm.dk//
BEGIN:VEVENT
SUMMARY:UNA CARTA PARA ANTONIA - TEATRO SENSORIAL A OSCURAS EN VILLA VICTO
 RIA
DTSTART:20260510T000000Z
DTEND:20260510T025500Z
DTSTAMP:20260424T124519Z
DESCRIPTION:<p dir="ltr" style="margin: 0pt 0px\; text-align: center\; tex
 t-size-adjust: 100%\; line-height: 1.656\;"><font color="#201f1e" face="Ar
 ial"><span style="font-size: 24px\;"><b><u>UNA CARTA PARA ANTONIA - TEATRO
  SENSORIAL A OSCURAS EN VILLA VICTORIA</u></b></span></font></p><div style
 ="text-align: center\;"><span style="font-size: 1rem\;"><br></span></div><
 div class="gs" style="margin: 0px\; min-width: 0px\; padding: 0px 0px 20px
 \; width: auto\;"><div class=""><div class="ii gt" jslog="20277\; u014N:xr
 6bB\; 1:WyIjdGhyZWFkLWY6MTg1ODEwNzMwMDExNDY3ODQyNyJd\; 4:WyIjbXNnLWY6MTg1O
 DEwNzMwMDExNDY3ODQyNyIsbnVsbCxudWxsLG51bGwsMiwwLFsxLDAsMF0sMzY5LDIzNjIsbnV
 sbCxudWxsLG51bGwsbnVsbCxudWxsLDIsbnVsbCxudWxsLFswXSxudWxsLG51bGwsbnVsbCxud
 WxsLG51bGwsbnVsbCwwLDAsbnVsbCxudWxsLG51bGwsbnVsbCxbMSwwXV0." id=":gi" styl
 e="direction: ltr\; margin: 8px 0px 0px\; padding: 0px\; position: relativ
 e\; overflow-x: hidden\;"><div class="a3s aiL" id=":fm" style="direction: 
 ltr\; font-variant-numeric: normal\; font-variant-east-asian: normal\; fon
 t-variant-alternates: normal\; font-size-adjust: none\; font-language-over
 ride: normal\; font-kerning: auto\; font-optical-sizing: auto\; font-featu
 re-settings: normal\; font-variation-settings: normal\; font-variant-posit
 ion: normal\; font-variant-emoji: normal\; font-stretch: normal\; line-hei
 ght: 1.5\; overflow: auto hidden\; position: relative\;"><div id="avWBGd-4
 69"><div class="gmail_quote"><div class="gmail_quote"><blockquote class="g
 mail_quote" style="margin-bottom: 0px\; margin-left: 0.8ex\; border-left: 
 1px solid rgb(204\, 204\, 204)\; padding-left: 1ex\;"><div class="yj6qo" s
 tyle="color: rgb(34\, 34\, 34)\; font-family: Arial\, Helvetica\, sans-ser
 if\; font-size: small\;"></div><div class="adL" style="color: rgb(34\, 34\
 , 34)\; font-family: Arial\, Helvetica\, sans-serif\; font-size: small\;">
 </div></blockquote></div><div class="adL" style="color: rgb(34\, 34\, 34)\
 ; font-family: Arial\, Helvetica\, sans-serif\; font-size: small\;"></div>
 </div><div class="adL" style="color: rgb(34\, 34\, 34)\; font-family: Aria
 l\, Helvetica\, sans-serif\; font-size: small\;"></div></div></div></div><
 div class="WhmR8e" data-hash="0" id="avWBGd-470" style="color: rgb(34\, 34
 \, 34)\; font-family: &quot\;Google Sans&quot\;\, Roboto\, RobotoDraft\, H
 elvetica\, Arial\, sans-serif\; font-size: medium\; clear: both\;"></div><
 /div></div><div dir="auto" style="text-align: center\; font-family: Arial\
 , Helvetica\, sans-serif\; font-size: small\; color: rgb(0\, 0\, 0)\;"><br
 ></div><p dir="ltr" style="margin: 0pt 0px\; font-family: Abel\, sans-seri
 f\; text-align: center\; text-size-adjust: 100%\; color: rgb(51\, 51\, 51)
 \; font-size: 14px\; line-height: 1.656\;"><font color="#201f1e" face="Ari
 al"><span style="font-size: 15.3333px\;"><u style="font-weight: 700\;"></u
 ></span></font></p><p dir="ltr" style="margin: 0pt 0px\; font-family: Abel
 \, sans-serif\; text-align: center\; text-size-adjust: 100%\; color: rgb(5
 1\, 51\, 51)\; font-size: 14px\; line-height: 1.656\;"><span style="color:
  rgb(32\, 31\, 30)\; font-family: Arial\; font-size: 11.5pt\;"><u>Entradas
  anticipadas limitadas en efectivo:</u></span></p><p dir="ltr" style="marg
 in: 0pt 0px\; font-family: Abel\, sans-serif\; text-align: center\; text-s
 ize-adjust: 100%\; color: rgb(51\, 51\, 51)\; font-size: 14px\; line-heigh
 t: 1.656\;"><span style="font-size: 11pt\; font-family: Arial\; color: rgb
 (34\, 34\, 34)\; font-variant-numeric: normal\; font-variant-east-asian: n
 ormal\; vertical-align: baseline\;">&nbsp\;</span></p><p dir="ltr" style="
 margin: 0pt 0px\; font-family: Abel\, sans-serif\; text-align: center\; te
 xt-size-adjust: 100%\; color: rgb(51\, 51\, 51)\; font-size: 14px\; line-h
 eight: 1.656\;"><span style="font-size: 11.5pt\; font-family: Arial\; colo
 r: rgb(32\, 31\, 30)\; font-weight: 700\; font-variant-numeric: normal\; f
 ont-variant-east-asian: normal\; vertical-align: baseline\;">La Casa de la
 s Guitarras:</span><span style="font-size: 11.5pt\; font-family: Arial\; c
 olor: rgb(32\, 31\, 30)\; font-variant-numeric: normal\; font-variant-east
 -asian: normal\; vertical-align: baseline\;">&nbsp\;Belgrano 3420 - Mar de
 l Plata</span></p><p dir="ltr" style="margin: 0pt 0px\; font-family: Abel\
 , sans-serif\; text-align: center\; color: rgb(51\, 51\, 51)\; font-size: 
 14px\; line-height: 1.656\;"><span style="font-size: 11.5pt\; font-family:
  Arial\; color: rgb(32\, 31\, 30)\; background-color: transparent\; font-v
 ariant-numeric: normal\; font-variant-east-asian: normal\; vertical-align:
  baseline\; white-space-collapse: preserve\;"><span style="font-weight: bo
 lder\;">FAVA Casa Central:</span></span><span style="font-size: 11.5pt\; f
 ont-family: Arial\; color: rgb(32\, 31\, 30)\; background-color: transpare
 nt\; font-weight: 700\; font-variant-numeric: normal\; font-variant-east-a
 sian: normal\; vertical-align: baseline\; white-space-collapse: preserve\;
 "> </span><span style="font-size: 11.5pt\; font-family: Arial\; color: rgb
 (32\, 31\, 30)\; background-color: transparent\; font-variant-numeric: nor
 mal\; font-variant-east-asian: normal\; vertical-align: baseline\; white-s
 pace-collapse: preserve\;">Av. Pedro Luro 3247 - Mar del Plata</span></p><
 p dir="ltr" style="margin: 0pt 0px\; font-family: Abel\, sans-serif\; text
 -align: center\; text-size-adjust: 100%\; color: rgb(51\, 51\, 51)\; font-
 size: 14px\; line-height: 1.656\;"><span style="color: rgb(34\, 34\, 34)\;
  font-size: 11pt\; font-family: Arial\;">&nbsp\;</span></p><p dir="ltr" st
 yle="margin: 0pt 0px\; font-family: Abel\, sans-serif\; text-align: center
 \; text-size-adjust: 100%\; color: rgb(51\, 51\, 51)\; font-size: 14px\; l
 ine-height: 1.38\;"><a href="http://www.articket.com.ar/" style="color: rg
 b(51\, 122\, 183)\;"><span style="font-size: 11.5pt\; font-family: Arial\;
  color: rgb(17\, 85\, 204)\; font-variant-numeric: normal\; font-variant-e
 ast-asian: normal\; text-decoration-line: underline\; text-decoration-skip
 -ink: none\; vertical-align: baseline\;">www.articket.com.ar</span></a></p
 ><p class="MsoNormal" style="margin-right: 0px\; margin-bottom: 10pt\; mar
 gin-left: 0px\; text-align: center\; text-size-adjust: 100%\; color: rgb(3
 4\, 34\, 34)\; font-family: Arial\, Helvetica\, sans-serif\; font-size: sm
 all\; line-height: 14.95px\;"><span style="font-family: Calibri\, sans-ser
 if\;"><br></span></p><p class="MsoNormal" style="margin-right: 0px\; margi
 n-bottom: 10pt\; margin-left: 0px\; text-align: center\; text-size-adjust:
  100%\; color: rgb(34\, 34\, 34)\; font-family: Arial\, Helvetica\, sans-s
 erif\; font-size: small\; line-height: 14.95px\;"><span style="font-family
 : Calibri\, sans-serif\;"><span style="font-weight: 700\; font-family: Ari
 al\; font-size: 14.6667px\;">EVENTO APTO TODO PUBLICO</span></span></p><p 
 class="MsoNormal" style="margin-right: 0px\; margin-bottom: 10pt\; margin-
 left: 0px\; text-align: center\; text-size-adjust: 100%\; color: rgb(34\, 
 34\, 34)\; font-family: Arial\, Helvetica\, sans-serif\; font-size: small\
 ; line-height: 14.95px\;"><br></p><p class="MsoNormal" style="margin-right
 : 0px\; margin-bottom: 10pt\; margin-left: 0px\; text-align: center\; text
 -size-adjust: 100%\; color: rgb(34\, 34\, 34)\; font-family: Arial\, Helve
 tica\, sans-serif\; font-size: small\; line-height: 14.95px\;"><span style
 ="font-family: Calibri\, sans-serif\;"><span style="font-weight: 700\; fon
 t-family: Arial\; font-size: 14.6667px\;"><br></span></span></p><p dir="lt
 r" style="margin: 0pt 0px\; text-align: center\; line-height: 1.38\;"><fon
 t face="Abel\, sans-serif" color="#9c9c94"><span style="font-size: 12px\;"
 >PROMO BANCO PROVINCIA CONDICIONES:&nbsp\;<a href="https://tr.ee/89uSGj" t
 arget="_blank">https://tr.ee/89uSGj</a></span></font></p><p dir="ltr" styl
 e="margin: 0pt 0px\; text-align: center\; line-height: 1.38\;"><br style="
 font-family: Abel\, sans-serif\;"></p>
END:VEVENT
END:VCALENDAR
