BEGIN:VCALENDAR
VERSION:2.0
PRODID:-//My Calendar//mxm.dk//
BEGIN:VEVENT
SUMMARY:COVER NIGHTS - ERE - TWINGO FUN - GEDE
DTSTART:20260501T000000Z
DTEND:20260501T080000Z
DTSTAMP:20260424T124617Z
DESCRIPTION:<p style="text-align: center\;"><span style="font-size: 24px\;
 "><b><u>COVER NIGHTS</u></b></span></p><p style="text-align: center\;"><sp
 an style="font-size: 24px\;"><u><span style="font-weight: bolder\;">EN ABB
 EY ROAD</span></u></span></p><p style="text-align: center\;"><span style="
 font-size: 24px\;"><span style="font-weight: bolder\; font-size: 18px\;">E
 STO RECIÉN EMPIEZA</span></span></p><p style="text-align: center\;"><span
  style="font-size: 24px\;"><span style="font-weight: bolder\; font-size: 1
 8px\;">TWINGO FUN</span></span></p><p style="text-align: center\;"><span s
 tyle="font-size: 24px\;"><span style="font-weight: bolder\; font-size: 18p
 x\;">GEDE</span></span></p><p style="text-align: center\;"><br></p><p styl
 e="text-align: center\;"><span style="color: rgb(32\, 31\, 30)\; font-fami
 ly: Arial\; font-size: 11.5pt\;">Entradas anticipadas limitadas en efectiv
 o:</span></p><p dir="ltr" style="margin: 0pt 0px\; font-family: Abel\, san
 s-serif\; text-align: center\; text-size-adjust: 100%\; color: rgb(51\, 51
 \, 51)\; font-size: 14px\; line-height: 1.656\;"><span style="font-size: 1
 1pt\; font-family: Arial\; color: rgb(34\, 34\, 34)\; font-variant-numeric
 : normal\; font-variant-east-asian: normal\; vertical-align: baseline\;">&
 nbsp\;</span></p><p dir="ltr" style="margin: 0pt 0px\; font-family: Abel\,
  sans-serif\; text-align: center\; text-size-adjust: 100%\; color: rgb(51\
 , 51\, 51)\; font-size: 14px\; line-height: 1.656\;"><span style="font-siz
 e: 11.5pt\; font-family: Arial\; color: rgb(32\, 31\, 30)\; font-weight: 7
 00\; font-variant-numeric: normal\; font-variant-east-asian: normal\; vert
 ical-align: baseline\;">La Casa de las Guitarras:</span><span style="font-
 size: 11.5pt\; font-family: Arial\; color: rgb(32\, 31\, 30)\; font-varian
 t-numeric: normal\; font-variant-east-asian: normal\; vertical-align: base
 line\;">&nbsp\;Belgrano 3420 - Mar del Plata</span></p><p dir="ltr" style=
 "margin: 0pt 0px\; font-family: Abel\, sans-serif\; text-align: center\; c
 olor: rgb(51\, 51\, 51)\; font-size: 14px\; line-height: 1.656\;"><span st
 yle="font-size: 11.5pt\; font-family: Arial\; color: rgb(32\, 31\, 30)\; b
 ackground-color: transparent\; font-variant-numeric: normal\; font-variant
 -east-asian: normal\; vertical-align: baseline\; white-space-collapse: pre
 serve\;"><span style="font-weight: bolder\;">FAVA Casa Central:</span></sp
 an><span style="font-size: 11.5pt\; font-family: Arial\; color: rgb(32\, 3
 1\, 30)\; background-color: transparent\; font-weight: 700\; font-variant-
 numeric: normal\; font-variant-east-asian: normal\; vertical-align: baseli
 ne\; white-space-collapse: preserve\;"> </span><span style="font-size: 11.
 5pt\; font-family: Arial\; color: rgb(32\, 31\, 30)\; background-color: tr
 ansparent\; font-variant-numeric: normal\; font-variant-east-asian: normal
 \; vertical-align: baseline\; white-space-collapse: preserve\;">Av. Pedro 
 Luro 3247 - Mar del Plata</span></p><p dir="ltr" style="margin: 0pt 0px\; 
 font-family: Abel\, sans-serif\; text-align: center\; text-size-adjust: 10
 0%\; color: rgb(51\, 51\, 51)\; font-size: 14px\; line-height: 1.656\;"><b
 r></p><p dir="ltr" style="margin: 0pt 0px\; font-family: Abel\, sans-serif
 \; text-align: center\; text-size-adjust: 100%\; color: rgb(51\, 51\, 51)\
 ; font-size: 14px\; line-height: 1.38\;"><a href="http://www.articket.com.
 ar/" style="color: rgb(51\, 122\, 183)\;"><span style="font-size: 11.5pt\;
  font-family: Arial\; color: rgb(17\, 85\, 204)\; font-variant-numeric: no
 rmal\; font-variant-east-asian: normal\; text-decoration-line: underline\;
  text-decoration-skip-ink: none\; vertical-align: baseline\;">www.articket
 .com.ar</span></a></p><p dir="ltr" style="margin: 0pt 0px\; font-family: A
 bel\, sans-serif\; text-align: center\; text-size-adjust: 100%\; color: rg
 b(51\, 51\, 51)\; font-size: 14px\; line-height: 1.656\;"><br></p><p dir="
 ltr" style="margin: 0pt 0px\; font-family: Abel\, sans-serif\; text-align:
  center\; text-size-adjust: 100%\; color: rgb(51\, 51\, 51)\; font-size: 1
 4px\; line-height: 1.38\;"><span style="caret-color: rgb(34\, 34\, 34)\; c
 olor: rgb(34\, 34\, 34)\; font-family: Arial\; font-size: 14.6667px\; whit
 e-space-collapse: preserve\;"><span style="font-weight: bolder\;">APTO +14
  (hasta 00hs)</span></span></p><p dir="ltr" style="margin: 0pt 0px\; font-
 family: Abel\, sans-serif\; text-align: center\; text-size-adjust: 100%\; 
 color: rgb(51\, 51\, 51)\; font-size: 14px\; line-height: 1.38\;"><span st
 yle="caret-color: rgb(34\, 34\, 34)\; color: rgb(34\, 34\, 34)\; font-fami
 ly: Arial\; font-size: 14.6667px\; white-space-collapse: preserve\;"><span
  style="font-weight: bolder\;"><br></span></span></p><p dir="ltr" style="m
 argin: 0pt 0px\; font-family: Abel\, sans-serif\; text-align: center\; tex
 t-size-adjust: 100%\; color: rgb(51\, 51\, 51)\; font-size: 14px\; line-he
 ight: 1.38\;"><span style="caret-color: rgb(34\, 34\, 34)\; color: rgb(34\
 , 34\, 34)\; font-family: Arial\; font-size: 14.6667px\; white-space-colla
 pse: preserve\;"><span style="font-weight: bolder\;"><br></span></span></p
 ><p dir="ltr" style="margin: 0pt 0px\; text-align: center\; line-height: 1
 .38\;"><font face="Abel\, sans-serif" color="#9c9c94"><span style="font-si
 ze: 12px\;">PROMO BANCO PROVINCIA CONDICIONES:&nbsp\;<a href="https://tr.e
 e/89uSGj" target="_blank">https://tr.ee/89uSGj</a></span></font></p>
END:VEVENT
END:VCALENDAR
