BEGIN:VCALENDAR
VERSION:2.0
PRODID:-//My Calendar//mxm.dk//
BEGIN:VEVENT
SUMMARY:25 AÑOS SON DE LA HABANA - ABBEY ROAD
DTSTART:20260425T000000Z
DTEND:20260425T030000Z
DTSTAMP:20260423T130914Z
DESCRIPTION:<h2 style="color: rgb(0\, 0\, 0)\; font-family: Nunito\, -appl
 e-system\, BlinkMacSystemFont\, &quot\;Segoe UI&quot\;\, Roboto\, &quot\;H
 elvetica Neue&quot\;\, Arial\, sans-serif\, &quot\;Apple Color Emoji&quot\
 ;\, &quot\;Segoe UI Emoji&quot\;\, &quot\;Segoe UI Symbol&quot\;\, &quot\;
 Noto Color Emoji&quot\;\; text-align: center\;"><u style=""><span style="f
 ont-weight: bolder\;">25 AÑOS SON DE LA HABANA</span></u></h2><h2 style="
 text-align: center\;"><font color="#000000" face="Nunito\, -apple-system\,
  BlinkMacSystemFont\, Segoe UI\, Roboto\, Helvetica Neue\, Arial\, sans-se
 rif\, Apple Color Emoji\, Segoe UI Emoji\, Segoe UI Symbol\, Noto Color Em
 oji" style=""><b style=""><span style="font-size: 24px\;">Orquesta de 10 m
 úsicos - bailarines y DJ Lucas Rodriguez</span></b></font></h2><h2 style=
 "color: rgb(0\, 0\, 0)\; font-family: Nunito\, -apple-system\, BlinkMacSys
 temFont\, &quot\;Segoe UI&quot\;\, Roboto\, &quot\;Helvetica Neue&quot\;\,
  Arial\, sans-serif\, &quot\;Apple Color Emoji&quot\;\, &quot\;Segoe UI Em
 oji&quot\;\, &quot\;Segoe UI Symbol&quot\;\, &quot\;Noto Color Emoji&quot\
 ;\; text-align: center\;"><u style=""><span style="font-weight: bolder\;">
 <br></span></u></h2><p style="text-align: center\;"><span style="color: rg
 b(32\, 31\, 30)\; font-family: Arial\; font-size: 11.5pt\;">Entradas antic
 ipadas limitadas en efectivo:</span></p><p dir="ltr" style="margin: 0pt 0p
 x\; font-family: Abel\, sans-serif\; text-align: center\; text-size-adjust
 : 100%\; color: rgb(51\, 51\, 51)\; font-size: 14px\; line-height: 1.656\;
 "><span style="font-size: 11pt\; font-family: Arial\; color: rgb(34\, 34\,
  34)\; font-variant-numeric: normal\; font-variant-east-asian: normal\; ve
 rtical-align: baseline\;">&nbsp\;</span></p><p dir="ltr" style="margin: 0p
 t 0px\; font-family: Abel\, sans-serif\; text-align: center\; text-size-ad
 just: 100%\; color: rgb(51\, 51\, 51)\; font-size: 14px\; line-height: 1.6
 56\;"><span style="font-size: 11.5pt\; font-family: Arial\; color: rgb(32\
 , 31\, 30)\; font-weight: 700\; font-variant-numeric: normal\; font-varian
 t-east-asian: normal\; vertical-align: baseline\;">La Casa de las Guitarra
 s:</span><span style="font-size: 11.5pt\; font-family: Arial\; color: rgb(
 32\, 31\, 30)\; font-variant-numeric: normal\; font-variant-east-asian: no
 rmal\; vertical-align: baseline\;">&nbsp\;Belgrano 3420 - Mar del Plata</s
 pan></p><p dir="ltr" style="margin: 0pt 0px\; font-family: Abel\, sans-ser
 if\; text-align: center\; color: rgb(51\, 51\, 51)\; font-size: 14px\; lin
 e-height: 1.656\;"><span style="font-size: 11.5pt\; font-family: Arial\; c
 olor: rgb(32\, 31\, 30)\; background-color: transparent\; font-variant-num
 eric: normal\; font-variant-east-asian: normal\; vertical-align: baseline\
 ; white-space-collapse: preserve\;"><span style="font-weight: bolder\;">FA
 VA Casa Central:</span></span><span style="font-size: 11.5pt\; font-family
 : Arial\; color: rgb(32\, 31\, 30)\; background-color: transparent\; font-
 weight: 700\; font-variant-numeric: normal\; font-variant-east-asian: norm
 al\; vertical-align: baseline\; white-space-collapse: preserve\;"> </span>
 <span style="font-size: 11.5pt\; font-family: Arial\; color: rgb(32\, 31\,
  30)\; background-color: transparent\; font-variant-numeric: normal\; font
 -variant-east-asian: normal\; vertical-align: baseline\; white-space-colla
 pse: preserve\;">Av. Pedro Luro 3247 - Mar del Plata</span></p><p dir="ltr
 " style="margin: 0pt 0px\; font-family: Abel\, sans-serif\; text-align: ce
 nter\; text-size-adjust: 100%\; color: rgb(51\, 51\, 51)\; font-size: 14px
 \; line-height: 1.656\;"><br></p><p dir="ltr" style="margin: 0pt 0px\; fon
 t-family: Abel\, sans-serif\; text-align: center\; text-size-adjust: 100%\
 ; color: rgb(51\, 51\, 51)\; font-size: 14px\; line-height: 1.38\;"><a hre
 f="http://www.articket.com.ar/" style="color: rgb(51\, 122\, 183)\;"><span
  style="font-size: 11.5pt\; font-family: Arial\; color: rgb(17\, 85\, 204)
 \; font-variant-numeric: normal\; font-variant-east-asian: normal\; text-d
 ecoration-line: underline\; text-decoration-skip-ink: none\; vertical-alig
 n: baseline\;">www.articket.com.ar</span></a></p><p dir="ltr" style="margi
 n: 0pt 0px\; font-family: Abel\, sans-serif\; text-align: center\; text-si
 ze-adjust: 100%\; color: rgb(51\, 51\, 51)\; font-size: 14px\; line-height
 : 1.656\;"><br></p><p dir="ltr" style="margin: 0pt 0px\; font-family: Abel
 \, sans-serif\; text-align: center\; text-size-adjust: 100%\; color: rgb(5
 1\, 51\, 51)\; font-size: 14px\; line-height: 1.38\;"><span style="caret-c
 olor: rgb(34\, 34\, 34)\; color: rgb(34\, 34\, 34)\; font-family: Arial\; 
 font-size: 14.6667px\; white-space-collapse: preserve\;"><span style="font
 -weight: bolder\;">APTO +14 (hasta 00hs)</span></span></p><p dir="ltr" sty
 le="margin: 0pt 0px\; font-family: Abel\, sans-serif\; text-align: center\
 ; text-size-adjust: 100%\; color: rgb(51\, 51\, 51)\; font-size: 14px\; li
 ne-height: 1.38\;"><span style="caret-color: rgb(34\, 34\, 34)\; color: rg
 b(34\, 34\, 34)\; font-family: Arial\; font-size: 14.6667px\; white-space-
 collapse: preserve\;"><span style="font-weight: bolder\;"><br></span></spa
 n></p><p dir="ltr" style="margin: 0pt 0px\; font-family: Abel\, sans-serif
 \; text-align: center\; text-size-adjust: 100%\; color: rgb(51\, 51\, 51)\
 ; font-size: 14px\; line-height: 1.38\;"><span style="caret-color: rgb(34\
 , 34\, 34)\; color: rgb(34\, 34\, 34)\; font-family: Arial\; font-size: 14
 .6667px\; white-space-collapse: preserve\;"><span style="font-weight: bold
 er\;"><br></span></span></p><p dir="ltr" style="margin: 0pt 0px\; text-ali
 gn: center\; line-height: 1.38\;"><font face="Abel\, sans-serif" color="#9
 c9c94"><span style="font-size: 12px\;">PROMO BANCO PROVINCIA CONDICIONES:&
 nbsp\;<a href="https://tr.ee/89uSGj" target="_blank">https://tr.ee/89uSGj<
 /a></span></font></p><p dir="ltr" style="margin: 0pt 0px\; text-align: cen
 ter\; line-height: 1.38\;"><br style="font-family: Abel\, sans-serif\;"></
 p>
END:VEVENT
END:VCALENDAR
