BEGIN:VCALENDAR
VERSION:2.0
PRODID:-//My Calendar//mxm.dk//
BEGIN:VEVENT
SUMMARY:BUENOS AIRES BALLET PRESENTA - GRAN GALA DE BALLET
DTSTART:20260524T000000Z
DTEND:20260524T030000Z
DTSTAMP:20260423T143606Z
DESCRIPTION:<p dir="ltr" style="text-align: left\; margin: 0pt 0px\; -webk
 it-tap-highlight-color: rgba(0\, 0\, 0\, 0)\; text-size-adjust: 100%\; lin
 e-height: 1.656\;"><div style="text-align: center\;"><u style="color: rgb(
 32\, 31\, 30)\; font-family: Arial\; font-size: 1rem\;"><span style="font-
 weight: bolder\; caret-color: rgb(51\, 51\, 51)\; font-size: 18px\;">BUENO
 S AIRES BALLET PRESENTA</span></u></div><font color="#201f1e" face="Arial"
 ><div style="text-align: center\;"><u style="font-size: 1rem\;"><span styl
 e="font-family: Abel\, sans-serif\; font-size: 36px\; font-weight: bolder\
 ; caret-color: rgb(51\, 51\, 51)\;">GRAN GALA DE BALLET</span></u></div><u
 ><div style="text-align: center\;"><u style="font-size: 1rem\;"><span styl
 e="font-family: Abel\, sans-serif\; font-size: 18px\; font-weight: bolder\
 ; caret-color: rgb(51\, 51\, 51)\;">EN OLAVARRIA</span></u></div></u></fon
 t></p><p dir="ltr" style="margin: 0pt 0px\; font-family: Abel\, sans-serif
 \; text-align: center\; color: rgb(51\, 51\, 51)\; font-size: 14px\; caret
 -color: rgb(51\, 51\, 51)\; -webkit-tap-highlight-color: rgba(0\, 0\, 0\, 
 0)\; text-size-adjust: 100%\; line-height: 1.656\;"><span style="font-size
 : 11.5pt\; font-family: Arial\; color: rgb(32\, 31\, 30)\; font-variant-nu
 meric: normal\; font-variant-east-asian: normal\; vertical-align: baseline
 \;"><br></span></p><p dir="ltr" style="margin: 0pt 0px\; font-family: Abel
 \, sans-serif\; text-align: center\; color: rgb(51\, 51\, 51)\; font-size:
  14px\; caret-color: rgb(51\, 51\, 51)\; -webkit-tap-highlight-color: rgba
 (0\, 0\, 0\, 0)\; text-size-adjust: 100%\; line-height: 1.656\;"><span sty
 le="font-size: 11.5pt\; font-family: Arial\; color: rgb(32\, 31\, 30)\; fo
 nt-variant-numeric: normal\; font-variant-east-asian: normal\; vertical-al
 ign: baseline\;">Entradas anticipadas:<br><br></span></p><p dir="ltr" styl
 e="margin: 0pt 0px\; font-family: Abel\, sans-serif\; text-align: center\;
  color: rgb(51\, 51\, 51)\; font-size: 14px\; caret-color: rgb(51\, 51\, 5
 1)\; -webkit-tap-highlight-color: rgba(0\, 0\, 0\, 0)\; text-size-adjust: 
 100%\; line-height: 1.656\;"><u style="color: rgb(34\, 34\, 34)\; font-fam
 ily: Arial\; font-size: 14.6667px\;">POR SISTEMA:<br></u><span style="font
 -weight: 700\; color: rgb(34\, 34\, 34)\; font-family: Arial\; font-size: 
 11pt\;">(Todos los medios de pago)</span></p><p dir="ltr" style="margin: 0
 pt 0px\; font-family: Abel\, sans-serif\; text-align: center\; color: rgb(
 51\, 51\, 51)\; font-size: 14px\; caret-color: rgb(51\, 51\, 51)\; -webkit
 -tap-highlight-color: rgba(0\, 0\, 0\, 0)\; text-size-adjust: 100%\; line-
 height: 1.656\;"><span style="font-weight: 700\; color: rgb(34\, 34\, 34)\
 ; font-family: Arial\; font-size: 11pt\;"><br></span></p><p dir="ltr" styl
 e="margin: 0pt 0px\; font-family: Abel\, sans-serif\; text-align: center\;
  color: rgb(51\, 51\, 51)\; font-size: 14px\; caret-color: rgb(51\, 51\, 5
 1)\; -webkit-tap-highlight-color: rgba(0\, 0\, 0\, 0)\; text-size-adjust: 
 100%\; line-height: 1.656\;"><font color="#222222" face="Arial"><span styl
 e="font-size: 14.6667px\;"><u>Efectivo en:</u></span></font></p><p dir="lt
 r" style="margin: 0pt 0px\; font-family: Abel\, sans-serif\; text-align: c
 enter\; color: rgb(51\, 51\, 51)\; font-size: 14px\; caret-color: rgb(51\,
  51\, 51)\; -webkit-tap-highlight-color: rgba(0\, 0\, 0\, 0)\; text-size-a
 djust: 100%\; line-height: 1.656\;"><span style="font-size: 11.5pt\; font-
 family: Arial\; color: rgb(32\, 31\, 30)\; font-weight: 700\; font-variant
 -numeric: normal\; font-variant-east-asian: normal\; vertical-align: basel
 ine\;">TecnoCentro:</span><span style="font-size: 11.5pt\; font-family: Ar
 ial\; color: rgb(32\, 31\, 30)\; font-variant-numeric: normal\; font-varia
 nt-east-asian: normal\; vertical-align: baseline\;">&nbsp\;Rivadavia 3065 
 -&nbsp\;<span style="font-weight: 700\;">Olavarria</span></span></p><div s
 tyle="text-align: center\; -webkit-tap-highlight-color: rgba(0\, 0\, 0\, 0
 )\; text-size-adjust: 100%\; font-family: Arial\, Helvetica\, sans-serif\;
  font-size: small\; color: rgb(33\, 33\, 33)\;"><i><br></i></div><p dir="l
 tr" style="margin: 0pt 0px\; font-family: Abel\, sans-serif\; text-align: 
 center\; color: rgb(51\, 51\, 51)\; font-size: 14px\; caret-color: rgb(51\
 , 51\, 51)\; -webkit-tap-highlight-color: rgba(0\, 0\, 0\, 0)\; text-size-
 adjust: 100%\; line-height: 1.656\;"><span style="font-size: 11pt\; font-f
 amily: Arial\; color: rgb(34\, 34\, 34)\; font-variant-numeric: normal\; f
 ont-variant-east-asian: normal\; vertical-align: baseline\;"><span style="
 font-weight: 700\;"><u>Entradas de Discapacidad</u></span></span></p><p di
 r="ltr" style="margin: 0pt 0px\; font-family: Abel\, sans-serif\; text-ali
 gn: center\; color: rgb(51\, 51\, 51)\; font-size: 14px\; caret-color: rgb
 (51\, 51\, 51)\; -webkit-tap-highlight-color: rgba(0\, 0\, 0\, 0)\; text-s
 ize-adjust: 100%\; line-height: 1.656\;"><span style="font-size: 11pt\; fo
 nt-family: Arial\; color: rgb(34\, 34\, 34)\; font-variant-numeric: normal
 \; font-variant-east-asian: normal\; vertical-align: baseline\;"></span></
 p><p dir="ltr" style="margin: 0pt 0px\; font-family: Abel\, sans-serif\; t
 ext-align: center\; color: rgb(51\, 51\, 51)\; font-size: 14px\; line-heig
 ht: 1.656\;"><span style="font-size: 11pt\; font-family: Arial\; color: rg
 b(34\, 34\, 34)\; font-variant-numeric: normal\; font-variant-east-asian: 
 normal\; vertical-align: baseline\;">Para solicitar entradas de discapacid
 ad por favor&nbsp\;dirigirse a la&nbsp\;<span style="font-weight: bolder\;
 ">Boletería del Teatro</span>&nbsp\;de&nbsp\;<span style="font-weight: bo
 lder\;">Lunes a viernes de 8:30 a 16hs.</span></span></p><p style="margin:
  0pt 0px\; text-align: center\; color: rgb(34\, 34\, 34)\; font-family: Ar
 ial\, Helvetica\, sans-serif\; font-size: small\; line-height: 1.656\;"><f
 ont face="Arial" color="#ffffff"><span style="font-size: 14.6667px\; backg
 round-color: rgb(103\, 78\, 167)\;"><span style="font-weight: bolder\;">La
 s entradas se podrán&nbsp\;solicitar a partir del 1er día hábil del mes
  corriente del evento.</span></span></font></p><p dir="ltr" style="margin:
  0pt 0px\; font-family: Abel\, sans-serif\; text-align: center\; color: rg
 b(51\, 51\, 51)\; font-size: 14px\; caret-color: rgb(51\, 51\, 51)\; -webk
 it-tap-highlight-color: rgba(0\, 0\, 0\, 0)\; text-size-adjust: 100%\; lin
 e-height: 1.656\;"><span style="font-size: 11pt\; font-family: Arial\; col
 or: rgb(34\, 34\, 34)\; font-variant-numeric: normal\; font-variant-east-a
 sian: normal\; vertical-align: baseline\;"><br></span></p><p dir="ltr" sty
 le="margin: 0pt 0px\; font-family: Abel\, sans-serif\; text-align: center\
 ; color: rgb(51\, 51\, 51)\; font-size: 14px\; caret-color: rgb(51\, 51\, 
 51)\; -webkit-tap-highlight-color: rgba(0\, 0\, 0\, 0)\; text-size-adjust:
  100%\; line-height: 1.38\;"><a href="http://www.articket.com.ar/" style="
 color: rgb(51\, 122\, 183)\;"><span style="font-size: 11.5pt\; font-family
 : Arial\; color: rgb(17\, 85\, 204)\; font-variant-numeric: normal\; font-
 variant-east-asian: normal\; text-decoration-line: underline\; text-decora
 tion-skip-ink: none\; vertical-align: baseline\;">www.articket.com.ar</spa
 n></a></p><p style="font-family: Abel\, sans-serif\; text-align: center\;"
 ><br style="color: rgb(51\, 51\, 51)\; font-size: 14px\; caret-color: rgb(
 51\, 51\, 51)\; -webkit-tap-highlight-color: rgba(0\, 0\, 0\, 0)\; text-si
 ze-adjust: 100%\;"></p><p dir="ltr" style="margin: 0pt 0px\; font-family: 
 Abel\, sans-serif\; text-align: center\; color: rgb(51\, 51\, 51)\; font-s
 ize: 14px\; caret-color: rgb(51\, 51\, 51)\; -webkit-tap-highlight-color: 
 rgba(0\, 0\, 0\, 0)\; text-size-adjust: 100%\; line-height: 1.38\;"><span 
 style="font-size: 11pt\; font-family: Arial\; color: rgb(34\, 34\, 34)\; f
 ont-weight: 700\; font-variant-numeric: normal\; font-variant-east-asian: 
 normal\; vertical-align: baseline\;">APTO TODO PUBLICO</span></p><p dir="l
 tr" style="margin: 0pt 0px\; font-family: Abel\, sans-serif\; text-align: 
 center\; color: rgb(51\, 51\, 51)\; font-size: 14px\; caret-color: rgb(51\
 , 51\, 51)\; -webkit-tap-highlight-color: rgba(0\, 0\, 0\, 0)\; text-size-
 adjust: 100%\; line-height: 1.38\;"><span style="font-size: 11pt\; font-fa
 mily: Arial\; color: rgb(34\, 34\, 34)\; font-weight: 700\; font-variant-n
 umeric: normal\; font-variant-east-asian: normal\; vertical-align: baselin
 e\;"><br></span></p><p dir="ltr" style="margin: 0pt 0px\; font-family: Abe
 l\, sans-serif\; text-align: center\; color: rgb(51\, 51\, 51)\; font-size
 : 14px\; caret-color: rgb(51\, 51\, 51)\; -webkit-tap-highlight-color: rgb
 a(0\, 0\, 0\, 0)\; text-size-adjust: 100%\; line-height: 1.38\;"><span sty
 le="font-size: 11pt\; font-family: Arial\; color: rgb(34\, 34\, 34)\; font
 -weight: 700\; font-variant-numeric: normal\; font-variant-east-asian: nor
 mal\; vertical-align: baseline\;">---</span></p><p dir="ltr" style="margin
 : 0pt 0px\; font-family: Abel\, sans-serif\; text-align: center\; color: r
 gb(51\, 51\, 51)\; font-size: 14px\; caret-color: rgb(51\, 51\, 51)\; -web
 kit-tap-highlight-color: rgba(0\, 0\, 0\, 0)\; text-size-adjust: 100%\; li
 ne-height: 1.38\;"><br></p><p dir="ltr" style="margin: 0pt 0px\; text-alig
 n: center\; -webkit-tap-highlight-color: rgba(0\, 0\, 0\, 0)\; text-size-a
 djust: 100%\; line-height: 1.38\;"><font color="#333333" face="Abel\, sans
 -serif"><span style="font-size: 14px\; caret-color: rgb(51\, 51\, 51)\;">B
 UENOS AIRES BALLET - BAB - es una compañía dirigida por FEDERICO FERNÁN
 DEZ\,</span></font></p><p dir="ltr" style="margin: 0pt 0px\; text-align: c
 enter\; -webkit-tap-highlight-color: rgba(0\, 0\, 0\, 0)\; text-size-adjus
 t: 100%\; line-height: 1.38\;"><font color="#333333" face="Abel\, sans-ser
 if"><span style="font-size: 14px\; caret-color: rgb(51\, 51\, 51)\;">Prime
 r Bailarín del Teatro Colón que presenta la gira 2026 con &amp\;quot\;GR
 AN GALA DE</span></font></p><p dir="ltr" style="margin: 0pt 0px\; text-ali
 gn: center\; -webkit-tap-highlight-color: rgba(0\, 0\, 0\, 0)\; text-size-
 adjust: 100%\; line-height: 1.38\;"><font color="#333333" face="Abel\, san
 s-serif"><span style="font-size: 14px\; caret-color: rgb(51\, 51\, 51)\;">
 BALLET&amp\;quot\; y los éxitos de Astor Piazzolla junto a primeras Figur
 as de la Danza Argentina\,</span></font></p><p dir="ltr" style="margin: 0p
 t 0px\; text-align: center\; -webkit-tap-highlight-color: rgba(0\, 0\, 0\,
  0)\; text-size-adjust: 100%\; line-height: 1.38\;"><font color="#333333" 
 face="Abel\, sans-serif"><span style="font-size: 14px\; caret-color: rgb(5
 1\, 51\, 51)\;">Ballet del Teatro Colón y Teatro Argentino.</span></font>
 </p><p dir="ltr" style="margin: 0pt 0px\; text-align: center\; -webkit-tap
 -highlight-color: rgba(0\, 0\, 0\, 0)\; text-size-adjust: 100%\; line-heig
 ht: 1.38\;"><font color="#333333" face="Abel\, sans-serif"><span style="fo
 nt-size: 14px\; caret-color: rgb(51\, 51\, 51)\;">Este programa incluye lo
 s mejores fragmentos del repertorio clásico internacional en</span></font
 ></p><p dir="ltr" style="margin: 0pt 0px\; text-align: center\; -webkit-ta
 p-highlight-color: rgba(0\, 0\, 0\, 0)\; text-size-adjust: 100%\; line-hei
 ght: 1.38\;"><font color="#333333" face="Abel\, sans-serif"><span style="f
 ont-size: 14px\; caret-color: rgb(51\, 51\, 51)\;">una misma noche y los 
 éxitos del maestro Astor Piazzolla con obras creadas</span></font></p><p 
 dir="ltr" style="margin: 0pt 0px\; text-align: center\; -webkit-tap-highli
 ght-color: rgba(0\, 0\, 0\, 0)\; text-size-adjust: 100%\; line-height: 1.3
 8\;"><font color="#333333" face="Abel\, sans-serif"><span style="font-size
 : 14px\; caret-color: rgb(51\, 51\, 51)\;">especialmente para la Compañí
 a.</span></font></p><p dir="ltr" style="margin: 0pt 0px\; text-align: cent
 er\; -webkit-tap-highlight-color: rgba(0\, 0\, 0\, 0)\; text-size-adjust: 
 100%\; line-height: 1.38\;"><font color="#333333" face="Abel\, sans-serif"
 ><span style="font-size: 14px\; caret-color: rgb(51\, 51\, 51)\;">BAB es u
 na compañía que recorre todo el país y el extranjero teniendo las mejor
 es</span></font></p><p dir="ltr" style="margin: 0pt 0px\; text-align: cent
 er\; -webkit-tap-highlight-color: rgba(0\, 0\, 0\, 0)\; text-size-adjust: 
 100%\; line-height: 1.38\;"><font color="#333333" face="Abel\, sans-serif"
 ><span style="font-size: 14px\; caret-color: rgb(51\, 51\, 51)\;">crítica
 s\, premios y reconocimientos de la crítica especializada.</span></font><
 /p><p dir="ltr" style="margin: 0pt 0px\; text-align: center\; -webkit-tap-
 highlight-color: rgba(0\, 0\, 0\, 0)\; text-size-adjust: 100%\; line-heigh
 t: 1.38\;"><font color="#333333" face="Abel\, sans-serif"><span style="fon
 t-size: 14px\; caret-color: rgb(51\, 51\, 51)\;">BAB presenta “GRAN GALA
  DE BALLET” y es sin lugar a dudas un espectáculo</span></font></p><p d
 ir="ltr" style="margin: 0pt 0px\; text-align: center\; -webkit-tap-highlig
 ht-color: rgba(0\, 0\, 0\, 0)\; text-size-adjust: 100%\; line-height: 1.38
 \;"><font color="#333333" face="Abel\, sans-serif"><span style="font-size:
  14px\; caret-color: rgb(51\, 51\, 51)\;">inolvidable.-</span></font></p><
 p dir="ltr" style="margin: 0pt 0px\; text-align: center\; -webkit-tap-high
 light-color: rgba(0\, 0\, 0\, 0)\; text-size-adjust: 100%\; line-height: 1
 .38\;"><font color="#333333" face="Abel\, sans-serif"><span style="font-si
 ze: 14px\; caret-color: rgb(51\, 51\, 51)\;">FEDERICO FERNÁNDEZ</span></f
 ont></p><p dir="ltr" style="margin: 0pt 0px\; text-align: center\; -webkit
 -tap-highlight-color: rgba(0\, 0\, 0\, 0)\; text-size-adjust: 100%\; line-
 height: 1.38\;"><font color="#333333" face="Abel\, sans-serif"><span style
 ="font-size: 14px\; caret-color: rgb(51\, 51\, 51)\;">Primer bailarín del
  Ballet Estable y director de la compañía Buenos Aires Ballet\, con la</
 span></font></p><p dir="ltr" style="margin: 0pt 0px\; text-align: center\;
  -webkit-tap-highlight-color: rgba(0\, 0\, 0\, 0)\; text-size-adjust: 100%
 \; line-height: 1.38\;"><font color="#333333" face="Abel\, sans-serif"><sp
 an style="font-size: 14px\; caret-color: rgb(51\, 51\, 51)\;">cual recorre
  la Argentina y el exterior\, su repertorio abarca obras clásicas y</span
 ></font></p><p dir="ltr" style="margin: 0pt 0px\; text-align: center\; -we
 bkit-tap-highlight-color: rgba(0\, 0\, 0\, 0)\; text-size-adjust: 100%\; l
 ine-height: 1.38\;"><font color="#333333" face="Abel\, sans-serif"><span s
 tyle="font-size: 14px\; caret-color: rgb(51\, 51\, 51)\;">contemporáneas:
  Don Quijote\, Onegin\, La cenicienta\, La fierecilla domada\, Margarita y
 </span></font></p><p dir="ltr" style="margin: 0pt 0px\; text-align: center
 \; -webkit-tap-highlight-color: rgba(0\, 0\, 0\, 0)\; text-size-adjust: 10
 0%\; line-height: 1.38\;"><font color="#333333" face="Abel\, sans-serif"><
 span style="font-size: 14px\; caret-color: rgb(51\, 51\, 51)\;">Armando\, 
 Giselle\, Paquita\, Pulsaciones y Caravaggio\, entre otras.</span></font><
 /p><p dir="ltr" style="margin: 0pt 0px\; text-align: center\; -webkit-tap-
 highlight-color: rgba(0\, 0\, 0\, 0)\; text-size-adjust: 100%\; line-heigh
 t: 1.38\;"><font color="#333333" face="Abel\, sans-serif"><span style="fon
 t-size: 14px\; caret-color: rgb(51\, 51\, 51)\;">Inició sus estudios con 
 Katty Gallo y Raúl Candal\, recibiendo una beca de la Fundación</span></
 font></p><p dir="ltr" style="margin: 0pt 0px\; text-align: center\; -webki
 t-tap-highlight-color: rgba(0\, 0\, 0\, 0)\; text-size-adjust: 100%\; line
 -height: 1.38\;"><font color="#333333" face="Abel\, sans-serif"><span styl
 e="font-size: 14px\; caret-color: rgb(51\, 51\, 51)\;">Julio Bocca. A los 
 catorce años de edad fue convocado por Julio Bocca para integrar el</span
 ></font></p><p dir="ltr" style="margin: 0pt 0px\; text-align: center\; -we
 bkit-tap-highlight-color: rgba(0\, 0\, 0\, 0)\; text-size-adjust: 100%\; l
 ine-height: 1.38\;"><font color="#333333" face="Abel\, sans-serif"><span s
 tyle="font-size: 14px\; caret-color: rgb(51\, 51\, 51)\;">Ballet Argentino
  y el Ballet Concierto.</span></font></p><p dir="ltr" style="margin: 0pt 0
 px\; text-align: center\; -webkit-tap-highlight-color: rgba(0\, 0\, 0\, 0)
 \; text-size-adjust: 100%\; line-height: 1.38\;"><font color="#333333" fac
 e="Abel\, sans-serif"><span style="font-size: 14px\; caret-color: rgb(51\,
  51\, 51)\;">Fue solista y primer bailarín del Ballet Estable del Teatro 
 Argentino de La Plata\; y ha</span></font></p><p dir="ltr" style="margin: 
 0pt 0px\; text-align: center\; -webkit-tap-highlight-color: rgba(0\, 0\, 0
 \, 0)\; text-size-adjust: 100%\; line-height: 1.38\;"><font color="#333333
 " face="Abel\, sans-serif"><span style="font-size: 14px\; caret-color: rgb
 (51\, 51\, 51)\;">participado de festivales internacionales\, además de p
 resentarse como primer bailarín</span></font></p><p dir="ltr" style="marg
 in: 0pt 0px\; text-align: center\; -webkit-tap-highlight-color: rgba(0\, 0
 \, 0\, 0)\; text-size-adjust: 100%\; line-height: 1.38\;"><font color="#33
 3333" face="Abel\, sans-serif"><span style="font-size: 14px\; caret-color:
  rgb(51\, 51\, 51)\;">invitado junto a compañías de América Latina.-</s
 pan></font></p><p dir="ltr" style="margin: 0pt 0px\; text-align: center\; 
 -webkit-tap-highlight-color: rgba(0\, 0\, 0\, 0)\; text-size-adjust: 100%\
 ; line-height: 1.38\;"><font color="#222222" face="Arial"><span style="fon
 t-size: 14.6667px\; caret-color: rgb(51\, 51\, 51)\;"><span style="font-we
 ight: bolder\;"><br></span></span></font></p><p dir="ltr" style="margin: 0
 pt 0px\; text-align: center\; line-height: 1.38\;"><font face="Abel\, sans
 -serif" color="#9c9c94"><span style="font-size: 12px\;">PROMO BANCO PROVIN
 CIA CONDICIONES:&nbsp\;<a href="https://tr.ee/89uSGj" target="_blank">http
 s://tr.ee/89uSGj</a></span></font></p><p dir="ltr" style="margin: 0pt 0px\
 ; text-align: center\; line-height: 1.38\;"><br style="font-family: Abel\,
  sans-serif\;"></p>
END:VEVENT
END:VCALENDAR
