BEGIN:VCALENDAR
VERSION:2.0
PRODID:-//My Calendar//mxm.dk//
BEGIN:VEVENT
SUMMARY:ADRIAN BARILARI - CANCIONES DORADAS II
DTSTART:20260829T000000Z
DTEND:20260829T050000Z
DTSTAMP:20260424T124633Z
DESCRIPTION:<p dir="ltr" style="margin: 0pt 0px\; font-family: Abel\, sans
 -serif\; text-align: center\; text-size-adjust: 100%\; color: rgb(51\, 51\
 , 51)\; font-size: 14px\; line-height: 1.656\;"><font color="#201f1e" face
 ="Arial"><span style="font-size: 15.3333px\;"><span style="text-decoration
 -line: underline\;"><b><span style="font-size: 24px\;">ADRIAN BARILARI</sp
 an><br><span style="font-size: 24px\;">EN LOMAS DE ZAMORA</span></b></span
 ></span></font></p><p dir="ltr" style="margin: 0pt 0px\; font-family: Abel
 \, sans-serif\; text-align: center\; text-size-adjust: 100%\; color: rgb(5
 1\, 51\, 51)\; font-size: 14px\; line-height: 1.656\;"><span style="font-s
 ize: 11.5pt\; font-family: Arial\; color: rgb(32\, 31\, 30)\; font-variant
 -numeric: normal\; font-variant-east-asian: normal\; vertical-align: basel
 ine\;"><span style="color: rgb(34\, 34\, 34)\; font-size: 11pt\;"><b>&nbsp
 \;</b></span></span></p><p dir="ltr" style="margin: 0pt 0px\; font-family:
  Abel\, sans-serif\; text-align: center\; text-size-adjust: 100%\; color: 
 rgb(51\, 51\, 51)\; font-size: 14px\; line-height: 1.38\;"><a href="http:/
 /www.articket.com.ar/" style="color: rgb(51\, 122\, 183)\;"><span style="f
 ont-size: 11.5pt\; font-family: Arial\; color: rgb(17\, 85\, 204)\; font-v
 ariant-numeric: normal\; font-variant-east-asian: normal\; text-decoration
 -line: underline\; text-decoration-skip-ink: none\; vertical-align: baseli
 ne\;">www.articket.com.ar</span></a></p><p class="MsoNormal" style="margin
 : 0px 0px 10pt\; text-align: center\; text-size-adjust: 100%\; color: rgb(
 34\, 34\, 34)\; font-family: Arial\, Helvetica\, sans-serif\; font-size: s
 mall\; line-height: 14.95px\;"><span style="font-family: Calibri\, sans-se
 rif\;"><br></span></p><p class="MsoNormal" style="margin: 0px 0px 10pt\; t
 ext-align: center\; text-size-adjust: 100%\; color: rgb(34\, 34\, 34)\; fo
 nt-family: Arial\, Helvetica\, sans-serif\; font-size: small\; line-height
 : 14.95px\;"><span style="font-family: Calibri\, sans-serif\;"><span style
 ="font-weight: 700\; font-family: Arial\; font-size: 14.6667px\;">EVENTO A
 PTO TODO PUBLICO<br><br><br><br><br><br><br></span></span><span style="col
 or: rgb(156\, 156\, 148)\; font-family: Abel\, sans-serif\; font-size: 12p
 x\;">PROMO BANCO PROVINCIA CONDICIONES:&nbsp\;</span><a href="https://tr.e
 e/89uSGj" target="_blank" style="background-color: rgb(255\, 255\, 255)\; 
 font-family: Abel\, sans-serif\; font-size: 12px\;">https://tr.ee/89uSGj</
 a><span style="font-family: Calibri\, sans-serif\;"><span style="font-weig
 ht: 700\; font-family: Arial\; font-size: 14.6667px\;"></span></span></p>
END:VEVENT
END:VCALENDAR
