BEGIN:VCALENDAR
VERSION:2.0
PRODID:-//My Calendar//mxm.dk//
BEGIN:VEVENT
SUMMARY:OPERACION ROSA ROSA EN SALA BRISTOL
DTSTART:20260524T000000Z
DTEND:20260524T080000Z
DTSTAMP:20260419T115837Z
DESCRIPTION:<p dir="ltr" style="text-align: center\; margin: 0pt 0px\; tex
 t-size-adjust: 100%\; line-height: 1.656\;"><font color="#201f1e" face="Ar
 ial"><span style="font-size: 18px\; caret-color: rgb(32\, 31\, 30)\;"><b><
 u>OPERACION ROSA ROSA</u></b></span></font></p><p dir="ltr" style="margin:
  0pt 0px\; text-align: center\; text-size-adjust: 100%\; line-height: 1.65
 6\;"><font color="#201f1e" face="Arial"><u><span style="font-weight: bolde
 r\; font-size: 18px\; caret-color: rgb(32\, 31\, 30)\;">EN LA SALA BRISTOL
 </span><br><span style="font-size: 15.3333px\;"><span style="font-weight: 
 bolder\;"><br><br></span></span></u></font></p><p dir="ltr" style="margin:
  0pt 0px\; font-family: Abel\, sans-serif\; text-align: center\; text-size
 -adjust: 100%\; color: rgb(51\, 51\, 51)\; font-size: 14px\; line-height: 
 1.656\;"><span style="font-size: 11.5pt\; font-family: Arial\; color: rgb(
 32\, 31\, 30)\; font-variant-numeric: normal\; font-variant-east-asian: no
 rmal\; vertical-align: baseline\;">Entradas anticipadas limitadas en efect
 ivo:</span></p><p dir="ltr" style="margin: 0pt 0px\; font-family: Abel\, s
 ans-serif\; text-align: center\; text-size-adjust: 100%\; color: rgb(51\, 
 51\, 51)\; font-size: 14px\; line-height: 1.656\;"><span style="font-size:
  11pt\; font-family: Arial\; color: rgb(34\, 34\, 34)\; font-variant-numer
 ic: normal\; font-variant-east-asian: normal\; vertical-align: baseline\;"
 >&nbsp\;</span></p><p dir="ltr" style="margin: 0pt 0px\; font-family: Abel
 \, sans-serif\; text-align: center\; text-size-adjust: 100%\; color: rgb(5
 1\, 51\, 51)\; font-size: 14px\; line-height: 1.656\;"><span style="font-s
 ize: 11.5pt\; font-family: Arial\; color: rgb(32\, 31\, 30)\; font-variant
 -numeric: normal\; font-variant-east-asian: normal\; vertical-align: basel
 ine\;"><span style="font-weight: bolder\;">La Casa de las Guitarras:</span
 ></span><span style="font-size: 11.5pt\; font-family: Arial\; color: rgb(3
 2\, 31\, 30)\; font-variant-numeric: normal\; font-variant-east-asian: nor
 mal\; vertical-align: baseline\;">&nbsp\;Belgrano 3420 - Mar del Plata</sp
 an></p><p dir="ltr" style="margin: 0pt 0px\; font-family: Abel\, sans-seri
 f\; text-align: center\; color: rgb(51\, 51\, 51)\; font-size: 14px\; line
 -height: 1.656\;"><span style="font-size: 11.5pt\; font-family: Arial\; co
 lor: rgb(32\, 31\, 30)\; background-color: transparent\; font-variant-nume
 ric: normal\; font-variant-east-asian: normal\; vertical-align: baseline\;
  white-space-collapse: preserve\;"><span style="font-weight: bolder\;">FAV
 A Casa Central:</span></span><span style="font-size: 11.5pt\; font-family:
  Arial\; color: rgb(32\, 31\, 30)\; background-color: transparent\; font-w
 eight: 700\; font-variant-numeric: normal\; font-variant-east-asian: norma
 l\; vertical-align: baseline\; white-space-collapse: preserve\;"> </span><
 span style="font-size: 11.5pt\; font-family: Arial\; color: rgb(32\, 31\, 
 30)\; background-color: transparent\; font-variant-numeric: normal\; font-
 variant-east-asian: normal\; vertical-align: baseline\; white-space-collap
 se: preserve\;">Av. Pedro Luro 3247 - Mar del Plata</span></p><div><span s
 tyle="font-size: 11.5pt\; font-family: Arial\; color: rgb(32\, 31\, 30)\; 
 background-color: transparent\; font-variant-numeric: normal\; font-varian
 t-east-asian: normal\; vertical-align: baseline\; white-space-collapse: pr
 eserve\;"><br></span></div><p dir="ltr" style="margin: 0pt 0px\; font-fami
 ly: Abel\, sans-serif\; text-align: center\; text-size-adjust: 100%\; colo
 r: rgb(51\, 51\, 51)\; font-size: 14px\; line-height: 1.38\;"><a href="htt
 p://www.articket.com.ar/" style="color: rgb(51\, 122\, 183)\;"><span style
 ="font-size: 11.5pt\; font-family: Arial\; color: rgb(17\, 85\, 204)\; fon
 t-variant-numeric: normal\; font-variant-east-asian: normal\; text-decorat
 ion-line: underline\; text-decoration-skip-ink: none\; vertical-align: bas
 eline\;">www.articket.com.ar</span></a></p><p dir="ltr" style="margin: 0pt
  0px\; font-family: Abel\, sans-serif\; text-align: center\; text-size-adj
 ust: 100%\; color: rgb(51\, 51\, 51)\; font-size: 14px\; line-height: 1.65
 6\;"><br></p><p dir="ltr" style="margin: 0pt 0px\; font-family: Abel\, san
 s-serif\; text-align: center\; text-size-adjust: 100%\; color: rgb(51\, 51
 \, 51)\; font-size: 14px\; line-height: 1.38\;"><span style="font-size: 11
 pt\; font-family: Arial\; color: rgb(34\, 34\, 34)\; font-variant-numeric:
  normal\; font-variant-east-asian: normal\; vertical-align: baseline\;"><s
 pan style="font-weight: bolder\;">APTO +18 AÑOS</span></span></p><p dir="
 ltr" style="margin: 0pt 0px\; font-family: Abel\, sans-serif\; text-align:
  center\; text-size-adjust: 100%\; color: rgb(51\, 51\, 51)\; font-size: 1
 4px\; line-height: 1.38\;"><br></p><p dir="ltr" style="margin: 0pt 0px\; t
 ext-align: center\; text-size-adjust: 100%\; line-height: 1.38\;"><font co
 lor="#222222" face="Arial"><span style="font-size: 14.6667px\;"><span styl
 e="font-weight: bolder\;"><br></span></span></font></p><p dir="ltr" style=
 "margin: 0pt 0px\; text-align: center\; line-height: 1.38\;"><font face="A
 bel\, sans-serif" color="#9c9c94"><span style="font-size: 12px\;">PROMO BA
 NCO PROVINCIA CONDICIONES:&nbsp\;<a href="https://tr.ee/89uSGj" target="_b
 lank">https://tr.ee/89uSGj</a></span></font></p><p dir="ltr" style="margin
 : 0pt 0px\; text-align: center\; line-height: 1.38\;"><br></p>
END:VEVENT
END:VCALENDAR
