BEGIN:VCALENDAR
VERSION:2.0
PRODID:-//My Calendar//mxm.dk//
BEGIN:VEVENT
SUMMARY:MARTIN MASIELLO EN TRES ARROYOS
DTSTART:20260823T000000Z
DTEND:20260823T025500Z
DTSTAMP:20260424T124330Z
DESCRIPTION:<p dir="ltr" style="margin: 0pt 0px\; text-align: center\; tex
 t-size-adjust: 100%\; line-height: 1.656\;"><font color="#201f1e" face="Ar
 ial"><span style="font-size: 24px\; caret-color: rgb(32\, 31\, 30)\;"><b><
 u>MARTIN MASIELLO</u></b></span></font></p><p dir="ltr" style="margin: 0pt
  0px\; text-align: center\; text-size-adjust: 100%\; line-height: 1.656\;"
 ><font color="#201f1e" face="Arial"><span style="font-size: 15.3333px\; ca
 ret-color: rgb(32\, 31\, 30)\;"><u><span style="font-weight: bolder\; font
 -size: 24px\;">EN TRES ARROYOS</span></u></span></font></p><p dir="ltr" st
 yle="margin: 0pt 0px\; font-family: Abel\, sans-serif\; text-align: center
 \; text-size-adjust: 100%\; line-height: 1.656\;"><br></p><p dir="ltr" sty
 le="margin: 0pt 0px\; text-align: center\; text-size-adjust: 100%\; line-h
 eight: 1.656\;"><font face="Abel\, sans-serif"><br></font></p><div style="
 font-family: Abel\, sans-serif\; text-align: center\; text-size-adjust: 10
 0%\; color: rgb(51\, 51\, 51)\; font-size: 14px\;"><div style="font-size: 
 14.6667px\;"><font color="#222222" face="Arial"><span style="font-weight: 
 700\;"><u></u></span></font></div></div><div style="text-align: center\; t
 ext-size-adjust: 100%\; font-family: Arial\, Helvetica\, sans-serif\; font
 -size: small\; color: rgb(33\, 33\, 33)\;"><p dir="ltr" style="margin: 0pt
  0px\; color: rgb(51\, 51\, 51)\; font-family: Abel\, sans-serif\; font-si
 ze: 14px\; line-height: 1.656\;"><span style="font-size: 11.5pt\; font-fam
 ily: Arial\; color: rgb(32\, 31\, 30)\; font-variant-numeric: normal\; fon
 t-variant-east-asian: normal\; vertical-align: baseline\;">Entradas en efe
 ctivo en Boleteria del Teatro</span></p></div><div style="text-align: cent
 er\; text-size-adjust: 100%\; font-family: Arial\, Helvetica\, sans-serif\
 ; font-size: small\; color: rgb(33\, 33\, 33)\;"><i><br><div style="text-s
 ize-adjust: 100%\;"><br></div></i></div><p dir="ltr" style="margin: 0pt 0p
 x\; font-family: Abel\, sans-serif\; text-align: center\; text-size-adjust
 : 100%\; color: rgb(51\, 51\, 51)\; font-size: 14px\; line-height: 1.656\;
 "><span style="font-size: 11.5pt\; font-family: Arial\; color: rgb(32\, 31
 \, 30)\; font-variant-numeric: normal\; font-variant-east-asian: normal\; 
 vertical-align: baseline\;"></span></p><div style="text-align: center\; te
 xt-size-adjust: 100%\; font-family: Arial\, Helvetica\, sans-serif\; font-
 size: small\; color: rgb(33\, 33\, 33)\;"><a href="http://www.articket.com
 .ar/" style="color: rgb(51\, 122\, 183)\; font-family: Abel\, sans-serif\;
  font-size: 14px\;"><span style="font-size: 11.5pt\; font-family: Arial\; 
 color: rgb(17\, 85\, 204)\; font-variant-numeric: normal\; font-variant-ea
 st-asian: normal\; text-decoration-line: underline\; text-decoration-skip-
 ink: none\; vertical-align: baseline\;">www.articket.com.ar</span></a><br>
 <br><br><span style="color: rgb(34\, 34\, 34)\; font-family: Arial\; font-
 size: 14.6667px\; font-weight: 700\;">SHOW APTO TODO PUBLICO</span></div><
 div style="text-align: center\; text-size-adjust: 100%\; font-family: Aria
 l\, Helvetica\, sans-serif\; font-size: small\; color: rgb(33\, 33\, 33)\;
 "><span style="color: rgb(34\, 34\, 34)\; font-family: Arial\; font-size: 
 14.6667px\; font-weight: 700\;"><br></span></div><div style="text-align: c
 enter\; text-size-adjust: 100%\; font-family: Arial\, Helvetica\, sans-ser
 if\; font-size: small\; color: rgb(33\, 33\, 33)\;"><br></div><div style="
 text-align: center\; text-size-adjust: 100%\; font-family: Arial\, Helveti
 ca\, sans-serif\; font-size: small\; color: rgb(33\, 33\, 33)\;"><p dir="l
 tr" style="margin: 0pt 0px\; line-height: 1.38\;"><font face="Abel\, sans-
 serif" color="#9c9c94"><span style="font-size: 12px\;">PROMO BANCO PROVINC
 IA CONDICIONES:&nbsp\;<a href="https://tr.ee/89uSGj" target="_blank">https
 ://tr.ee/89uSGj</a></span></font></p></div>
END:VEVENT
END:VCALENDAR
