BEGIN:VCALENDAR
VERSION:2.0
PRODID:-//My Calendar//mxm.dk//
BEGIN:VEVENT
SUMMARY:EL EXPLORADOR EN BOLIVAR
DTSTART:20260510T200000Z
DTEND:20260510T220000Z
DTSTAMP:20260424T124612Z
DESCRIPTION:<div style="text-align: center\;"><font color="#000000" face="
 Arial"><span style="font-size: 24px\; white-space-collapse: preserve\;"><s
 pan style="font-weight: bolder\;"><u>EL EXPLORADOR</u></span></span></font
 ></div><div style="text-align: center\;"><font color="#000000" face="Arial
 "><span style="font-size: 24px\; white-space-collapse: preserve\;"><span s
 tyle="font-weight: bolder\;"><u>EN BOLIVAR</u></span></span></font></div><
 div style="text-align: center\;"><font face="Arial"><font color="#000000" 
 style="font-family: &quot\;Times New Roman&quot\;\; font-size: 15.3333px\;
  white-space-collapse: preserve\;">\n\nEntradas Anticipadas en efectivo:\n
 \n</font></font></div><div style="text-align: center\;"><p dir="ltr" style
 ="margin: 0pt 0px\; font-family: Abel\, sans-serif\; color: rgb(51\, 51\, 
 51)\; font-size: 14px\; line-height: 1.656\;"><span style="font-size: 11.5
 pt\; font-family: Arial\; color: rgb(32\, 31\, 30)\; font-variant-numeric:
  normal\; font-variant-east-asian: normal\; vertical-align: baseline\;"></
 span></p><p dir="ltr" style="margin: 0pt 0px\; line-height: 1.656\;"><span
  style="color: rgb(32\, 31\, 30)\; font-family: Arial\; font-size: 11.5pt\
 ; caret-color: rgb(51\, 51\, 51)\; font-variant-numeric: normal\; font-var
 iant-east-asian: normal\; vertical-align: baseline\;"><span style="font-we
 ight: bolder\;">PC Cell:&nbsp\;</span></span><font color="#201f1e" face="A
 rial"><span style="font-size: 15.3333px\; caret-color: rgb(51\, 51\, 51)\;
 ">Calle Olavarría Nro112<span style="font-weight: bolder\;">&nbsp\;</span
 ></span></font><span style="color: rgb(32\, 31\, 30)\; font-family: Arial\
 ; font-size: 11.5pt\; caret-color: rgb(51\, 51\, 51)\;">&nbsp\;-&nbsp\;</s
 pan><span style="font-weight: bolder\; color: rgb(32\, 31\, 30)\; font-fam
 ily: Arial\; font-size: 11.5pt\; caret-color: rgb(51\, 51\, 51)\;">Bolivar
 </span></p><div><span style="font-weight: bolder\; color: rgb(32\, 31\, 30
 )\; font-family: Arial\; font-size: 11.5pt\; caret-color: rgb(51\, 51\, 51
 )\;"><br></span></div><div style="font-family: Arial\, Helvetica\, sans-se
 rif\; color: rgb(33\, 33\, 33)\; font-size: small\;"><a href="http://www.a
 rticket.com.ar/" style="color: rgb(51\, 122\, 183)\; font-family: Abel\, s
 ans-serif\; font-size: 14px\;"><span style="font-size: 11.5pt\; font-famil
 y: Arial\; color: rgb(17\, 85\, 204)\; font-variant-numeric: normal\; font
 -variant-east-asian: normal\; text-decoration-line: underline\; text-decor
 ation-skip-ink: none\; vertical-align: baseline\; white-space-collapse: pr
 eserve\;">www.articket.com.ar</span></a></div><div style="font-family: Ari
 al\, Helvetica\, sans-serif\; color: rgb(33\, 33\, 33)\; font-size: small\
 ;"><br></div><div><br style="color: rgb(51\, 51\, 51)\; font-size: 14px\;"
 ><p dir="ltr" style="margin: 0pt 0px\; font-family: Abel\, sans-serif\; co
 lor: rgb(51\, 51\, 51)\; font-size: 14px\; line-height: 1.38\;"><span styl
 e="font-variant-numeric: normal\; font-variant-east-asian: normal\; vertic
 al-align: baseline\;"><font color="#222222" face="Arial"><span style="font
 -size: 11pt\; white-space-collapse: preserve\;"><span style="font-weight: 
 bolder\;">EVENTO  APTO TODO PUBLICO</span></span></font></span></p><p dir=
 "ltr" style="margin: 0pt 0px\; font-family: Abel\, sans-serif\; color: rgb
 (51\, 51\, 51)\; font-size: 14px\; line-height: 1.38\;"><span style="font-
 variant-numeric: normal\; font-variant-east-asian: normal\; vertical-align
 : baseline\;"><font color="#222222" face="Arial"><span style="font-size: 1
 1pt\; white-space-collapse: preserve\;"><span style="font-weight: bolder\;
 "><br></span></span></font></span></p><p dir="ltr" style="margin: 0pt 0px\
 ; font-family: Abel\, sans-serif\; color: rgb(51\, 51\, 51)\; font-size: 1
 4px\; line-height: 1.38\;"><span style="font-variant-numeric: normal\; fon
 t-variant-east-asian: normal\; vertical-align: baseline\;"><span style="co
 lor: rgb(156\, 156\, 148)\; font-size: 12px\;">PROMO BANCO PROVINCIA CONDI
 CIONES:&nbsp\;</span><a href="https://tr.ee/89uSGj" target="_blank" style=
 "background-color: rgb(255\, 255\, 255)\; font-size: 12px\;">https://tr.ee
 /89uSGj</a></span></p></div></div>
END:VEVENT
END:VCALENDAR
