BEGIN:VCALENDAR
VERSION:2.0
PRODID:-//My Calendar//mxm.dk//
BEGIN:VEVENT
SUMMARY:TOQUE DE QUEDA - EL MARQUESADO - CROMATISMOS EN MAR DEL PLATA
DTSTART:20260509T230000Z
DTEND:20260510T030000Z
DTSTAMP:20260424T124519Z
DESCRIPTION:<p dir="ltr" style="margin: 0pt 0px\; font-family: Abel\, sans
 -serif\; text-align: center\; text-size-adjust: 100%\; line-height: 1.656\
 ;"><span style="font-family: -apple-system\, BlinkMacSystemFont\, &quot\;S
 egoe UI&quot\;\, Roboto\, &quot\;Helvetica Neue&quot\;\, Arial\, &quot\;No
 to Sans&quot\;\, sans-serif\, &quot\;Apple Color Emoji&quot\;\, &quot\;Seg
 oe UI Emoji&quot\;\, &quot\;Segoe UI Symbol&quot\;\, &quot\;Noto Color Emo
 ji&quot\;\; text-align: left\;"><b><u><span style="font-size: 24px\;">TOQU
 E DE QUEDA - EL MARQUESADO - CROMATISMOS EN MAR DEL PLATA</span></u></b><b
 r><br></span></p><p dir="ltr" style="margin: 0pt 0px\; font-family: Abel\,
  sans-serif\; text-align: center\; text-size-adjust: 100%\; color: rgb(51\
 , 51\, 51)\; font-size: 14px\; line-height: 1.656\;"><font color="#201f1e"
  face="Arial"><span style="font-size: 15.3333px\;"><u style="font-weight: 
 700\;"></u></span></font></p><p dir="ltr" style="margin: 0pt 0px\; font-fa
 mily: Abel\, sans-serif\; text-align: center\; color: rgb(51\, 51\, 51)\; 
 font-size: 14px\; line-height: 1.656\;"><span style="font-size: 11.5pt\; f
 ont-family: Arial\; color: rgb(32\, 31\, 30)\; background-color: transpare
 nt\; font-variant-numeric: normal\; font-variant-east-asian: normal\; vert
 ical-align: baseline\; white-space-collapse: preserve\;">Entradas anticipa
 das limitadas en efectivo:</span></p><p dir="ltr" style="margin: 0pt 0px\;
  font-family: Abel\, sans-serif\; text-align: center\; color: rgb(51\, 51\
 , 51)\; font-size: 14px\; line-height: 1.656\;"><span style="font-size: 11
 pt\; font-family: Arial\; color: rgb(34\, 34\, 34)\; background-color: tra
 nsparent\; font-variant-numeric: normal\; font-variant-east-asian: normal\
 ; vertical-align: baseline\; white-space-collapse: preserve\;">&nbsp\;</sp
 an></p><p dir="ltr" style="margin: 0pt 0px\; font-family: Abel\, sans-seri
 f\; text-align: center\; color: rgb(51\, 51\, 51)\; font-size: 14px\; line
 -height: 1.656\;"><span style="font-size: 11.5pt\; font-family: Arial\; co
 lor: rgb(32\, 31\, 30)\; background-color: transparent\; font-weight: 700\
 ; font-variant-numeric: normal\; font-variant-east-asian: normal\; vertica
 l-align: baseline\; white-space-collapse: preserve\;">La Casa de las Guita
 rras:</span><span style="font-size: 11.5pt\; font-family: Arial\; color: r
 gb(32\, 31\, 30)\; background-color: transparent\; font-variant-numeric: n
 ormal\; font-variant-east-asian: normal\; vertical-align: baseline\; white
 -space-collapse: preserve\;"> Belgrano 3420 - Mar del Plata</span></p><p d
 ir="ltr" style="margin: 0pt 0px\; font-family: Abel\, sans-serif\; text-al
 ign: center\; color: rgb(51\, 51\, 51)\; font-size: 14px\; line-height: 1.
 656\;"><span style="font-size: 11.5pt\; font-family: Arial\; color: rgb(32
 \, 31\, 30)\; background-color: transparent\; font-variant-numeric: normal
 \; font-variant-east-asian: normal\; vertical-align: baseline\; white-spac
 e-collapse: preserve\;"><span style="font-weight: bolder\;">FAVA Casa Cent
 ral:</span></span><span style="font-size: 11.5pt\; font-family: Arial\; co
 lor: rgb(32\, 31\, 30)\; background-color: transparent\; font-weight: 700\
 ; font-variant-numeric: normal\; font-variant-east-asian: normal\; vertica
 l-align: baseline\; white-space-collapse: preserve\;"> </span><span style=
 "font-size: 11.5pt\; font-family: Arial\; color: rgb(32\, 31\, 30)\; backg
 round-color: transparent\; font-variant-numeric: normal\; font-variant-eas
 t-asian: normal\; vertical-align: baseline\; white-space-collapse: preserv
 e\;">Av. Pedro Luro 3247 - Mar del Plata</span></p><p dir="ltr" style="mar
 gin: 0pt 0px\; font-family: Abel\, sans-serif\; text-align: center\; color
 : rgb(51\, 51\, 51)\; font-size: 14px\; line-height: 1.656\;"><span style=
 "background-color: transparent\; color: rgb(34\, 34\, 34)\; font-family: A
 rial\; font-size: 11pt\; white-space-collapse: preserve\;">&nbsp\;</span><
 /p><p dir="ltr" style="margin: 0pt 0px\; font-family: Abel\, sans-serif\; 
 text-align: center\; color: rgb(51\, 51\, 51)\; font-size: 14px\; line-hei
 ght: 1.38\;"><a href="http://www.articket.com.ar/" target="_blank">www.art
 icket.com.ar</a><a href="http://www.articket.com.ar/" style="color: rgb(51
 \, 122\, 183)\;"><span style="font-size: 11.5pt\; font-family: Arial\; col
 or: rgb(17\, 85\, 204)\; font-variant-numeric: normal\; font-variant-east-
 asian: normal\; text-decoration-line: underline\; text-decoration-skip-ink
 : none\; vertical-align: baseline\; white-space-collapse: preserve\;"></sp
 an></a></p><p dir="ltr" style="margin: 0pt 0px\; font-family: Abel\, sans-
 serif\; text-align: center\; color: rgb(51\, 51\, 51)\; font-size: 14px\; 
 line-height: 1.38\;"><a href="http://www.articket.com.ar/" style="color: r
 gb(51\, 122\, 183)\;"><span style="font-size: 11.5pt\; font-family: Arial\
 ; color: rgb(17\, 85\, 204)\; font-variant-numeric: normal\; font-variant-
 east-asian: normal\; text-decoration-line: underline\; text-decoration-ski
 p-ink: none\; vertical-align: baseline\; white-space-collapse: preserve\;"
 ><br></span></a></p><p dir="ltr" style="margin: 0pt 0px\; text-align: cent
 er\; line-height: 1.656\;"><span style="color: rgb(34\, 34\, 34)\; font-fa
 mily: Arial\; font-size: 14.6667px\; font-weight: 700\; caret-color: rgb(3
 4\, 34\, 34)\; white-space: pre-wrap\;">APTO TODO PUBLICO</span></p><p dir
 ="ltr" style="margin: 0pt 0px\; font-family: Abel\, sans-serif\; text-alig
 n: center\; color: rgb(51\, 51\, 51)\; font-size: 14px\; line-height: 1.38
 \;"><br></p><p dir="ltr" style="margin: 0pt 0px\; font-family: Abel\, sans
 -serif\; text-align: center\; color: rgb(51\, 51\, 51)\; font-size: 14px\;
  line-height: 1.38\;"><br></p><p dir="ltr" style="margin: 0pt 0px\; text-a
 lign: center\; line-height: 1.38\;"><font face="Abel\, sans-serif" color="
 #9c9c94"><span style="font-size: 12px\;">PROMO BANCO PROVINCIA CONDICIONES
 :&nbsp\;<a href="https://tr.ee/89uSGj" target="_blank">https://tr.ee/89uSG
 j</a></span></font></p>
END:VEVENT
END:VCALENDAR
