BEGIN:VCALENDAR
VERSION:2.0
PRODID:-//My Calendar//mxm.dk//
BEGIN:VEVENT
SUMMARY:KEVIN JOHANSEN Y LINIERS EN TRES ARROYOS
DTSTART:20260710T000000Z
DTEND:20260710T025500Z
DTSTAMP:20260424T035322Z
DESCRIPTION:<p dir="ltr" style="margin: 0pt 0px\; text-align: center\; tex
 t-size-adjust: 100%\; line-height: 1.656\;"><font color="#201f1e" face="Ar
 ial"><span style="font-size: 24px\; caret-color: rgb(32\, 31\, 30)\;"><b><
 u>KEVIN JOHANSEN Y LINIERS</u></b></span></font></p><p dir="ltr" style="ma
 rgin: 0pt 0px\; text-align: center\; text-size-adjust: 100%\; line-height:
  1.656\;"><font color="#201f1e" face="Arial"><span style="font-size: 15.33
 33px\; caret-color: rgb(32\, 31\, 30)\;"><u><span style="font-weight: bold
 er\; font-size: 24px\;">EN TRES ARROYOS</span></u></span></font></p><p dir
 ="ltr" style="margin: 0pt 0px\; font-family: Abel\, sans-serif\; text-alig
 n: center\; text-size-adjust: 100%\; line-height: 1.656\;"><br></p><p dir=
 "ltr" style="margin: 0pt 0px\; text-align: center\; text-size-adjust: 100%
 \; line-height: 1.656\;"><font face="Abel\, sans-serif"><br></font></p><di
 v style="font-family: Abel\, sans-serif\; text-align: center\; text-size-a
 djust: 100%\; color: rgb(51\, 51\, 51)\; font-size: 14px\;"><div style="fo
 nt-size: 14.6667px\;"><font color="#222222" face="Arial"><span style="font
 -weight: 700\;"><u></u></span></font></div></div><div style="text-align: c
 enter\; text-size-adjust: 100%\; font-family: Arial\, Helvetica\, sans-ser
 if\; font-size: small\; color: rgb(33\, 33\, 33)\;"><p dir="ltr" style="ma
 rgin: 0pt 0px\; color: rgb(51\, 51\, 51)\; font-family: Abel\, sans-serif\
 ; font-size: 14px\; line-height: 1.656\;"><span style="font-size: 11.5pt\;
  font-family: Arial\; color: rgb(32\, 31\, 30)\; font-variant-numeric: nor
 mal\; font-variant-east-asian: normal\; vertical-align: baseline\;">Entrad
 as en efectivo en Boleteria del Teatro</span></p></div><div style="text-al
 ign: center\; text-size-adjust: 100%\; font-family: Arial\, Helvetica\, sa
 ns-serif\; font-size: small\; color: rgb(33\, 33\, 33)\;"><i><br><div styl
 e="text-size-adjust: 100%\;"><br></div></i></div><p dir="ltr" style="margi
 n: 0pt 0px\; font-family: Abel\, sans-serif\; text-align: center\; text-si
 ze-adjust: 100%\; color: rgb(51\, 51\, 51)\; font-size: 14px\; line-height
 : 1.656\;"><span style="font-size: 11.5pt\; font-family: Arial\; color: rg
 b(32\, 31\, 30)\; font-variant-numeric: normal\; font-variant-east-asian: 
 normal\; vertical-align: baseline\;"></span></p><div style="text-align: ce
 nter\; text-size-adjust: 100%\; font-family: Arial\, Helvetica\, sans-seri
 f\; font-size: small\; color: rgb(33\, 33\, 33)\;"><a href="http://www.art
 icket.com.ar/" style="color: rgb(51\, 122\, 183)\; font-family: Abel\, san
 s-serif\; font-size: 14px\;"><span style="font-size: 11.5pt\; font-family:
  Arial\; color: rgb(17\, 85\, 204)\; font-variant-numeric: normal\; font-v
 ariant-east-asian: normal\; text-decoration-line: underline\; text-decorat
 ion-skip-ink: none\; vertical-align: baseline\;">www.articket.com.ar</span
 ></a><br><br><br><span style="color: rgb(34\, 34\, 34)\; font-family: Aria
 l\; font-size: 14.6667px\; font-weight: 700\;">SHOW APTO TODO PUBLICO</spa
 n></div><div style="text-align: center\; text-size-adjust: 100%\; font-fam
 ily: Arial\, Helvetica\, sans-serif\; font-size: small\; color: rgb(33\, 3
 3\, 33)\;"><span style="color: rgb(34\, 34\, 34)\; font-family: Arial\; fo
 nt-size: 14.6667px\; font-weight: 700\;"><br></span></div><div style="text
 -align: center\; text-size-adjust: 100%\; font-family: Arial\, Helvetica\,
  sans-serif\; font-size: small\; color: rgb(33\, 33\, 33)\;"><span style="
 color: rgb(34\, 34\, 34)\; font-family: Arial\; font-size: 14.6667px\; fon
 t-weight: 700\;">---</span></div><div style="text-align: center\; text-siz
 e-adjust: 100%\; font-family: Arial\, Helvetica\, sans-serif\; font-size: 
 small\; color: rgb(33\, 33\, 33)\;"><span style="color: rgb(34\, 34\, 34)\
 ; font-family: Arial\; font-size: 14.6667px\; font-weight: 700\;"><br></sp
 an></div><div style="text-align: center\; text-size-adjust: 100%\;"><div s
 tyle="color: rgb(33\, 33\, 33)\; font-family: Arial\, Helvetica\, sans-ser
 if\; font-size: small\; font-weight: 700\; text-size-adjust: 100%\;">KEVIN
  JOHANSEN + LINIERS</div><div style="color: rgb(33\, 33\, 33)\; font-famil
 y: Arial\, Helvetica\, sans-serif\; font-size: small\; font-weight: 700\; 
 text-size-adjust: 100%\;">LLEGAN A TRES ARROYOS</div><div style="color: rg
 b(33\, 33\, 33)\; font-family: Arial\, Helvetica\, sans-serif\; font-size:
  small\; font-weight: 700\; text-size-adjust: 100%\;">CON NUEVO ÁLBUM Y N
 UEVO LIBRO</div><div style="color: rgb(33\, 33\, 33)\; font-family: Arial\
 , Helvetica\, sans-serif\; font-size: small\; font-weight: 700\; text-size
 -adjust: 100%\;">PARA EL CIERRE DE SU HISTÓRICA GIRA</div><div style="col
 or: rgb(33\, 33\, 33)\; font-family: Arial\, Helvetica\, sans-serif\; font
 -size: small\; font-weight: 700\; text-size-adjust: 100%\;"><br></div><div
  style="text-size-adjust: 100%\;"><div style="text-size-adjust: 100%\;"><f
 ont color="#212121" face="Arial\, Helvetica\, sans-serif" size="2"><b>Lueg
 o del reencuentro del 2023 y antes de finalizar su histórica gira\,</b></
 font></div><div style="text-size-adjust: 100%\;"><font color="#212121" fac
 e="Arial\, Helvetica\, sans-serif" size="2"><b>Kevin Johansen y Liniers ll
 egan por primera vez a Tres Arroyos para</b></font></div><div style="text-
 size-adjust: 100%\;"><font color="#212121" face="Arial\, Helvetica\, sans-
 serif" size="2"><b>celebrar más de 17 años de su espectáculo conjunto d
 e música y</b></font></div><div style="text-size-adjust: 100%\;"><font co
 lor="#212121" face="Arial\, Helvetica\, sans-serif" size="2"><b>dibujos en
  vivo\, y presentando un nuevo álbum en vivo “Desde que te</b></font></
 div><div style="text-size-adjust: 100%\;"><font color="#212121" face="Aria
 l\, Helvetica\, sans-serif" size="2"><b>Madrid” y su nuevo libro “Es n
 uestra forma de comunicarnos”.</b></font></div><div style="text-size-adj
 ust: 100%\;"><font color="#212121" face="Arial\, Helvetica\, sans-serif" s
 ize="2"><b><br></b></font></div><div style="text-size-adjust: 100%\;"><fon
 t color="#212121" face="Arial\, Helvetica\, sans-serif" size="2"><b>*</b><
 /font></div><div style="text-size-adjust: 100%\;"><font color="#212121" fa
 ce="Arial\, Helvetica\, sans-serif" size="2"><b><br></b></font></div><div 
 style="text-size-adjust: 100%\;"><font color="#212121" face="Arial\, Helve
 tica\, sans-serif" size="2"><b>Su original y único show de música y dibu
 jos en vivo\, este espectáculo</b></font></div><div style="text-size-adju
 st: 100%\;"><font color="#212121" face="Arial\, Helvetica\, sans-serif" si
 ze="2"><b>especial reconocido por el público y por la crítica\, esa mezc
 la artística</b></font></div><div style="text-size-adjust: 100%\;"><font 
 color="#212121" face="Arial\, Helvetica\, sans-serif" size="2"><b>fabulosa
  en vivo que une a Kevin Johansen junto al reconocido</b></font></div><div
  style="text-size-adjust: 100%\;"><font color="#212121" face="Arial\, Helv
 etica\, sans-serif" size="2"><b>dibujante Liniers\, viene celebrando los m
 ás de 16 años de existencia</b></font></div><div style="text-size-adjust
 : 100%\;"><b style="color: rgb(33\, 33\, 33)\; font-family: Arial\, Helvet
 ica\, sans-serif\; font-size: small\;">con una enorme e infinita gira que 
 comenzó en 2023 y que (dicen)</b></div><div style="text-size-adjust: 100%
 \;"><font color="#212121" face="Arial\, Helvetica\, sans-serif" size="2"><
 b>finalizará este año\, luego de haberlos llevado por varios continentes
  y</b></font></div><div style="text-size-adjust: 100%\;"><font color="#212
 121" face="Arial\, Helvetica\, sans-serif" size="2"><b>ciudades\, adonde l
 os esperan felices para presenciar ese espectáculo</b></font></div><div s
 tyle="text-size-adjust: 100%\;"><font color="#212121" face="Arial\, Helvet
 ica\, sans-serif" size="2"><b>lleno de canciones\, dibujos\, amistad y muc
 ho humor\, que nadie se</b></font></div><div style="text-size-adjust: 100%
 \;"><font color="#212121" face="Arial\, Helvetica\, sans-serif" size="2"><
 b>quiere perder\, una experiencia única que todos quieren presenciar al</
 b></font></div><div style="text-size-adjust: 100%\;"><font color="#212121"
  face="Arial\, Helvetica\, sans-serif" size="2"><b>menos una vez en la vid
 a. Tres Arroyos será parte del tramo final del&nbsp\;</b></font><b style=
 "color: rgb(33\, 33\, 33)\; font-family: Arial\, Helvetica\, sans-serif\; 
 font-size: small\;">tour.</b></div><div style="text-size-adjust: 100%\;"><
 font color="#212121" face="Arial\, Helvetica\, sans-serif" size="2"><b><br
 ></b></font></div><div style="text-size-adjust: 100%\;"><font color="#2121
 21" face="Arial\, Helvetica\, sans-serif" size="2"><b>En el show\, Kevin J
 ohansen ofrece un recorrido por las canciones más</b></font></div><div st
 yle="text-size-adjust: 100%\;"><font color="#212121" face="Arial\, Helveti
 ca\, sans-serif" size="2"><b>reconocidas de su discografía\, mientras Lin
 iers las improvisa\, ilustra y</b></font></div><div style="text-size-adjus
 t: 100%\;"><font color="#212121" face="Arial\, Helvetica\, sans-serif" siz
 e="2"><b>recrea en dibujos en tiempo real sobre una pantalla colocada como
 </b></font></div><div style="text-size-adjust: 100%\;"><font color="#21212
 1" face="Arial\, Helvetica\, sans-serif" size="2"><b>fondo del escenario. 
 Arte\, música\, amistad y humor inteligente se unen</b></font></div><div 
 style="text-size-adjust: 100%\;"><font color="#212121" face="Arial\, Helve
 tica\, sans-serif" size="2"><b>y conjugan en el escenario. Un pequeño mun
 do de música e</b></font></div><div style="text-size-adjust: 100%\;"><fon
 t color="#212121" face="Arial\, Helvetica\, sans-serif" size="2"><b>ilustr
 aciones envolverá al espectador en la aventura que proponen los</b></font
 ></div><div style="text-size-adjust: 100%\;"><font color="#212121" face="A
 rial\, Helvetica\, sans-serif" size="2"><b>dos grandes artistas y amigos. 
 Un libro en vivo o un concierto</b></font></div><div style="text-size-adju
 st: 100%\;"><font color="#212121" face="Arial\, Helvetica\, sans-serif" si
 ze="2"><b>ilustrado: una oportunidad única para apreciar y disfrutar de e
 ste</b></font></div><div style="text-size-adjust: 100%\;"><b style="color:
  rgb(33\, 33\, 33)\; font-family: Arial\, Helvetica\, sans-serif\; font-si
 ze: small\;">consumado dúo y su arte.</b></div><div style="text-size-adju
 st: 100%\;"><font color="#212121" face="Arial\, Helvetica\, sans-serif" si
 ze="2"><b><br></b></font></div><div style="text-size-adjust: 100%\;"><font
  color="#212121" face="Arial\, Helvetica\, sans-serif" size="2"><b>Durante
  los últimos 16 años\, el show viajó desde América Latina hasta</b></f
 ont></div><div style="text-size-adjust: 100%\;"><font color="#212121" face
 ="Arial\, Helvetica\, sans-serif" size="2"><b>Europa\, y se ha presentado 
 en las salas\, teatros\, eventos culturales y</b></font></div><div style="
 text-size-adjust: 100%\;"><font color="#212121" face="Arial\, Helvetica\, 
 sans-serif" size="2"><b>ferias de libro más importantes. El público lo r
 ecibió con gran</b></font></div><div style="text-size-adjust: 100%\;"><fo
 nt color="#212121" face="Arial\, Helvetica\, sans-serif" size="2"><b>entus
 iasmo y muchas veces con entradas agotadas\, adoptándolo como</b></font><
 /div><div style="text-size-adjust: 100%\;"><font color="#212121" face="Ari
 al\, Helvetica\, sans-serif" size="2"><b>un nuevo “clásico”\, del que
  se registraron dos dvds en vivo en Buenos</b></font></div><div style="tex
 t-size-adjust: 100%\;"><font color="#212121" face="Arial\, Helvetica\, san
 s-serif" size="2"><b>Aires y en México (editados por Sony Music)\, y dos 
 libros (OOPS! y BIS)</b></font></div><div style="text-size-adjust: 100%\;"
 ><font color="#212121" face="Arial\, Helvetica\, sans-serif" size="2"><b>p
 ublicados por la prestigiosa Ediciones de la Flor. Luego de varios años</
 b></font></div><div style="text-size-adjust: 100%\;"><font color="#212121"
  face="Arial\, Helvetica\, sans-serif" size="2"><b>sin verlos juntos en el
  escenario\, 2023 fue el momento del esperado</b></font></div><div style="
 text-size-adjust: 100%\;"><font color="#212121" face="Arial\, Helvetica\, 
 sans-serif" size="2"><b>reencuentro y 2024\, el inicio de una nueva consag
 ración. En 2025\, la</b></font></div><div style="text-size-adjust: 100%\;
 "><font color="#212121" face="Arial\, Helvetica\, sans-serif" size="2"><b>
 fiesta continuó\, llegando a nuevas ciudades y territorios\, y con un</b>
 </font></div><div style="text-size-adjust: 100%\;"><font color="#212121" f
 ace="Arial\, Helvetica\, sans-serif" size="2"><b>nuevo álbum en vivo (Des
 de que te Madrid\, Sony Music) y un nuevo</b></font></div><div style="text
 -size-adjust: 100%\;"><font color="#212121" face="Arial\, Helvetica\, sans
 -serif" size="2"><b>libro (Es nuestra forma de comunicarnos\, Editorial Co
 mún). 2026 será</b></font></div><div style="text-size-adjust: 100%\;"><f
 ont color="#212121" face="Arial\, Helvetica\, sans-serif" size="2"><b>el a
 ño del cierre de reencuentro\, despidiéndose por un tiempo de un</b></fo
 nt></div><div style="text-size-adjust: 100%\;"><font color="#212121" face=
 "Arial\, Helvetica\, sans-serif" size="2"><b>público que disfruta cada ve
 z más de un show único.</b></font></div></div></div><div style="text-ali
 gn: center\; text-size-adjust: 100%\; font-family: Arial\, Helvetica\, san
 s-serif\; font-size: small\; color: rgb(33\, 33\, 33)\;"><span style="colo
 r: rgb(34\, 34\, 34)\; font-family: Arial\; font-size: 14.6667px\; font-we
 ight: 700\;"><br></span></div><div style="text-align: center\; text-size-a
 djust: 100%\; font-family: Arial\, Helvetica\, sans-serif\; font-size: sma
 ll\; color: rgb(33\, 33\, 33)\;"><br></div><div style="text-align: center\
 ; text-size-adjust: 100%\; font-family: Arial\, Helvetica\, sans-serif\; f
 ont-size: small\; color: rgb(33\, 33\, 33)\;"><p dir="ltr" style="margin: 
 0pt 0px\; line-height: 1.38\;"><font face="Abel\, sans-serif" color="#9c9c
 94"><span style="font-size: 12px\;">PROMO BANCO PROVINCIA CONDICIONES:&nbs
 p\;<a href="https://tr.ee/89uSGj" target="_blank">https://tr.ee/89uSGj</a>
 </span></font></p></div>
END:VEVENT
END:VCALENDAR
