BEGIN:VCALENDAR
VERSION:2.0
PRODID:-//My Calendar//mxm.dk//
BEGIN:VEVENT
SUMMARY:NEGRO JUAREZ EN WO
DTSTART:20260426T010000Z
DTEND:20260426T080000Z
DTSTAMP:20260422T140133Z
DESCRIPTION:<p style="text-align: center\;"><font color="#1f1f1f" face="Se
 goe UI"><span style="font-size: 24px\; font-variant-ligatures: no-contextu
 al\;"><span style="font-weight: bolder\;"><u>NEGRO JUAREZ EN WO</u></span>
 </span></font></p><p style="text-align: center\;"><font color="#1f1f1f" fa
 ce="Segoe UI"><span style="font-size: 24px\; font-variant-ligatures: no-co
 ntextual\;"><span style="font-weight: bolder\;"><u>NECOCHEA</u></span></sp
 an></font></p><p style="text-align: center\;"><font color="#1f1f1f" face="
 Segoe UI"><span style="font-size: 24px\; font-variant-ligatures: no-contex
 tual\;"><span style="font-weight: bolder\; font-size: 18px\;"><u>HERMANAND
 O TIERRAS</u></span></span></font></p><p style="text-align: center\;"><br>
 </p><p style="text-align: center\;">Entradas anticipadas limitadas en efec
 tivo:</p><p style="text-align: center\;">&nbsp\;ADN Store: Calle 61 N° 28
 13 - Necochea.</p><p style="text-align: center\;">www.articket.com.ar</p><
 p style="text-align: center\;"><br></p><p style="text-align: center\;"><sp
 an style="font-weight: bolder\;">APTO TODO PUBLICO</span></p><p style="tex
 t-align: center\;"><span style="font-weight: bolder\;"><br></span></p><p d
 ir="ltr" style="margin: 0pt 0px\; text-align: center\; line-height: 1.38\;
 "><font face="Abel\, sans-serif" color="#9c9c94"><span style="font-size: 1
 2px\;">PROMO BANCO PROVINCIA CONDICIONES:&nbsp\;<a href="https://tr.ee/89u
 SGj" target="_blank">https://tr.ee/89uSGj</a></span></font></p>
END:VEVENT
END:VCALENDAR
