BEGIN:VCALENDAR
VERSION:2.0
PRODID:-//My Calendar//mxm.dk//
BEGIN:VEVENT
SUMMARY:COLMADO EN WO 16-5
DTSTART:20260517T010000Z
DTEND:20260517T080000Z
DTSTAMP:20260422T140224Z
DESCRIPTION:<p style="text-align: center\;"><font color="#1f1f1f" face="Se
 goe UI"><span style="font-size: 24px\; font-variant-ligatures: no-contextu
 al\;"><span style="font-weight: bolder\;"><u>COLMADO EN WO</u></span></spa
 n></font></p><p style="text-align: center\;"><font color="#1f1f1f" face="S
 egoe UI"><span style="font-size: 24px\; font-variant-ligatures: no-context
 ual\;"><span style="font-weight: bolder\;"><u>NECOCHEA</u></span></span></
 font></p><p style="text-align: center\;"><font color="#1f1f1f" face="Segoe
  UI"><span style="font-size: 24px\; font-variant-ligatures: no-contextual\
 ;"><span style="font-weight: bolder\;"><u></u></span></span></font></p><p 
 style="text-align: center\;"><font color="#1f1f1f" face="Segoe UI"><span s
 tyle="font-size: 18px\; font-variant-ligatures: no-contextual\;"><b>Presen
 ta: Sobre este suelo.&nbsp\;</b></span></font></p><p style="text-align: ce
 nter\;"><font color="#1f1f1f" face="Segoe UI"><span style="font-size: 24px
 \; font-variant-ligatures: no-contextual\;"><span style="font-weight: bold
 er\;"><u><br></u></span></span></font></p><p style="text-align: center\;">
 Entradas anticipadas limitadas en efectivo:</p><p style="text-align: cente
 r\;">&nbsp\;ADN Store: Calle 61 N° 2813 - Necochea.</p><p style="text-ali
 gn: center\;">www.articket.com.ar</p><p style="text-align: center\;"><br><
 /p><p style="text-align: center\;"><span style="font-weight: bolder\;">APT
 O TODO PUBLICO</span></p><p style="text-align: center\;"><span style="font
 -weight: bolder\;"><br></span></p><p dir="ltr" style="margin: 0pt 0px\; te
 xt-align: center\; line-height: 1.38\;"><font face="Abel\, sans-serif" col
 or="#9c9c94"><span style="font-size: 12px\;">PROMO BANCO PROVINCIA CONDICI
 ONES:&nbsp\;<a href="https://tr.ee/89uSGj" target="_blank">https://tr.ee/8
 9uSGj</a></span></font></p>
END:VEVENT
END:VCALENDAR
