BEGIN:VCALENDAR
VERSION:2.0
PRODID:-//My Calendar//mxm.dk//
BEGIN:VEVENT
SUMMARY:FRANCHI - NICOTINA EN CCAVE
DTSTART:20260508T000000Z
DTEND:20260508T050000Z
DTSTAMP:20260424T124449Z
DESCRIPTION:<p dir="ltr" style="margin: 0pt 0px\; font-family: Abel\, sans
 -serif\; text-align: center\; text-size-adjust: 100%\; line-height: 1.656\
 ;"><div class="header" style="box-sizing: border-box\; display: flex\; col
 or: rgb(44\, 54\, 58)\; font-family: Roboto\, sans-serif\; font-size: 14px
 \; font-style: normal\; font-variant-ligatures: normal\; font-variant-caps
 : normal\; font-weight: 400\; letter-spacing: normal\; orphans: 2\; text-a
 lign: left\; text-indent: 0px\; text-transform: none\; widows: 2\; word-sp
 acing: 0px\; -webkit-text-stroke-width: 0px\; white-space: normal\; backgr
 ound-color: rgb(255\, 255\, 255)\; text-decoration-thickness: initial\; te
 xt-decoration-style: initial\; text-decoration-color: initial\;"></div></p
 ><h2 class="subject" style="font-weight: 700\; font-size: 1.5rem\; text-al
 ign: center\; color: rgb(44\, 54\, 58)\; font-family: Roboto\, sans-serif\
 ;"><u><span style="font-size: 36px\;">FRANCHI + NICOTINA en CCAVE</span><s
 pan style="font-size: 36px\;">&nbsp\;</span><a class="extwin hidden-small"
  title="Abrir en nueva ventana" data-hidden="small" id="rcmbtnfrm104" role
 ="button" href="https://linux58.webhosting-network-services.com:2096/cpses
 s3882026402/3rdparty/roundcube/?_task=mail&amp\;_action=show&amp\;_uid=143
 15&amp\;_mbox=INBOX" tabindex="0" aria-disabled="false" style="color: rgb(
 0\, 172\, 255)\; cursor: pointer\;"></a></u></h2><h2 class="subject" style
 ="text-align: center\; font-weight: 700\; font-size: 1.5rem\; color: rgb(4
 4\, 54\, 58)\; font-family: Roboto\, sans-serif\;"><p dir="ltr" style="mar
 gin: 0pt 0px\; color: rgb(33\, 37\, 41)\; font-family: -apple-system\, Bli
 nkMacSystemFont\, &quot\;Segoe UI&quot\;\, Roboto\, &quot\;Helvetica Neue&
 quot\;\, Arial\, &quot\;Noto Sans&quot\;\, sans-serif\, &quot\;Apple Color
  Emoji&quot\;\, &quot\;Segoe UI Emoji&quot\;\, &quot\;Segoe UI Symbol&quot
 \;\, &quot\;Noto Color Emoji&quot\;\; font-size: 16px\; font-weight: 400\;
  text-size-adjust: 100%\; line-height: 1.656\;"><span style="font-family: 
 Arial\; color: rgb(34\, 34\, 34)\; font-size: 14.6667px\; white-space: pre
 -wrap\;">El artista\, conocido en redes como el creador de "Esto es cine\,
  amigos"\, se presenta por primera vez en la ciudad con un show que mezcla
  de manera natural el humor de los videos con la música que formará part
 e de "Un mundo feliz"\, su próximo trabajo discográfico.\nAdemás de rec
 orrer lo mejor de su discografía\, el show sirve también de excusa para 
 encontrarse por primera vez con sus seguidores en la ciudad.\nAcompañado 
 por Natalia Pellegrinet y Soriano tercero\, el artista se presentará en M
 ar del Plata el jueves 7 de mayo en CCAVE (Colectivo cultural a la vuelta 
 de la esquina) ubicado en Alberti 3723 a las 21hs</span><span style="text-
 align: left\;"><br></span></p><div><br></div><p></p><p dir="ltr" style="ma
 rgin: 0pt 0px\; font-weight: 400\; font-family: Abel\, sans-serif\; text-s
 ize-adjust: 100%\; color: rgb(51\, 51\, 51)\; font-size: 14px\; line-heigh
 t: 1.656\;"><font color="#201f1e" face="Arial"><span style="font-size: 15.
 3333px\;"><u style="font-weight: 700\;"></u></span></font></p><p dir="ltr"
  style="margin: 0pt 0px\; font-weight: 400\; font-family: Abel\, sans-seri
 f\; color: rgb(51\, 51\, 51)\; font-size: 14px\; line-height: 1.656\;"><sp
 an style="font-size: 11.5pt\; font-family: Arial\; color: rgb(32\, 31\, 30
 )\; background-color: transparent\; font-variant-numeric: normal\; font-va
 riant-east-asian: normal\; vertical-align: baseline\; white-space-collapse
 : preserve\;">Entradas anticipadas limitadas en efectivo:</span></p><p dir
 ="ltr" style="margin: 0pt 0px\; font-weight: 400\; font-family: Abel\, san
 s-serif\; color: rgb(51\, 51\, 51)\; font-size: 14px\; line-height: 1.656\
 ;"><span style="font-size: 11pt\; font-family: Arial\; color: rgb(34\, 34\
 , 34)\; background-color: transparent\; font-variant-numeric: normal\; fon
 t-variant-east-asian: normal\; vertical-align: baseline\; white-space-coll
 apse: preserve\;">&nbsp\;</span></p><p dir="ltr" style="margin: 0pt 0px\; 
 font-weight: 400\; font-family: Abel\, sans-serif\; color: rgb(51\, 51\, 5
 1)\; font-size: 14px\; line-height: 1.656\;"><span style="font-size: 11.5p
 t\; font-family: Arial\; color: rgb(32\, 31\, 30)\; background-color: tran
 sparent\; font-weight: 700\; font-variant-numeric: normal\; font-variant-e
 ast-asian: normal\; vertical-align: baseline\; white-space-collapse: prese
 rve\;">La Casa de las Guitarras:</span><span style="font-size: 11.5pt\; fo
 nt-family: Arial\; color: rgb(32\, 31\, 30)\; background-color: transparen
 t\; font-variant-numeric: normal\; font-variant-east-asian: normal\; verti
 cal-align: baseline\; white-space-collapse: preserve\;"> Belgrano 3420 - M
 ar del Plata</span></p><p dir="ltr" style="margin: 0pt 0px\; font-weight: 
 400\; font-family: Abel\, sans-serif\; color: rgb(51\, 51\, 51)\; font-siz
 e: 14px\; line-height: 1.656\;"><span style="font-size: 11.5pt\; font-fami
 ly: Arial\; color: rgb(32\, 31\, 30)\; background-color: transparent\; fon
 t-variant-numeric: normal\; font-variant-east-asian: normal\; vertical-ali
 gn: baseline\; white-space-collapse: preserve\;"><span style="font-weight:
  bolder\;">FAVA Casa Central:</span></span><span style="font-size: 11.5pt\
 ; font-family: Arial\; color: rgb(32\, 31\, 30)\; background-color: transp
 arent\; font-weight: 700\; font-variant-numeric: normal\; font-variant-eas
 t-asian: normal\; vertical-align: baseline\; white-space-collapse: preserv
 e\;"> </span><span style="font-size: 11.5pt\; font-family: Arial\; color: 
 rgb(32\, 31\, 30)\; background-color: transparent\; font-variant-numeric: 
 normal\; font-variant-east-asian: normal\; vertical-align: baseline\; whit
 e-space-collapse: preserve\;">Av. Pedro Luro 3247 - Mar del Plata</span></
 p><p dir="ltr" style="margin: 0pt 0px\; font-weight: 400\; font-family: Ab
 el\, sans-serif\; color: rgb(51\, 51\, 51)\; font-size: 14px\; line-height
 : 1.656\;"><span style="background-color: transparent\; color: rgb(34\, 34
 \, 34)\; font-family: Arial\; font-size: 11pt\; white-space-collapse: pres
 erve\;">&nbsp\;</span></p><p dir="ltr" style="margin: 0pt 0px\; color: rgb
 (33\, 37\, 41)\; font-family: -apple-system\, BlinkMacSystemFont\, &quot\;
 Segoe UI&quot\;\, Roboto\, &quot\;Helvetica Neue&quot\;\, Arial\, &quot\;N
 oto Sans&quot\;\, sans-serif\, &quot\;Apple Color Emoji&quot\;\, &quot\;Se
 goe UI Emoji&quot\;\, &quot\;Segoe UI Symbol&quot\;\, &quot\;Noto Color Em
 oji&quot\;\; font-size: 16px\; font-weight: 400\; line-height: 1.656\;"><s
 pan style="background-color: transparent\;"><font color="#222222" face="Ar
 ial"><span style="font-size: 14.6667px\; white-space-collapse: preserve\;"
 ><br></span></font></span></p><p dir="ltr" style="margin: 0pt 0px\; font-w
 eight: 400\; font-family: Abel\, sans-serif\; color: rgb(51\, 51\, 51)\; f
 ont-size: 14px\; line-height: 1.38\;"><a href="http://www.articket.com.ar/
 " target="_blank">www.articket.com.ar</a><a href="http://www.articket.com.
 ar/" style="color: rgb(51\, 122\, 183)\;"><span style="font-size: 11.5pt\;
  font-family: Arial\; color: rgb(17\, 85\, 204)\; font-variant-numeric: no
 rmal\; font-variant-east-asian: normal\; text-decoration-line: underline\;
  text-decoration-skip-ink: none\; vertical-align: baseline\; white-space-c
 ollapse: preserve\;"></span></a></p><p dir="ltr" style="margin: 0pt 0px\; 
 font-weight: 400\; font-family: Abel\, sans-serif\; color: rgb(51\, 51\, 5
 1)\; font-size: 14px\; line-height: 1.38\;"><a href="http://www.articket.c
 om.ar/" style="color: rgb(51\, 122\, 183)\;"><span style="font-size: 11.5p
 t\; font-family: Arial\; color: rgb(17\, 85\, 204)\; font-variant-numeric:
  normal\; font-variant-east-asian: normal\; text-decoration-line: underlin
 e\; text-decoration-skip-ink: none\; vertical-align: baseline\; white-spac
 e-collapse: preserve\;"><br></span></a></p><p dir="ltr" style="margin: 0pt
  0px\; color: rgb(33\, 37\, 41)\; font-family: -apple-system\, BlinkMacSys
 temFont\, &quot\;Segoe UI&quot\;\, Roboto\, &quot\;Helvetica Neue&quot\;\,
  Arial\, &quot\;Noto Sans&quot\;\, sans-serif\, &quot\;Apple Color Emoji&q
 uot\;\, &quot\;Segoe UI Emoji&quot\;\, &quot\;Segoe UI Symbol&quot\;\, &qu
 ot\;Noto Color Emoji&quot\;\; font-size: 16px\; font-weight: 400\; line-he
 ight: 1.656\;"><span style="color: rgb(34\, 34\, 34)\; font-family: Arial\
 ; font-size: 14.6667px\; font-weight: 700\; caret-color: rgb(34\, 34\, 34)
 \; white-space: pre-wrap\;">APTO TODO PUBLICO</span></p><p dir="ltr" style
 ="margin: 0pt 0px\; font-weight: 400\; font-family: Abel\, sans-serif\; co
 lor: rgb(51\, 51\, 51)\; font-size: 14px\; line-height: 1.38\;"><br></p><p
  dir="ltr" style="margin: 0pt 0px\; font-weight: 400\; font-family: Abel\,
  sans-serif\; color: rgb(51\, 51\, 51)\; font-size: 14px\; line-height: 1.
 38\;"><br></p><p dir="ltr" style="margin: 0pt 0px\; color: rgb(33\, 37\, 4
 1)\; font-family: -apple-system\, BlinkMacSystemFont\, &quot\;Segoe UI&quo
 t\;\, Roboto\, &quot\;Helvetica Neue&quot\;\, Arial\, &quot\;Noto Sans&quo
 t\;\, sans-serif\, &quot\;Apple Color Emoji&quot\;\, &quot\;Segoe UI Emoji
 &quot\;\, &quot\;Segoe UI Symbol&quot\;\, &quot\;Noto Color Emoji&quot\;\;
  font-size: 16px\; font-weight: 400\; line-height: 1.38\;"><font face="Abe
 l\, sans-serif" color="#9c9c94"><span style="font-size: 12px\;">PROMO BANC
 O PROVINCIA CONDICIONES:&nbsp\;<a href="https://tr.ee/89uSGj" target="_bla
 nk">https://tr.ee/89uSGj</a></span></font></p></h2>
END:VEVENT
END:VCALENDAR
