BEGIN:VCALENDAR
VERSION:2.0
PRODID:-//My Calendar//mxm.dk//
BEGIN:VEVENT
SUMMARY:OVEJA NEGRA - JUAMPI GONZALEZ EN VORTERIX
DTSTART:20260912T000000Z
DTEND:20260912T050000Z
DTSTAMP:20260424T124612Z
DESCRIPTION:<p dir="ltr" style="margin: 0pt 0px\; text-align: center\; lin
 e-height: 1.656\;"><span style="font-size: 24px\;"><u style=""><b>OVEJA NE
 GRA - JUAMPI GONZALEZ</b></u></span></p><p dir="ltr" style="margin: 0pt 0p
 x\; text-align: center\; line-height: 1.656\;"><span style="text-align: le
 ft\; font-size: 24px\;"><u style=""><b>EN VORTERIX</b><br><br></u></span><
 /p><div style="text-align: center\; font-family: Arial\, Helvetica\, sans-
 serif\; font-size: small\; color: rgb(0\, 0\, 0)\;"><p class="MsoNormal" s
 tyle="margin: 0cm 0cm 8pt\; color: rgb(34\, 34\, 34)\; line-height: 16.189
 1px\;"><br></p></div><div dir="auto" style="font-family: Abel\, sans-serif
 \; text-align: center\;"><div></div></div><p dir="ltr" style="margin: 0pt 
 0px\; font-family: Abel\, sans-serif\; text-align: center\; color: rgb(51\
 , 51\, 51)\; font-size: 14px\; line-height: 1.656\;"><span style="font-siz
 e: 11.5pt\; font-family: Arial\; color: rgb(32\, 31\, 30)\; background-col
 or: transparent\; font-variant-numeric: normal\; font-variant-east-asian: 
 normal\; vertical-align: baseline\;">Entradas anticipadas limitadas en efe
 ctivo:</span></p><p dir="ltr" style="margin: 0pt 0px\; font-family: Abel\,
  sans-serif\; text-align: center\; color: rgb(51\, 51\, 51)\; font-size: 1
 4px\; line-height: 1.656\;"><span style="font-size: 11pt\; font-family: Ar
 ial\; color: rgb(34\, 34\, 34)\; background-color: transparent\; font-vari
 ant-numeric: normal\; font-variant-east-asian: normal\; vertical-align: ba
 seline\;">&nbsp\;</span></p><p dir="ltr" style="margin: 0pt 0px\; font-fam
 ily: Abel\, sans-serif\; text-align: center\; color: rgb(51\, 51\, 51)\; f
 ont-size: 14px\; line-height: 1.656\;"><span style="font-size: 11.5pt\; fo
 nt-family: Arial\; color: rgb(32\, 31\, 30)\; background-color: transparen
 t\; font-variant-numeric: normal\; font-variant-east-asian: normal\; verti
 cal-align: baseline\;"><span style="font-weight: bolder\;">La Casa de las 
 Guitarras:</span></span><span style="font-size: 11.5pt\; font-family: Aria
 l\; color: rgb(32\, 31\, 30)\; background-color: transparent\; font-varian
 t-numeric: normal\; font-variant-east-asian: normal\; vertical-align: base
 line\;">&nbsp\;Belgrano 3420 - Mar del Plata</span></p><p dir="ltr" style=
 "margin: 0pt 0px\; font-family: Abel\, sans-serif\; text-align: center\; c
 olor: rgb(51\, 51\, 51)\; font-size: 14px\; line-height: 1.656\;"><span st
 yle="white-space-collapse: preserve\; background-color: transparent\; font
 -size: 11.5pt\; font-family: Arial\; color: rgb(32\, 31\, 30)\; font-varia
 nt-numeric: normal\; font-variant-east-asian: normal\; vertical-align: bas
 eline\;"><span style="font-weight: bolder\;">FAVA Casa Central:</span></sp
 an><span style="white-space-collapse: preserve\; background-color: transpa
 rent\; font-size: 11.5pt\; font-family: Arial\; color: rgb(32\, 31\, 30)\;
  font-weight: 700\; font-variant-numeric: normal\; font-variant-east-asian
 : normal\; vertical-align: baseline\;"> </span><span style="white-space-co
 llapse: preserve\; background-color: transparent\; font-size: 11.5pt\; fon
 t-family: Arial\; color: rgb(32\, 31\, 30)\; font-variant-numeric: normal\
 ; font-variant-east-asian: normal\; vertical-align: baseline\;">Av. Pedro 
 Luro 3247 - Mar del Plata</span></p><p dir="ltr" style="margin: 0pt 0px\; 
 font-family: Abel\, sans-serif\; text-align: center\; color: rgb(51\, 51\,
  51)\; font-size: 14px\; line-height: 1.656\;"><span style="font-size: 11p
 t\; font-family: Arial\; color: rgb(34\, 34\, 34)\; background-color: tran
 sparent\; font-variant-numeric: normal\; font-variant-east-asian: normal\;
  vertical-align: baseline\;">&nbsp\;</span></p><p dir="ltr" style="margin:
  0pt 0px\; font-family: Abel\, sans-serif\; text-align: center\; color: rg
 b(51\, 51\, 51)\; font-size: 14px\; line-height: 1.38\;"><a href="http://w
 ww.articket.com.ar/" target="_blank">www.articket.com.ar</a><br></p><p dir
 ="ltr" style="margin: 0pt 0px\; font-family: Abel\, sans-serif\; text-alig
 n: center\; color: rgb(51\, 51\, 51)\; font-size: 14px\; line-height: 1.38
 \;"><br></p><p dir="ltr" style="margin: 0pt 0px\; font-family: Abel\, sans
 -serif\; text-align: center\; color: rgb(51\, 51\, 51)\; font-size: 14px\;
  line-height: 1.38\;"><br></p><p dir="ltr" style="margin: 0pt 0px\; font-f
 amily: Abel\, sans-serif\; text-align: center\; color: rgb(51\, 51\, 51)\;
  font-size: 14px\; line-height: 1.38\;"><span style="font-weight: bolder\;
 ">SHOW APTO TODO PUBLICO</span></p><p dir="ltr" style="margin: 0pt 0px\; f
 ont-family: Abel\, sans-serif\; text-align: center\; color: rgb(51\, 51\, 
 51)\; font-size: 14px\; line-height: 1.38\;"><br></p><p dir="ltr" style="m
 argin: 0pt 0px\; font-family: Abel\, sans-serif\; text-align: center\; col
 or: rgb(51\, 51\, 51)\; font-size: 14px\; line-height: 1.38\;"><br></p><p 
 dir="ltr" style="margin: 0pt 0px\; font-family: Abel\, sans-serif\; text-a
 lign: center\; color: rgb(51\, 51\, 51)\; font-size: 14px\; line-height: 1
 .38\;"><br></p><p dir="ltr" style="margin: 0pt 0px\; text-align: center\; 
 line-height: 1.38\;"><font face="Abel\, sans-serif" color="#9c9c94"><span 
 style="font-size: 12px\;">PROMO BANCO PROVINCIA CONDICIONES:&nbsp\;<a href
 ="https://tr.ee/89uSGj" target="_blank">https://tr.ee/89uSGj</a></span></f
 ont></p>
END:VEVENT
END:VCALENDAR
