BEGIN:VCALENDAR
VERSION:2.0
PRODID:-//My Calendar//mxm.dk//
BEGIN:VEVENT
SUMMARY:JOAQUIN DEL MUNDO EN BITTER
DTSTART:20260621T003000Z
DTEND:20260621T060000Z
DTSTAMP:20260424T124520Z
DESCRIPTION:<p dir="ltr" style="margin: 0pt 0px\; text-align: center\; -we
 bkit-tap-highlight-color: rgba(0\, 0\, 0\, 0)\; text-size-adjust: 100%\; l
 ine-height: 1.656\;"><font color="#201f1e" face="Arial"><span style="font-
 size: 18px\; caret-color: rgb(51\, 51\, 51)\;"><b><u>JOAQUIN DEL MUNDO</u>
 </b></span></font></p><p dir="ltr" style="margin: 0pt 0px\; text-align: ce
 nter\; -webkit-tap-highlight-color: rgba(0\, 0\, 0\, 0)\; text-size-adjust
 : 100%\; line-height: 1.656\;"><font color="#201f1e" face="Arial"><u><font
  face="Abel\, sans-serif"><span style="font-size: 15.3333px\; font-weight:
  bolder\; caret-color: rgb(51\, 51\, 51)\;">EN OLAVARRIA</span></font></u>
 </font></p><p dir="ltr" style="margin: 0pt 0px\; font-family: Abel\, sans-
 serif\; text-align: center\; color: rgb(51\, 51\, 51)\; font-size: 14px\; 
 caret-color: rgb(51\, 51\, 51)\; -webkit-tap-highlight-color: rgba(0\, 0\,
  0\, 0)\; text-size-adjust: 100%\; line-height: 1.656\;"><span style="font
 -size: 11.5pt\; font-family: Arial\; color: rgb(32\, 31\, 30)\; font-varia
 nt-numeric: normal\; font-variant-east-asian: normal\; vertical-align: bas
 eline\;"><br></span></p><p dir="ltr" style="margin: 0pt 0px\; font-family:
  Abel\, sans-serif\; text-align: center\; color: rgb(51\, 51\, 51)\; font-
 size: 14px\; caret-color: rgb(51\, 51\, 51)\; -webkit-tap-highlight-color:
  rgba(0\, 0\, 0\, 0)\; text-size-adjust: 100%\; line-height: 1.656\;"><spa
 n style="font-size: 11.5pt\; font-family: Arial\; color: rgb(32\, 31\, 30)
 \; font-variant-numeric: normal\; font-variant-east-asian: normal\; vertic
 al-align: baseline\;">Entradas anticipadas:<br><br></span></p><p dir="ltr"
  style="margin: 0pt 0px\; font-family: Abel\, sans-serif\; text-align: cen
 ter\; color: rgb(51\, 51\, 51)\; font-size: 14px\; caret-color: rgb(51\, 5
 1\, 51)\; -webkit-tap-highlight-color: rgba(0\, 0\, 0\, 0)\; text-size-adj
 ust: 100%\; line-height: 1.656\;"><u style="color: rgb(34\, 34\, 34)\; fon
 t-family: Arial\; font-size: 14.6667px\;">POR SISTEMA:<br></u><span style=
 "font-weight: 700\; color: rgb(34\, 34\, 34)\; font-family: Arial\; font-s
 ize: 11pt\;">(Todos los medios de pago)</span></p><p dir="ltr" style="marg
 in: 0pt 0px\; font-family: Abel\, sans-serif\; text-align: center\; color:
  rgb(51\, 51\, 51)\; font-size: 14px\; caret-color: rgb(51\, 51\, 51)\; -w
 ebkit-tap-highlight-color: rgba(0\, 0\, 0\, 0)\; text-size-adjust: 100%\; 
 line-height: 1.656\;"><span style="font-weight: 700\; color: rgb(34\, 34\,
  34)\; font-family: Arial\; font-size: 11pt\;"><br></span></p><p dir="ltr"
  style="margin: 0pt 0px\; font-family: Abel\, sans-serif\; text-align: cen
 ter\; color: rgb(51\, 51\, 51)\; font-size: 14px\; caret-color: rgb(51\, 5
 1\, 51)\; -webkit-tap-highlight-color: rgba(0\, 0\, 0\, 0)\; text-size-adj
 ust: 100%\; line-height: 1.656\;"><font color="#222222" face="Arial"><span
  style="font-size: 14.6667px\;"><u>Efectivo en:</u></span></font></p><p di
 r="ltr" style="margin: 0pt 0px\; font-family: Abel\, sans-serif\; text-ali
 gn: center\; color: rgb(51\, 51\, 51)\; font-size: 14px\; caret-color: rgb
 (51\, 51\, 51)\; -webkit-tap-highlight-color: rgba(0\, 0\, 0\, 0)\; text-s
 ize-adjust: 100%\; line-height: 1.656\;"><span style="font-size: 11.5pt\; 
 font-family: Arial\; color: rgb(32\, 31\, 30)\; font-weight: 700\; font-va
 riant-numeric: normal\; font-variant-east-asian: normal\; vertical-align: 
 baseline\;">TecnoCentro:</span><span style="font-size: 11.5pt\; font-famil
 y: Arial\; color: rgb(32\, 31\, 30)\; font-variant-numeric: normal\; font-
 variant-east-asian: normal\; vertical-align: baseline\;">&nbsp\;Rivadavia 
 3065 -&nbsp\;<span style="font-weight: 700\;">Olavarria</span></span></p><
 div style="text-align: center\; -webkit-tap-highlight-color: rgba(0\, 0\, 
 0\, 0)\; text-size-adjust: 100%\; font-family: Arial\, Helvetica\, sans-se
 rif\; font-size: small\; color: rgb(33\, 33\, 33)\;"><br></div><p dir="ltr
 " style="margin: 0pt 0px\; font-family: Abel\, sans-serif\; text-align: ce
 nter\; color: rgb(51\, 51\, 51)\; font-size: 14px\; caret-color: rgb(51\, 
 51\, 51)\; -webkit-tap-highlight-color: rgba(0\, 0\, 0\, 0)\; text-size-ad
 just: 100%\; line-height: 1.656\;"><span style="font-size: 11pt\; font-fam
 ily: Arial\; color: rgb(34\, 34\, 34)\; font-variant-numeric: normal\; fon
 t-variant-east-asian: normal\; vertical-align: baseline\;"><br></span></p>
 <p dir="ltr" style="margin: 0pt 0px\; font-family: Abel\, sans-serif\; tex
 t-align: center\; color: rgb(51\, 51\, 51)\; font-size: 14px\; caret-color
 : rgb(51\, 51\, 51)\; -webkit-tap-highlight-color: rgba(0\, 0\, 0\, 0)\; t
 ext-size-adjust: 100%\; line-height: 1.38\;"><a href="http://www.articket.
 com.ar/" style="color: rgb(51\, 122\, 183)\;"><span style="font-size: 11.5
 pt\; font-family: Arial\; color: rgb(17\, 85\, 204)\; font-variant-numeric
 : normal\; font-variant-east-asian: normal\; text-decoration-line: underli
 ne\; text-decoration-skip-ink: none\; vertical-align: baseline\;">www.arti
 cket.com.ar</span></a></p><p style="font-family: Abel\, sans-serif\; text-
 align: center\;"><br style="color: rgb(51\, 51\, 51)\; font-size: 14px\; c
 aret-color: rgb(51\, 51\, 51)\; -webkit-tap-highlight-color: rgba(0\, 0\, 
 0\, 0)\; text-size-adjust: 100%\;"></p><p dir="ltr" style="margin: 0pt 0px
 \; font-family: Abel\, sans-serif\; text-align: center\; color: rgb(51\, 5
 1\, 51)\; font-size: 14px\; caret-color: rgb(51\, 51\, 51)\; -webkit-tap-h
 ighlight-color: rgba(0\, 0\, 0\, 0)\; text-size-adjust: 100%\; line-height
 : 1.38\;"><span style="font-size: 11pt\; font-family: Arial\; color: rgb(3
 4\, 34\, 34)\; font-weight: 700\; font-variant-numeric: normal\; font-vari
 ant-east-asian: normal\; vertical-align: baseline\;">APTO TODO PUBLICO</sp
 an></p><p dir="ltr" style="margin: 0pt 0px\; text-align: center\; -webkit-
 tap-highlight-color: rgba(0\, 0\, 0\, 0)\; text-size-adjust: 100%\; line-h
 eight: 1.38\;"><font color="#222222" face="Arial"><span style="font-size: 
 14.6667px\; caret-color: rgb(51\, 51\, 51)\;"><span style="font-weight: bo
 lder\;"><br></span></span></font></p><p dir="ltr" style="margin: 0pt 0px\;
  text-align: center\; line-height: 1.38\;"><font face="Abel\, sans-serif" 
 color="#9c9c94"><span style="font-size: 12px\;">PROMO BANCO PROVINCIA COND
 ICIONES:&nbsp\;<a href="https://tr.ee/89uSGj" target="_blank">https://tr.e
 e/89uSGj</a></span></font></p>
END:VEVENT
END:VCALENDAR
