BEGIN:VCALENDAR
VERSION:2.0
PRODID:-//My Calendar//mxm.dk//
BEGIN:VEVENT
SUMMARY:LA MISION VERDE - LOS BRAINROTS
DTSTART:20260501T210000Z
DTEND:20260502T000000Z
DTSTAMP:20260424T124634Z
DESCRIPTION:<div style="text-align: center\; -webkit-tap-highlight-color: 
 rgba(0\, 0\, 0\, 0)\; text-size-adjust: 100%\;"><span style="text-align: l
 eft\; font-size: 18px\; font-variant-ligatures: no-contextual\;"><font col
 or="#1f1f1f" face="Google Sans\, Roboto\, RobotoDraft\, Helvetica\, Arial\
 , sans-serif"><b><u>LA MISION VERDE: LOS BRAINROTS<br></u></b></font></spa
 n><u style="font-family: &quot\;Google Sans&quot\;\, Roboto\, RobotoDraft\
 , Helvetica\, Arial\, sans-serif\; font-size: 18px\; font-variant-ligature
 s: no-contextual\; text-align: start\; color: rgb(31\, 31\, 31)\; font-wei
 ght: bolder\;">TEATRO SAN MARTIN</u></div><div style="text-align: center\;
  -webkit-tap-highlight-color: rgba(0\, 0\, 0\, 0)\; text-size-adjust: 100%
 \;"><span style="font-family: &quot\;Google Sans&quot\;\, Roboto\, RobotoD
 raft\, Helvetica\, Arial\, sans-serif\; font-size: 18px\; font-variant-lig
 atures: no-contextual\; text-align: start\;"><u style="color: rgb(31\, 31\
 , 31)\; font-weight: bolder\;"><br></u><br><br></span></div><div style="te
 xt-align: center\; -webkit-tap-highlight-color: rgba(0\, 0\, 0\, 0)\; text
 -size-adjust: 100%\;"><span style="background-color: rgb(255\, 255\, 0)\; 
 color: rgb(0\, 0\, 0)\; font-size: 18px\; font-weight: 700\; text-align: l
 eft\;">LAS ENTRADAS SE CANJEAN EN BOLETERIA DEL TEATRO.</span></div><div s
 tyle="text-align: center\; -webkit-tap-highlight-color: rgba(0\, 0\, 0\, 0
 )\; text-size-adjust: 100%\;"><div><span style="font-size: 11.5pt\; font-f
 amily: Arial\; color: rgb(32\, 31\, 30)\; background-color: transparent\; 
 font-variant-numeric: normal\; font-variant-east-asian: normal\; vertical-
 align: baseline\; white-space-collapse: preserve\;"><br></span></div><p di
 r="ltr" style="margin: 0pt 0px\; color: rgb(51\, 51\, 51)\; font-family: A
 bel\, sans-serif\; font-size: 14px\; line-height: 1.656\;"><span style="fo
 nt-size: 11.5pt\; font-family: Arial\; color: rgb(32\, 31\, 30)\; font-var
 iant-numeric: normal\; font-variant-east-asian: normal\; vertical-align: b
 aseline\;"><span style="color: rgb(17\, 85\, 204)\; text-decoration-line: 
 underline\; font-size: 11.5pt\; font-variant-numeric: normal\; font-varian
 t-east-asian: normal\; text-decoration-skip-ink: none\; vertical-align: ba
 seline\;"><a href="http://www.articket.com.ar/" style="color: rgb(51\, 122
 \, 183)\; font-family: Abel\, sans-serif\; font-size: 14px\;">www.articket
 .com.ar</a></span></span></p><p dir="ltr" style="margin: 0pt 0px\; color: 
 rgb(51\, 51\, 51)\; font-family: Abel\, sans-serif\; font-size: 14px\; lin
 e-height: 1.656\;"><span style="font-size: 11.5pt\; font-family: Arial\; c
 olor: rgb(32\, 31\, 30)\; font-variant-numeric: normal\; font-variant-east
 -asian: normal\; vertical-align: baseline\;"><br></span></p><p dir="ltr" s
 tyle="margin: 0pt 0px\; color: rgb(51\, 51\, 51)\; font-family: Abel\, san
 s-serif\; font-size: 14px\; line-height: 1.656\;"><span style="font-size: 
 11pt\; font-family: Arial\; color: rgb(34\, 34\, 34)\; font-variant-numeri
 c: normal\; font-variant-east-asian: normal\; vertical-align: baseline\;">
 <span style="font-weight: 700\;">&nbsp\;SHOW&nbsp\;</span></span><span sty
 le="color: rgb(32\, 31\, 30)\; font-family: Arial\; font-size: 15.3333px\;
 "><span style="font-weight: 700\;">APTO TODO PUBLICO</span></span></p><p d
 ir="ltr" style="margin: 0pt 0px\; color: rgb(51\, 51\, 51)\; font-family: 
 Abel\, sans-serif\; font-size: 14px\; line-height: 1.656\;"><span style="c
 olor: rgb(32\, 31\, 30)\; font-family: Arial\; font-size: 15.3333px\;"><sp
 an style="font-weight: 700\;"><br></span></span></p><p dir="ltr" style="ma
 rgin: 0pt 0px\; color: rgb(51\, 51\, 51)\; font-family: Abel\, sans-serif\
 ; font-size: 14px\; line-height: 1.656\;"><span style="color: rgb(32\, 31\
 , 30)\; font-family: Arial\; font-size: 15.3333px\;"><span style="font-wei
 ght: 700\;"><br></span></span></p><p dir="ltr" style="margin: 0pt 0px\; co
 lor: rgb(51\, 51\, 51)\; font-family: Abel\, sans-serif\; font-size: 14px\
 ; line-height: 1.656\;"><span style="color: rgb(156\, 156\, 148)\; font-si
 ze: 12px\;">PROMO BANCO PROVINCIA CONDICIONES:&nbsp\;</span><a href="https
 ://tr.ee/89uSGj" target="_blank" style="background-color: rgb(255\, 255\, 
 255)\; font-size: 12px\;">https://tr.ee/89uSGj<br></a></p></div>
END:VEVENT
BEGIN:VEVENT
SUMMARY:LA MISION VERDE - LOS BRAINROTS
DTSTART:20260502T210000Z
DTEND:20260503T000000Z
DTSTAMP:20260424T124634Z
DESCRIPTION:<div style="text-align: center\; -webkit-tap-highlight-color: 
 rgba(0\, 0\, 0\, 0)\; text-size-adjust: 100%\;"><span style="text-align: l
 eft\; font-size: 18px\; font-variant-ligatures: no-contextual\;"><font col
 or="#1f1f1f" face="Google Sans\, Roboto\, RobotoDraft\, Helvetica\, Arial\
 , sans-serif"><b><u>LA MISION VERDE: LOS BRAINROTS<br></u></b></font></spa
 n><u style="font-family: &quot\;Google Sans&quot\;\, Roboto\, RobotoDraft\
 , Helvetica\, Arial\, sans-serif\; font-size: 18px\; font-variant-ligature
 s: no-contextual\; text-align: start\; color: rgb(31\, 31\, 31)\; font-wei
 ght: bolder\;">TEATRO SAN MARTIN</u></div><div style="text-align: center\;
  -webkit-tap-highlight-color: rgba(0\, 0\, 0\, 0)\; text-size-adjust: 100%
 \;"><span style="font-family: &quot\;Google Sans&quot\;\, Roboto\, RobotoD
 raft\, Helvetica\, Arial\, sans-serif\; font-size: 18px\; font-variant-lig
 atures: no-contextual\; text-align: start\;"><u style="color: rgb(31\, 31\
 , 31)\; font-weight: bolder\;"><br></u><br><br></span></div><div style="te
 xt-align: center\; -webkit-tap-highlight-color: rgba(0\, 0\, 0\, 0)\; text
 -size-adjust: 100%\;"><span style="background-color: rgb(255\, 255\, 0)\; 
 color: rgb(0\, 0\, 0)\; font-size: 18px\; font-weight: 700\; text-align: l
 eft\;">LAS ENTRADAS SE CANJEAN EN BOLETERIA DEL TEATRO.</span></div><div s
 tyle="text-align: center\; -webkit-tap-highlight-color: rgba(0\, 0\, 0\, 0
 )\; text-size-adjust: 100%\;"><div><span style="font-size: 11.5pt\; font-f
 amily: Arial\; color: rgb(32\, 31\, 30)\; background-color: transparent\; 
 font-variant-numeric: normal\; font-variant-east-asian: normal\; vertical-
 align: baseline\; white-space-collapse: preserve\;"><br></span></div><p di
 r="ltr" style="margin: 0pt 0px\; color: rgb(51\, 51\, 51)\; font-family: A
 bel\, sans-serif\; font-size: 14px\; line-height: 1.656\;"><span style="fo
 nt-size: 11.5pt\; font-family: Arial\; color: rgb(32\, 31\, 30)\; font-var
 iant-numeric: normal\; font-variant-east-asian: normal\; vertical-align: b
 aseline\;"><span style="color: rgb(17\, 85\, 204)\; text-decoration-line: 
 underline\; font-size: 11.5pt\; font-variant-numeric: normal\; font-varian
 t-east-asian: normal\; text-decoration-skip-ink: none\; vertical-align: ba
 seline\;"><a href="http://www.articket.com.ar/" style="color: rgb(51\, 122
 \, 183)\; font-family: Abel\, sans-serif\; font-size: 14px\;">www.articket
 .com.ar</a></span></span></p><p dir="ltr" style="margin: 0pt 0px\; color: 
 rgb(51\, 51\, 51)\; font-family: Abel\, sans-serif\; font-size: 14px\; lin
 e-height: 1.656\;"><span style="font-size: 11.5pt\; font-family: Arial\; c
 olor: rgb(32\, 31\, 30)\; font-variant-numeric: normal\; font-variant-east
 -asian: normal\; vertical-align: baseline\;"><br></span></p><p dir="ltr" s
 tyle="margin: 0pt 0px\; color: rgb(51\, 51\, 51)\; font-family: Abel\, san
 s-serif\; font-size: 14px\; line-height: 1.656\;"><span style="font-size: 
 11pt\; font-family: Arial\; color: rgb(34\, 34\, 34)\; font-variant-numeri
 c: normal\; font-variant-east-asian: normal\; vertical-align: baseline\;">
 <span style="font-weight: 700\;">&nbsp\;SHOW&nbsp\;</span></span><span sty
 le="color: rgb(32\, 31\, 30)\; font-family: Arial\; font-size: 15.3333px\;
 "><span style="font-weight: 700\;">APTO TODO PUBLICO</span></span></p><p d
 ir="ltr" style="margin: 0pt 0px\; color: rgb(51\, 51\, 51)\; font-family: 
 Abel\, sans-serif\; font-size: 14px\; line-height: 1.656\;"><span style="c
 olor: rgb(32\, 31\, 30)\; font-family: Arial\; font-size: 15.3333px\;"><sp
 an style="font-weight: 700\;"><br></span></span></p><p dir="ltr" style="ma
 rgin: 0pt 0px\; color: rgb(51\, 51\, 51)\; font-family: Abel\, sans-serif\
 ; font-size: 14px\; line-height: 1.656\;"><span style="color: rgb(32\, 31\
 , 30)\; font-family: Arial\; font-size: 15.3333px\;"><span style="font-wei
 ght: 700\;"><br></span></span></p><p dir="ltr" style="margin: 0pt 0px\; co
 lor: rgb(51\, 51\, 51)\; font-family: Abel\, sans-serif\; font-size: 14px\
 ; line-height: 1.656\;"><span style="color: rgb(156\, 156\, 148)\; font-si
 ze: 12px\;">PROMO BANCO PROVINCIA CONDICIONES:&nbsp\;</span><a href="https
 ://tr.ee/89uSGj" target="_blank" style="background-color: rgb(255\, 255\, 
 255)\; font-size: 12px\;">https://tr.ee/89uSGj<br></a></p></div>
END:VEVENT
END:VCALENDAR
