BEGIN:VCALENDAR
VERSION:2.0
PRODID:-//My Calendar//mxm.dk//
BEGIN:VEVENT
SUMMARY:LAS MAGDALENAS EN EL MUSEO
DTSTART:20260502T190000Z
DTEND:20260502T220000Z
DTSTAMP:20260424T124618Z
DESCRIPTION:<p style="text-align: center\;"><span style="font-size: 24px\;
 "><b><u>LAS MAGDALENAS EN EL MUSEO</u></b></span></p><p style="text-align:
  center\;"><span style="font-size: 24px\;"><b><u>PLAZA ESPAÑA</u></b></sp
 an></p><p style="text-align: center\;"><br><span style="font-weight: bolde
 r\;"></span></p><p dir="ltr" style="margin: 0pt 0px\; font-family: Abel\, 
 sans-serif\; text-align: center\; color: rgb(51\, 51\, 51)\; font-size: 14
 px\; line-height: 1.656\;"><span style="font-size: 11.5pt\; font-family: A
 rial\; color: rgb(32\, 31\, 30)\; background-color: transparent\; font-var
 iant-numeric: normal\; font-variant-east-asian: normal\; vertical-align: b
 aseline\;">Entradas anticipadas limitadas en efectivo:</span></p><p dir="l
 tr" style="margin: 0pt 0px\; font-family: Abel\, sans-serif\; text-align: 
 center\; color: rgb(51\, 51\, 51)\; font-size: 14px\; line-height: 1.656\;
 "><span style="font-size: 11pt\; font-family: Arial\; color: rgb(34\, 34\,
  34)\; background-color: transparent\; font-variant-numeric: normal\; font
 -variant-east-asian: normal\; vertical-align: baseline\;">&nbsp\;</span></
 p><p dir="ltr" style="margin: 0pt 0px\; font-family: Abel\, sans-serif\; t
 ext-align: center\; color: rgb(51\, 51\, 51)\; font-size: 14px\; line-heig
 ht: 1.656\;"><span style="font-size: 11.5pt\; font-family: Arial\; color: 
 rgb(32\, 31\, 30)\; background-color: transparent\; font-variant-numeric: 
 normal\; font-variant-east-asian: normal\; vertical-align: baseline\;"><sp
 an style="font-weight: bolder\;">La Casa de las Guitarras:</span></span><s
 pan style="font-size: 11.5pt\; font-family: Arial\; color: rgb(32\, 31\, 3
 0)\; background-color: transparent\; font-variant-numeric: normal\; font-v
 ariant-east-asian: normal\; vertical-align: baseline\;">&nbsp\;Belgrano 34
 20 - Mar del Plata</span></p><p dir="ltr" style="margin: 0pt 0px\; font-fa
 mily: Abel\, sans-serif\; text-align: center\; color: rgb(51\, 51\, 51)\; 
 font-size: 14px\; line-height: 1.656\;"><span style="white-space-collapse:
  preserve\; background-color: transparent\; font-size: 11.5pt\; font-famil
 y: Arial\; color: rgb(32\, 31\, 30)\; font-variant-numeric: normal\; font-
 variant-east-asian: normal\; vertical-align: baseline\;"><span style="font
 -weight: bolder\;">FAVA Casa Central:</span></span><span style="white-spac
 e-collapse: preserve\; background-color: transparent\; font-size: 11.5pt\;
  font-family: Arial\; color: rgb(32\, 31\, 30)\; font-weight: 700\; font-v
 ariant-numeric: normal\; font-variant-east-asian: normal\; vertical-align:
  baseline\;"> </span><span style="white-space-collapse: preserve\; backgro
 und-color: transparent\; font-size: 11.5pt\; font-family: Arial\; color: r
 gb(32\, 31\, 30)\; font-variant-numeric: normal\; font-variant-east-asian:
  normal\; vertical-align: baseline\;">Av. Pedro Luro 3247 - Mar del Plata<
 /span></p><p dir="ltr" style="margin: 0pt 0px\; font-family: Abel\, sans-s
 erif\; text-align: center\; color: rgb(51\, 51\, 51)\; font-size: 14px\; l
 ine-height: 1.656\;"><span style="font-size: 11pt\; font-family: Arial\; c
 olor: rgb(34\, 34\, 34)\; background-color: transparent\; font-variant-num
 eric: normal\; font-variant-east-asian: normal\; vertical-align: baseline\
 ;">&nbsp\;</span></p><p dir="ltr" style="margin: 0pt 0px\; font-family: Ab
 el\, sans-serif\; text-align: center\; color: rgb(51\, 51\, 51)\; font-siz
 e: 14px\; line-height: 1.38\;"><a href="http://www.articket.com.ar" target
 ="_blank">www.articket.com.ar</a><a href="http://www.articket.com.ar/" tar
 get="_blank"></a></p><p dir="ltr" style="margin: 0pt 0px\; font-family: Ab
 el\, sans-serif\; text-align: center\; color: rgb(51\, 51\, 51)\; font-siz
 e: 14px\; line-height: 1.38\;"><br></p><p dir="ltr" style="margin: 0pt 0px
 \; font-family: Abel\, sans-serif\; text-align: center\; color: rgb(51\, 5
 1\, 51)\; font-size: 14px\; line-height: 1.38\;"><b><span style="font-size
 : 18px\;">SHOW APTO TODO PUBLICO</span></b></p><p dir="ltr" style="margin:
  0pt 0px\; font-family: Abel\, sans-serif\; text-align: center\; color: rg
 b(51\, 51\, 51)\; font-size: 14px\; line-height: 1.38\;"><b><span style="f
 ont-size: 18px\;">ABONAN A PARTIR DE LOS 2 (DOS) AÑOS CUMPLIDOS</span><br
 ></b><br><br></p><p dir="ltr" style="margin: 0pt 0px\; text-align: center\
 ; line-height: 1.38\;"><font face="Abel\, sans-serif" color="#9c9c94"><spa
 n style="font-size: 12px\;">PROMO BANCO PROVINCIA CONDICIONES:&nbsp\;<a hr
 ef="https://tr.ee/89uSGj" target="_blank">https://tr.ee/89uSGj</a></span><
 /font></p><p></p><p style="text-align: center\;"><br></p><p style="text-al
 ign: center\;"><br style="color: rgb(34\, 34\, 34)\; font-family: Arial\, 
 Helvetica\, sans-serif\; font-size: small\;"></p>
END:VEVENT
END:VCALENDAR
