BEGIN:VCALENDAR
VERSION:2.0
PRODID:-//My Calendar//mxm.dk//
BEGIN:VEVENT
SUMMARY:PABLO PICOTTO - TIEMPOS MODERNOS EN TRES ARROYOS
DTSTART:20260510T000000Z
DTEND:20260510T025500Z
DTSTAMP:20260424T124710Z
DESCRIPTION:<p dir="ltr" style="margin: 0pt 0px\; text-align: center\; tex
 t-size-adjust: 100%\; line-height: 1.656\;"><span style="text-align: left\
 ; font-size: 24px\; caret-color: rgb(32\, 31\, 30)\;"><font color="#201f1e
 " face="Arial"><b><u>PABLO PICOTTO - TIEMPOS MODERNOS</u></b></font></span
 ></p><p dir="ltr" style="margin: 0pt 0px\; text-align: center\; text-size-
 adjust: 100%\; line-height: 1.656\;"><font color="#201f1e" face="Arial"><s
 pan style="font-size: 15.3333px\; caret-color: rgb(32\, 31\, 30)\;"><u><sp
 an style="font-weight: bolder\; font-size: 24px\;">EN TRES ARROYOS</span><
 /u></span></font></p><p dir="ltr" style="margin: 0pt 0px\; font-family: Ab
 el\, sans-serif\; text-align: center\; text-size-adjust: 100%\; line-heigh
 t: 1.656\;"><br></p><p dir="ltr" style="margin: 0pt 0px\; text-align: cent
 er\; text-size-adjust: 100%\; line-height: 1.656\;"><font face="Abel\, san
 s-serif"><br></font></p><div style="font-family: Abel\, sans-serif\; text-
 align: center\; text-size-adjust: 100%\; color: rgb(51\, 51\, 51)\; font-s
 ize: 14px\;"><div style="font-size: 14.6667px\;"><font color="#222222" fac
 e="Arial"><span style="font-weight: 700\;"><u></u></span></font></div></di
 v><div style="text-align: center\; text-size-adjust: 100%\; font-family: A
 rial\, Helvetica\, sans-serif\; font-size: small\; color: rgb(33\, 33\, 33
 )\;"><p dir="ltr" style="margin: 0pt 0px\; color: rgb(51\, 51\, 51)\; font
 -family: Abel\, sans-serif\; font-size: 14px\; line-height: 1.656\;"><span
  style="font-size: 11.5pt\; font-family: Arial\; color: rgb(32\, 31\, 30)\
 ; font-variant-numeric: normal\; font-variant-east-asian: normal\; vertica
 l-align: baseline\;">Entradas en efectivo en Boleteria del Teatro</span></
 p></div><div style="text-align: center\; text-size-adjust: 100%\; font-fam
 ily: Arial\, Helvetica\, sans-serif\; font-size: small\; color: rgb(33\, 3
 3\, 33)\;"><i><br><div style="text-size-adjust: 100%\;"><br></div></i></di
 v><p dir="ltr" style="margin: 0pt 0px\; font-family: Abel\, sans-serif\; t
 ext-align: center\; text-size-adjust: 100%\; color: rgb(51\, 51\, 51)\; fo
 nt-size: 14px\; line-height: 1.656\;"><span style="font-size: 11.5pt\; fon
 t-family: Arial\; color: rgb(32\, 31\, 30)\; font-variant-numeric: normal\
 ; font-variant-east-asian: normal\; vertical-align: baseline\;"></span></p
 ><div style="text-align: center\; text-size-adjust: 100%\; font-family: Ar
 ial\, Helvetica\, sans-serif\; font-size: small\; color: rgb(33\, 33\, 33)
 \;"><a href="http://www.articket.com.ar/" style="color: rgb(51\, 122\, 183
 )\; font-family: Abel\, sans-serif\; font-size: 14px\;"><span style="font-
 size: 11.5pt\; font-family: Arial\; color: rgb(17\, 85\, 204)\; font-varia
 nt-numeric: normal\; font-variant-east-asian: normal\; text-decoration-lin
 e: underline\; text-decoration-skip-ink: none\; vertical-align: baseline\;
 ">www.articket.com.ar</span></a><br><br><br><span style="color: rgb(34\, 3
 4\, 34)\; font-family: Arial\; font-size: 14.6667px\; font-weight: 700\;">
 SHOW APTO TODO PUBLICO</span></div><div style="text-align: center\; text-s
 ize-adjust: 100%\; font-family: Arial\, Helvetica\, sans-serif\; font-size
 : small\; color: rgb(33\, 33\, 33)\;"><span style="color: rgb(34\, 34\, 34
 )\; font-family: Arial\; font-size: 14.6667px\; font-weight: 700\;"><br></
 span></div><div style="text-align: center\; text-size-adjust: 100%\; font-
 family: Arial\, Helvetica\, sans-serif\; font-size: small\; color: rgb(33\
 , 33\, 33)\;"><span style="color: rgb(34\, 34\, 34)\; font-family: Arial\;
  font-size: 14.6667px\; font-weight: 700\;">---</span></div><div style="te
 xt-align: center\; text-size-adjust: 100%\; font-family: Arial\, Helvetica
 \, sans-serif\; font-size: small\; color: rgb(33\, 33\, 33)\;"><span style
 ="color: rgb(34\, 34\, 34)\; font-family: Arial\; font-size: 14.6667px\; f
 ont-weight: 700\;"><br></span></div><div style="text-align: center\; text-
 size-adjust: 100%\;"><div style="text-size-adjust: 100%\;"><font color="#2
 22222" face="Arial"><span style="font-size: 14.6667px\;"><b>PABLO PICOTTO<
 /b></span></font></div><div style="text-size-adjust: 100%\;"><font color="
 #222222" face="Arial"><span style="font-size: 14.6667px\;"><b><br></b></sp
 an></font></div><div style="text-size-adjust: 100%\;"><font color="#222222
 " face="Arial"><span style="font-size: 14.6667px\;"><b>PRESENTA “TIEMPOS
  MODERNOS”</b></span></font></div><div style="text-size-adjust: 100%\;">
 <font color="#222222" face="Arial"><span style="font-size: 14.6667px\;"><b
 >SABADO 9 DE MAYO – 21:00 HS.</b></span></font></div><div style="text-si
 ze-adjust: 100%\;"><font color="#222222" face="Arial"><span style="font-si
 ze: 14.6667px\;"><b>TEATRO MUNICIPAL</b></span></font></div><div style="te
 xt-size-adjust: 100%\;"><font color="#222222" face="Arial"><span style="fo
 nt-size: 14.6667px\;"><b>TRES ARROYOS</b></span></font></div><div style="t
 ext-size-adjust: 100%\;"><font color="#222222" face="Arial"><span style="f
 ont-size: 14.6667px\;"><b><br></b></span></font></div><div style="text-siz
 e-adjust: 100%\;"><font color="#222222" face="Arial"><span style="font-siz
 e: 14.6667px\;"><b>El espectáculo de Pablo Picotto\, surge de una situaci
 ón cotidiana\, un Niño pregunta: “Como</b></span></font></div><div sty
 le="text-size-adjust: 100%\;"><font color="#222222" face="Arial"><span sty
 le="font-size: 14.6667px\;"><b>era tu infancia?” Y ante la respuesta\, e
 l niño no entiende cómo era ser Niño en ese tiempo</b></span></font></d
 iv><div style="text-size-adjust: 100%\;"><font color="#222222" face="Arial
 "><span style="font-size: 14.6667px\;"><b>tan cercano y a la vez tan lejan
 o. Como expresar a las nuevas generaciones que clase de</b></span></font><
 /div><div style="text-size-adjust: 100%\;"><font color="#222222" face="Ari
 al"><span style="font-size: 14.6667px\;"><b>realidad vivió la última gen
 eración que conoció el mundo sin internet? Con una singular</b></span></
 font></div><div style="text-size-adjust: 100%\;"><font color="#222222" fac
 e="Arial"><span style="font-size: 14.6667px\;"><b>mirada sobre el vértigo
  que la actualidad ofrece\, las nuevas tecnologías\, la educación\, las<
 /b></span></font></div><div style="text-size-adjust: 100%\;"><font color="
 #222222" face="Arial"><span style="font-size: 14.6667px\;"><b>redes social
 es y los nuevos trabajos que en la actualidad tienen lugar haciendo un rep
 aso</b></span></font></div><div style="text-size-adjust: 100%\;"><font col
 or="#222222" face="Arial"><span style="font-size: 14.6667px\;"><b>humorís
 tico y agudo sobre aquellas preguntas que nos hacemos cuando reflexionamos
 </b></span></font></div><div style="text-size-adjust: 100%\;"><font color=
 "#222222" face="Arial"><span style="font-size: 14.6667px\;"><b>acerca del 
 presente\, la modernización y el futuro que ya está llegando.</b></span>
 </font></div><div style="text-size-adjust: 100%\;"><font color="#222222" f
 ace="Arial"><span style="font-size: 14.6667px\;"><b>Abordando estos y much
 os otros temas con distintos personajes y pasos de comedia stand</b></span
 ></font></div><div style="text-size-adjust: 100%\;"><font color="#222222" 
 face="Arial"><span style="font-size: 14.6667px\;"><b>up\, Pablo Picotto en
 trega su mirada particular dandole protagonismo al humor por sobre</b></sp
 an></font></div><div style="text-size-adjust: 100%\;"><font color="#222222
 " face="Arial"><span style="font-size: 14.6667px\;"><b>todo y por qué no\
 , a alguna que otra reflexión sobre la vida. Un espectáculo para disfrut
 ar y</b></span></font></div><div style="text-size-adjust: 100%\;"><font co
 lor="#222222" face="Arial"><span style="font-size: 14.6667px\;"><b>diverti
 rse\, para emocionarse con el pasado y pensar para adelante\, un show qué
  hay que ver</b></span></font></div><div style="text-size-adjust: 100%\;">
 <font color="#222222" face="Arial"><span style="font-size: 14.6667px\;"><b
 >ahora\, antes que se lo quede alguna inteligencia artificial :)</b></span
 ></font></div></div><div style="text-align: center\; text-size-adjust: 100
 %\; font-family: Arial\, Helvetica\, sans-serif\; font-size: small\; color
 : rgb(33\, 33\, 33)\;"><span style="color: rgb(34\, 34\, 34)\; font-family
 : Arial\; font-size: 14.6667px\; font-weight: 700\;"><br></span></div><div
  style="text-align: center\; text-size-adjust: 100%\; font-family: Arial\,
  Helvetica\, sans-serif\; font-size: small\; color: rgb(33\, 33\, 33)\;"><
 br></div><div style="text-align: center\; text-size-adjust: 100%\; font-fa
 mily: Arial\, Helvetica\, sans-serif\; font-size: small\; color: rgb(33\, 
 33\, 33)\;"><p dir="ltr" style="margin: 0pt 0px\; line-height: 1.38\;"><fo
 nt face="Abel\, sans-serif" color="#9c9c94"><span style="font-size: 12px\;
 ">PROMO BANCO PROVINCIA CONDICIONES:&nbsp\;<a href="https://tr.ee/89uSGj" 
 target="_blank">https://tr.ee/89uSGj</a></span></font></p></div>
END:VEVENT
END:VCALENDAR
