BEGIN:VCALENDAR
VERSION:2.0
PRODID:-//My Calendar//mxm.dk//
BEGIN:VEVENT
SUMMARY:EL DIVORCIO DEL AÑO EN TRES ARROYOS
DTSTART:20260527T000000Z
DTEND:20260527T050000Z
DTSTAMP:20260424T124757Z
DESCRIPTION:<div style="text-align: center\;"><span style="color: rgb(31\,
  31\, 31)\; font-family: &quot\;Google Sans&quot\;\, Roboto\, RobotoDraft\
 , Helvetica\, Arial\, sans-serif\; font-size: 36px\; font-variant-ligature
 s: no-contextual\;"><b><u>EL DIVORCIO DEL AÑO EN TRES ARROYOS</u></b></sp
 an></div><p dir="ltr" style="margin: 0pt 0px\; text-align: center\; text-s
 ize-adjust: 100%\; line-height: 1.656\;"><u style="font-size: 15.3333px\; 
 caret-color: rgb(32\, 31\, 30)\; color: rgb(32\, 31\, 30)\; font-family: A
 rial\;"><span style="font-size: 24px\;"><b>EN TRES ARROYOS<br><br></b></sp
 an></u></p><p dir="ltr" style="margin: 0pt 0px\; text-align: center\; text
 -size-adjust: 100%\; line-height: 1.656\;"><span style="font-family: Abel\
 , sans-serif\; font-size: 1rem\;">Dirigida por José María Muscari\, El d
 ivorcio del año reúne a un elenco impactante integrado por Fabián Vena\
 , Juan Palomino\, Ernestina Pais y Rochi Igarzábal\, consolidándose como
  uno de los grandes acontecimientos teatrales de la temporada.</span></p><
 p dir="ltr" style="margin: 0pt 0px\; text-align: center\; text-size-adjust
 : 100%\; line-height: 1.656\;"><span style="font-family: Abel\, sans-serif
 \; font-size: 1rem\;">Con texto original de Mariela Asensio y José María
  Muscari —la dupla creativa detrás del éxito Perdidamente—\, la obra
  propone una mirada audaz\, emotiva y profundamente divertida sobre el amo
 r\, la separación y las complejas tramas familiares.</span></p><p dir="lt
 r" style="margin: 0pt 0px\; text-align: center\; text-size-adjust: 100%\; 
 line-height: 1.656\;"><span style="font-family: Abel\, sans-serif\; font-s
 ize: 1rem\;">La producción está a cargo de Perrotti Producciones\, quien
 es vuelven a apostar por un gran título con un equipo artístico de prime
 r nivel.</span></p><p dir="ltr" style="margin: 0pt 0px\; text-align: cente
 r\; text-size-adjust: 100%\; line-height: 1.656\;"><font face="Abel\, sans
 -serif"><br></font></p><p dir="ltr" style="margin: 0pt 0px\; text-align: c
 enter\; text-size-adjust: 100%\; line-height: 1.656\;"><font face="Abel\, 
 sans-serif"><u>Elenco:</u></font></p><p dir="ltr" style="margin: 0pt 0px\;
  text-align: center\; text-size-adjust: 100%\; line-height: 1.656\;"><font
  face="Abel\, sans-serif">Romina Gaetani</font></p><p dir="ltr" style="mar
 gin: 0pt 0px\; text-align: center\; text-size-adjust: 100%\; line-height: 
 1.656\;"><font face="Abel\, sans-serif">Fabián Vena</font></p><p dir="ltr
 " style="margin: 0pt 0px\; text-align: center\; text-size-adjust: 100%\; l
 ine-height: 1.656\;"><font face="Abel\, sans-serif">Juan Palomino</font></
 p><p dir="ltr" style="margin: 0pt 0px\; text-align: center\; text-size-adj
 ust: 100%\; line-height: 1.656\;"><font face="Abel\, sans-serif">Ernestina
  Pais</font></p><p dir="ltr" style="margin: 0pt 0px\; text-align: center\;
  text-size-adjust: 100%\; line-height: 1.656\;"><font face="Abel\, sans-se
 rif">Rocío Igarzábal</font></p><p dir="ltr" style="margin: 0pt 0px\; tex
 t-align: center\; text-size-adjust: 100%\; line-height: 1.656\;"><font fac
 e="Abel\, sans-serif"><br></font></p><div style="font-family: Abel\, sans-
 serif\; text-align: center\; text-size-adjust: 100%\; color: rgb(51\, 51\,
  51)\; font-size: 14px\;"><div style="font-size: 14.6667px\;"><font color=
 "#222222" face="Arial"><span style="font-weight: 700\;"><u></u></span></fo
 nt></div></div><div style="text-align: center\; text-size-adjust: 100%\; f
 ont-family: Arial\, Helvetica\, sans-serif\; font-size: small\; color: rgb
 (33\, 33\, 33)\;"><p dir="ltr" style="margin: 0pt 0px\; color: rgb(51\, 51
 \, 51)\; font-family: Abel\, sans-serif\; font-size: 14px\; line-height: 1
 .656\;"><span style="font-size: 11.5pt\; font-family: Arial\; color: rgb(3
 2\, 31\, 30)\; font-variant-numeric: normal\; font-variant-east-asian: nor
 mal\; vertical-align: baseline\;">Entradas en efectivo en Boleteria del Te
 atro</span></p></div><div style="text-align: center\; text-size-adjust: 10
 0%\; font-family: Arial\, Helvetica\, sans-serif\; font-size: small\; colo
 r: rgb(33\, 33\, 33)\;"><i><br><div style="text-size-adjust: 100%\;"><br><
 /div></i></div><p dir="ltr" style="margin: 0pt 0px\; font-family: Abel\, s
 ans-serif\; text-align: center\; text-size-adjust: 100%\; color: rgb(51\, 
 51\, 51)\; font-size: 14px\; line-height: 1.656\;"><span style="font-size:
  11.5pt\; font-family: Arial\; color: rgb(32\, 31\, 30)\; font-variant-num
 eric: normal\; font-variant-east-asian: normal\; vertical-align: baseline\
 ;"></span></p><div style="text-align: center\; text-size-adjust: 100%\; fo
 nt-family: Arial\, Helvetica\, sans-serif\; font-size: small\; color: rgb(
 33\, 33\, 33)\;"><a href="http://www.articket.com.ar/" style="color: rgb(5
 1\, 122\, 183)\; font-family: Abel\, sans-serif\; font-size: 14px\;"><span
  style="font-size: 11.5pt\; font-family: Arial\; color: rgb(17\, 85\, 204)
 \; font-variant-numeric: normal\; font-variant-east-asian: normal\; text-d
 ecoration-line: underline\; text-decoration-skip-ink: none\; vertical-alig
 n: baseline\;">www.articket.com.ar</span></a><br><br><br><span style="colo
 r: rgb(34\, 34\, 34)\; font-family: Arial\; font-size: 14.6667px\; font-we
 ight: 700\;">SHOW APTO TODO PUBLICO</span></div><div style="text-align: ce
 nter\; text-size-adjust: 100%\; font-family: Arial\, Helvetica\, sans-seri
 f\; font-size: small\; color: rgb(33\, 33\, 33)\;"><span style="color: rgb
 (34\, 34\, 34)\; font-family: Arial\; font-size: 14.6667px\; font-weight: 
 700\;"><br></span></div><div style="text-align: center\; text-size-adjust:
  100%\; font-family: Arial\, Helvetica\, sans-serif\; font-size: small\; c
 olor: rgb(33\, 33\, 33)\;"><br></div><div style="text-align: center\; text
 -size-adjust: 100%\; font-family: Arial\, Helvetica\, sans-serif\; font-si
 ze: small\; color: rgb(33\, 33\, 33)\;"><p dir="ltr" style="margin: 0pt 0p
 x\; line-height: 1.38\;"><font face="Abel\, sans-serif" color="#9c9c94"><s
 pan style="font-size: 12px\;">PROMO BANCO PROVINCIA CONDICIONES:&nbsp\;<a 
 href="https://tr.ee/89uSGj" target="_blank">https://tr.ee/89uSGj</a></span
 ></font></p></div>
END:VEVENT
END:VCALENDAR
