BEGIN:VCALENDAR
VERSION:2.0
PRODID:-//My Calendar//mxm.dk//
BEGIN:VEVENT
SUMMARY:ENTRE BRISA AMOR Y FOLKLORE EN ABBEY ROAD
DTSTART:20260629T000000Z
DTEND:20260629T025500Z
DTSTAMP:20260424T124709Z
DESCRIPTION:<p style="text-align: center\;"><font face="Arial Black"><span
  style="font-size: 36px\;"><b><u>ENTRE BRISA\, AMOR Y FOLKLORE</u></b></sp
 an></font></p><p style="text-align: center\;"><font face="Arial Black"><sp
 an style="font-size: 36px\;"><b><u>MUESTRA DE DANZA</u></b></span></font><
 /p><p style="text-align: start\;"><font face="Arial Black"><span style="fo
 nt-size: 36px\;"><b><u><br></u></b></span></font></p><p></p><div style="te
 xt-align: center\;"><span style="font-size: 11.5pt\;">Entradas anticipadas
  limitadas en efectivo:</span></div><p></p><p dir="ltr" style="margin: 0pt
  0px\; font-family: Abel\, sans-serif\; text-align: center\; text-size-adj
 ust: 100%\; color: rgb(51\, 51\, 51)\; font-size: 14px\; line-height: 1.65
 6\;"><span style="font-size: 11pt\; font-family: Arial\; color: rgb(34\, 3
 4\, 34)\; font-variant-numeric: normal\; font-variant-east-asian: normal\;
  vertical-align: baseline\;">&nbsp\;</span></p><p dir="ltr" style="margin:
  0pt 0px\; font-family: Abel\, sans-serif\; text-align: center\; text-size
 -adjust: 100%\; color: rgb(51\, 51\, 51)\; font-size: 14px\; line-height: 
 1.656\;"><span style="font-size: 11.5pt\; font-family: Arial\; color: rgb(
 32\, 31\, 30)\; font-weight: 700\; font-variant-numeric: normal\; font-var
 iant-east-asian: normal\; vertical-align: baseline\;">La Casa de las Guita
 rras:</span><span style="font-size: 11.5pt\; font-family: Arial\; color: r
 gb(32\, 31\, 30)\; font-variant-numeric: normal\; font-variant-east-asian:
  normal\; vertical-align: baseline\;">&nbsp\;Belgrano 3420 - Mar del Plata
 </span></p><p dir="ltr" style="margin: 0pt 0px\; font-family: Abel\, sans-
 serif\; text-align: center\; color: rgb(51\, 51\, 51)\; font-size: 14px\; 
 line-height: 1.656\;"><span style="font-size: 11.5pt\; font-family: Arial\
 ; color: rgb(32\, 31\, 30)\; background-color: transparent\; font-variant-
 numeric: normal\; font-variant-east-asian: normal\; vertical-align: baseli
 ne\; white-space-collapse: preserve\;"><span style="font-weight: bolder\;"
 >FAVA Casa Central:</span></span><span style="font-size: 11.5pt\; font-fam
 ily: Arial\; color: rgb(32\, 31\, 30)\; background-color: transparent\; fo
 nt-weight: 700\; font-variant-numeric: normal\; font-variant-east-asian: n
 ormal\; vertical-align: baseline\; white-space-collapse: preserve\;"> </sp
 an><span style="font-size: 11.5pt\; font-family: Arial\; color: rgb(32\, 3
 1\, 30)\; background-color: transparent\; font-variant-numeric: normal\; f
 ont-variant-east-asian: normal\; vertical-align: baseline\; white-space-co
 llapse: preserve\;">Av. Pedro Luro 3247 - Mar del Plata</span></p><div><sp
 an style="font-size: 11.5pt\; font-family: Arial\; color: rgb(32\, 31\, 30
 )\; background-color: transparent\; font-variant-numeric: normal\; font-va
 riant-east-asian: normal\; vertical-align: baseline\; white-space-collapse
 : preserve\;"><br></span></div><p dir="ltr" style="margin: 0pt 0px\; font-
 family: Abel\, sans-serif\; text-align: center\; text-size-adjust: 100%\; 
 color: rgb(51\, 51\, 51)\; font-size: 14px\; line-height: 1.38\;"><a href=
 "http://www.articket.com.ar/" style="color: rgb(51\, 122\, 183)\; text-dec
 oration: underline\;"><span style="font-size: 11.5pt\; font-family: Arial\
 ; color: rgb(17\, 85\, 204)\; font-variant-numeric: normal\; font-variant-
 east-asian: normal\; text-decoration-skip-ink: none\; vertical-align: base
 line\;">www.articket.com.ar</span></a></p><p dir="ltr" style="margin: 0pt 
 0px\; font-family: Abel\, sans-serif\; text-align: center\; text-size-adju
 st: 100%\; color: rgb(51\, 51\, 51)\; font-size: 14px\; line-height: 1.656
 \;"><br></p><p><span style="color: rgb(32\, 31\, 30)\; font-family: Arial\
 ; font-size: 11.5pt\;"></span></p><p dir="ltr" style="margin: 0pt 0px\; fo
 nt-family: Abel\, sans-serif\; text-align: center\; text-size-adjust: 100%
 \; color: rgb(51\, 51\, 51)\; font-size: 14px\; line-height: 1.38\;"><span
  style="caret-color: rgb(34\, 34\, 34)\; color: rgb(34\, 34\, 34)\; font-f
 amily: Arial\; font-size: 14.6667px\; font-weight: 700\; white-space-colla
 pse: preserve\;">APTO TODO PUBLICO\n\n</span></p><p dir="ltr" style="margi
 n: 0pt 0px\; text-align: center\; line-height: 1.38\;"><font face="Abel\, 
 sans-serif" color="#9c9c94"><span style="font-size: 12px\;">PROMO BANCO PR
 OVINCIA CONDICIONES:&nbsp\;<a href="https://tr.ee/89uSGj" target="_blank">
 https://tr.ee/89uSGj</a></span></font></p><p dir="ltr" style="margin: 0pt 
 0px\; text-align: center\; line-height: 1.38\;"><br style="font-family: Ab
 el\, sans-serif\;"></p><p dir="ltr" style="margin: 0pt 0px\; font-family: 
 Abel\, sans-serif\; text-align: center\; text-size-adjust: 100%\; color: r
 gb(51\, 51\, 51)\; font-size: 14px\; line-height: 1.38\;"><span style="car
 et-color: rgb(34\, 34\, 34)\; color: rgb(34\, 34\, 34)\; font-family: Aria
 l\; font-size: 14.6667px\; font-weight: 700\; white-space-collapse: preser
 ve\;">\n\n</span></p>
END:VEVENT
END:VCALENDAR
