BEGIN:VCALENDAR
VERSION:2.0
PRODID:-//My Calendar//mxm.dk//
BEGIN:VEVENT
SUMMARY:NESTOR EN BLOQUE EN CACHENGUE CLUB
DTSTART:20260503T020000Z
DTEND:20260503T080000Z
DTSTAMP:20260424T124417Z
DESCRIPTION:<p dir="ltr" style="margin: 0pt 0px\; text-align: center\; lin
 e-height: 1.656\;"><u style="text-align: left\;"><font color="#201f1e" fac
 e="Arial"><span style="font-size: 24px\; font-weight: bolder\; white-space
 -collapse: preserve\;">NESTOR EN BLOQUE</span></font></u></p><p dir="ltr" 
 style="margin: 0pt 0px\; text-align: center\; line-height: 1.656\;"><u sty
 le="text-align: left\;"><font color="#201f1e" face="Arial"><span style="fo
 nt-size: 24px\; font-weight: bolder\; white-space-collapse: preserve\;">EN
  CACHENGUE CLUB</span></font></u></p><p dir="ltr" style="margin: 0pt 0px\;
  text-align: center\; line-height: 1.656\;"><span style="font-weight: bold
 er\;"><span style="color: rgb(34\, 34\, 34)\; font-family: Arial\, Helveti
 ca\, sans-serif\; font-size: small\; text-align: start\;"><br></span></spa
 n></p><p dir="ltr" style="margin: 0pt 0px\; color: rgb(51\, 51\, 51)\; fon
 t-family: Abel\, sans-serif\; font-size: 14px\; text-align: center\; line-
 height: 1.656\;"><font face="Arial"><span style="white-space-collapse: pre
 serve\;">\n</span></font><a href="http://www.articket.com.ar/" style="colo
 r: rgb(51\, 122\, 183)\; text-decoration: underline\; background-color: rg
 b(255\, 255\, 255)\;"><span style="font-size: 11.5pt\; font-family: Arial\
 ; color: rgb(17\, 85\, 204)\; font-variant-numeric: normal\; font-variant-
 east-asian: normal\; text-decoration-skip-ink: none\; vertical-align: base
 line\;">www.articket.com.ar</span></a><font face="Arial"><span style="whit
 e-space-collapse: preserve\;"><br></span></font></p><p><br style="color: r
 gb(51\, 51\, 51)\; font-family: Abel\, sans-serif\; font-size: 14px\; text
 -align: center\;"></p><p dir="ltr" style="margin: 0pt 0px\; color: rgb(51\
 , 51\, 51)\; font-family: Abel\, sans-serif\; font-size: 14px\; text-align
 : center\; line-height: 1.38\;"><span style="font-size: 11pt\; font-family
 : Arial\; color: rgb(34\, 34\, 34)\; font-variant-numeric: normal\; font-v
 ariant-east-asian: normal\; vertical-align: baseline\; white-space-collaps
 e: preserve\;"><span style="font-weight: bolder\;">APTO MAYORES 18 AÑOS</
 span></span></p><p dir="ltr" style="margin: 0pt 0px\; color: rgb(51\, 51\,
  51)\; font-family: Abel\, sans-serif\; font-size: 14px\; text-align: cent
 er\; line-height: 1.38\;"><span style="font-size: 11pt\; font-family: Aria
 l\; color: rgb(34\, 34\, 34)\; font-variant-numeric: normal\; font-variant
 -east-asian: normal\; vertical-align: baseline\; white-space-collapse: pre
 serve\;"><span style="font-weight: bolder\;"><br></span></span></p><p dir=
 "ltr" style="margin: 0pt 0px\; text-align: center\; line-height: 1.38\;"><
 span style="font-variant-numeric: normal\; font-variant-east-asian: normal
 \; vertical-align: baseline\;"><font face="Arial" color="#000000"><span st
 yle="font-size: 14.6667px\; white-space-collapse: preserve\;"><span style=
 "background-color: rgb(255\, 255\, 0)\; font-size: 18px\;"><span style="fo
 nt-weight: bolder\;">Con la entrada anticipada no hacen fila y no tienen l
 imite de horario.</span></span></span></font></span></p><p dir="ltr" style
 ="margin: 0pt 0px\; text-align: center\; line-height: 1.38\;"><span style=
 "font-variant-numeric: normal\; font-variant-east-asian: normal\; vertical
 -align: baseline\;"><font face="Arial" color="#000000"><span style="font-s
 ize: 14.6667px\; white-space-collapse: preserve\;"><span style="background
 -color: rgb(255\, 255\, 0)\; font-size: 18px\;"><span style="font-weight: 
 bolder\;"><br></span></span></span></font></span></p><p dir="ltr" style="m
 argin: 0pt 0px\; text-align: center\; line-height: 1.38\;"><span style="fo
 nt-variant-numeric: normal\; font-variant-east-asian: normal\; vertical-al
 ign: baseline\;"><span style="color: rgb(156\, 156\, 148)\; font-family: A
 bel\, sans-serif\; font-size: 12px\;">PROMO BANCO PROVINCIA CONDICIONES:&n
 bsp\;</span><a href="https://tr.ee/89uSGj" target="_blank" style="color: r
 gb(0\, 86\, 179)\; text-decoration: underline\; background-color: rgb(255\
 , 255\, 255)\; font-family: Abel\, sans-serif\; font-size: 12px\;">https:/
 /tr.ee/89uSGj</a></span></p>
END:VEVENT
END:VCALENDAR
