BEGIN:VCALENDAR
VERSION:2.0
PRODID:-//My Calendar//mxm.dk//
BEGIN:VEVENT
SUMMARY:LEONEL CARLI EN WO
DTSTART:20260509T010000Z
DTEND:20260509T060000Z
DTSTAMP:20260422T140133Z
DESCRIPTION:<p style="text-align: center\;"><font color="#1f1f1f" face="Se
 goe UI"><span style="font-size: 24px\; font-variant-ligatures: no-contextu
 al\;"><u style=""><b>LEONEL CARLI EN WO</b></u></span></font></p><p style=
 "text-align: center\;"><font color="#1f1f1f" face="Segoe UI"><span style="
 font-size: 24px\; font-variant-ligatures: no-contextual\;"><u><b>NECOCHEA<
 /b></u></span></font></p><p style="text-align: center\;"><font color="#1f1
 f1f" face="Segoe UI"><span style="font-size: 18px\; font-variant-ligatures
 : no-contextual\;"><b style="">PUERTAS: 21HS</b></span></font></p><p style
 ="text-align: center\;"><font color="#1f1f1f" face="Segoe UI"><span style=
 "font-size: 18px\; font-variant-ligatures: no-contextual\;"><b style="">SH
 OW: 22 HS</b></span></font></p><p style="text-align: center\;"><font color
 ="#1f1f1f" face="Segoe UI"><span style="font-size: 24px\; font-variant-lig
 atures: no-contextual\;"><span style="font-weight: bolder\;"><u><br></u></
 span></span></font></p><p style="text-align: center\;">Entradas anticipada
 s limitadas en efectivo:</p><p style="text-align: center\;">&nbsp\;ADN Sto
 re: Calle 61 N° 2813 - Necochea.</p><p style="text-align: center\;">www.a
 rticket.com.ar</p><p style="text-align: center\;"><br></p><p style="text-a
 lign: center\;"><span style="font-weight: bolder\;">APTO TODO PUBLICO</spa
 n></p><p style="text-align: center\;"><span style="font-weight: bolder\;">
 <br></span></p><p dir="ltr" style="margin: 0pt 0px\; text-align: center\; 
 line-height: 1.38\;"><font face="Abel\, sans-serif" color="#9c9c94"><span 
 style="font-size: 12px\;">PROMO BANCO PROVINCIA CONDICIONES:&nbsp\;<a href
 ="https://tr.ee/89uSGj" target="_blank">https://tr.ee/89uSGj</a></span></f
 ont></p>
END:VEVENT
END:VCALENDAR
