BEGIN:VCALENDAR
VERSION:2.0
PRODID:-//My Calendar//mxm.dk//
BEGIN:VEVENT
SUMMARY:PROYECTO GOMEZ CASA Y PROMO FIESTA EN CLUB TRI
DTSTART:20260620T010000Z
DTEND:20260620T080000Z
DTSTAMP:20260422T111442Z
DESCRIPTION:<p style="text-align: center\;"><span style="font-size: 24px\;
 "><b><u>PROYECTO GOMEZ CASA</u></b></span></p><p style="text-align: center
 \;"><span style="font-size: 24px\;"><b><u>PROMO FIESTA</u></b></span></p><
 p style="text-align: center\;"><span style="font-size: 24px\;"><u><span st
 yle="font-weight: bolder\;">EN CLUB TRI<br><br></span></u></span></p><p di
 r="ltr" style="margin: 0pt 0px\; font-family: Abel\, sans-serif\; text-ali
 gn: center\; color: rgb(51\, 51\, 51)\; font-size: 14px\; line-height: 1.6
 56\;"><span style="font-size: 11.5pt\; font-family: Arial\; color: rgb(32\
 , 31\, 30)\; background-color: transparent\; font-variant-numeric: normal\
 ; font-variant-east-asian: normal\; vertical-align: baseline\; white-space
 -collapse: preserve\;">Entradas anticipadas limitadas en efectivo:</span><
 /p><p dir="ltr" style="margin: 0pt 0px\; font-family: Abel\, sans-serif\; 
 text-align: center\; color: rgb(51\, 51\, 51)\; font-size: 14px\; line-hei
 ght: 1.656\;"><span style="font-size: 11pt\; font-family: Arial\; color: r
 gb(34\, 34\, 34)\; background-color: transparent\; font-variant-numeric: n
 ormal\; font-variant-east-asian: normal\; vertical-align: baseline\; white
 -space-collapse: preserve\;">&nbsp\;</span></p><p dir="ltr" style="margin:
  0pt 0px\; font-family: Abel\, sans-serif\; text-align: center\; color: rg
 b(51\, 51\, 51)\; font-size: 14px\; line-height: 1.656\;"><span style="fon
 t-size: 11.5pt\; font-family: Arial\; color: rgb(32\, 31\, 30)\; backgroun
 d-color: transparent\; font-weight: 700\; font-variant-numeric: normal\; f
 ont-variant-east-asian: normal\; vertical-align: baseline\; white-space-co
 llapse: preserve\;">La Casa de las Guitarras:</span><span style="font-size
 : 11.5pt\; font-family: Arial\; color: rgb(32\, 31\, 30)\; background-colo
 r: transparent\; font-variant-numeric: normal\; font-variant-east-asian: n
 ormal\; vertical-align: baseline\; white-space-collapse: preserve\;"> Belg
 rano 3420 - Mar del Plata</span></p><p dir="ltr" style="margin: 0pt 0px\; 
 font-family: Abel\, sans-serif\; text-align: center\; color: rgb(51\, 51\,
  51)\; font-size: 14px\; line-height: 1.656\;"><span style="font-size: 11.
 5pt\; font-family: Arial\; color: rgb(32\, 31\, 30)\; background-color: tr
 ansparent\; font-variant-numeric: normal\; font-variant-east-asian: normal
 \; vertical-align: baseline\; white-space-collapse: preserve\;"><span styl
 e="font-weight: bolder\;">FAVA Casa Central:</span></span><span style="fon
 t-size: 11.5pt\; font-family: Arial\; color: rgb(32\, 31\, 30)\; backgroun
 d-color: transparent\; font-weight: 700\; font-variant-numeric: normal\; f
 ont-variant-east-asian: normal\; vertical-align: baseline\; white-space-co
 llapse: preserve\;"> </span><span style="font-size: 11.5pt\; font-family: 
 Arial\; color: rgb(32\, 31\, 30)\; background-color: transparent\; font-va
 riant-numeric: normal\; font-variant-east-asian: normal\; vertical-align: 
 baseline\; white-space-collapse: preserve\;">Av. Pedro Luro 3247 - Mar del
  Plata</span></p><p dir="ltr" style="margin: 0pt 0px\; font-family: Abel\,
  sans-serif\; text-align: center\; color: rgb(51\, 51\, 51)\; font-size: 1
 4px\; line-height: 1.656\;"><span style="background-color: transparent\; c
 olor: rgb(34\, 34\, 34)\; font-family: Arial\; font-size: 11pt\; white-spa
 ce-collapse: preserve\;">&nbsp\;</span></p><p dir="ltr" style="margin: 0pt
  0px\; font-family: Abel\, sans-serif\; text-align: center\; color: rgb(51
 \, 51\, 51)\; font-size: 14px\; line-height: 1.38\;"><a href="http://www.a
 rticket.com.ar/" style="color: rgb(51\, 122\, 183)\;"><span style="font-si
 ze: 11.5pt\; font-family: Arial\; color: rgb(17\, 85\, 204)\; font-variant
 -numeric: normal\; font-variant-east-asian: normal\; text-decoration-line:
  underline\; text-decoration-skip-ink: none\; vertical-align: baseline\; w
 hite-space-collapse: preserve\;">www.articket.com.ar</span></a></p><p dir=
 "ltr" style="margin: 0pt 0px\; font-family: Abel\, sans-serif\; text-align
 : center\; color: rgb(51\, 51\, 51)\; font-size: 14px\; line-height: 1.656
 \;"><br></p><p dir="ltr" style="margin: 0pt 0px\; font-family: Abel\, sans
 -serif\; text-align: center\; color: rgb(51\, 51\, 51)\; font-size: 14px\;
  line-height: 1.38\;"><span style="font-size: 11pt\; font-family: Arial\; 
 color: rgb(34\, 34\, 34)\; font-variant-numeric: normal\; font-variant-eas
 t-asian: normal\; vertical-align: baseline\; white-space-collapse: preserv
 e\;"><span style="font-weight: bolder\;">APTO +18 AÑOS</span></span></p><
 p dir="ltr" style="margin: 0pt 0px\; font-family: Abel\, sans-serif\; text
 -align: center\; color: rgb(51\, 51\, 51)\; font-size: 14px\; line-height:
  1.38\;"><span style="font-size: 11pt\; font-family: Arial\; color: rgb(34
 \, 34\, 34)\; font-variant-numeric: normal\; font-variant-east-asian: norm
 al\; vertical-align: baseline\; white-space-collapse: preserve\;"><span st
 yle="font-weight: bolder\;"><br></span></span></p><p dir="ltr" style="marg
 in: 0pt 0px\; font-family: Abel\, sans-serif\; text-align: center\; color:
  rgb(51\, 51\, 51)\; font-size: 14px\; line-height: 1.38\;"><span style="f
 ont-size: 11pt\; font-family: Arial\; color: rgb(34\, 34\, 34)\; font-vari
 ant-numeric: normal\; font-variant-east-asian: normal\; vertical-align: ba
 seline\; white-space-collapse: preserve\;"><span style="font-weight: bolde
 r\;"><br></span></span></p><p dir="ltr" style="margin: 0pt 0px\; font-fami
 ly: Abel\, sans-serif\; text-align: center\; color: rgb(51\, 51\, 51)\; fo
 nt-size: 14px\; line-height: 1.38\;"><span style="font-size: 11pt\; font-f
 amily: Arial\; color: rgb(34\, 34\, 34)\; font-variant-numeric: normal\; f
 ont-variant-east-asian: normal\; vertical-align: baseline\; white-space-co
 llapse: preserve\;"><span style="font-weight: bolder\;"><br></span></span>
 </p><p dir="ltr" style="margin: 0pt 0px\; text-align: center\; line-height
 : 1.38\;"><font face="Abel\, sans-serif" color="#9c9c94"><span style="font
 -size: 12px\;">PROMO BANCO PROVINCIA CONDICIONES:&nbsp\;<a href="https://t
 r.ee/89uSGj" target="_blank">https://tr.ee/89uSGj</a></span></font></p><p 
 dir="ltr" style="margin: 0pt 0px\; line-height: 1.38\;"><br></p>
END:VEVENT
END:VCALENDAR
